Workbook

Sheet Benchmark 2015
A1: Timber Harvesting Land Base (THLB): Based on Fraser TSA TSR 4 Timber Supply Analysis using a compilation of the best available information.
A2: Benchmark 2015 - Licensee Operating Area Analysis Forest Cover Data Sources:
A3: Vegetation Resource Inventory: Attributes projected to 2014
A4: Change Detection Mapping: Denudation current to April 2014 using RESULTS forest_cover_inv_svw dataset and Landsat imagery
A6: Benchmark 2015 Licensee - Economic Zones | B6: Total Summary | G6: Slope 0-30% | S6: Slope 31-69% | AE6: Slope >69%
B7: AAC (m3) | C7: Yrs Supply | D7: Total THLB Area (ha) | E7: Total THLB Vol (m3) | F7: % Total Vol (m3) | G7: Slope THLB Area (ha) | H7: THLB Volume (m3) | P7: Slope THLB Volume | Q7: % of Total Volume | R7: Yrs Supply | S7: Slope THLB Area (ha) | T7: THLB Volume (m3) | AB7: Slope THLB Volume | AC7: % of Total Volume | AD7: Yrs Supply | AE7: Slope THLB Area (ha) | AF7: THLB Volume (m3) | AN7: Slope THLB Volume | AO7: % of Total Volume (m3) | AP7: Yrs Supply
C8: Yrs Supply | F8: % of Total Vol (m3) | G8: CFLB Area (ha) | H8: FIR | I8: CEDAR | J8: HEMLOCK | K8: BALSAM | L8: PINE | M8: SPRUCE | N8: CYPRESS | O8: DECIDUOUS | P8: CFLB Volume (m3) | Q8: % of Total Volume (m3) | R8: Yrs Supply | S8: THLBAREA | T8: FIR | U8: CEDAR | V8: HEMLOCK | W8: BALSAM | X8: PINE | Y8: SPRUCE | Z8: CYPRESS | AA8: DECIDUOUS | AB8: THLB_RVTOT | AE8: Sum of THLBAREA | AF8: FIR | AG8: CEDAR | AH8: HEMLOCK | AI8: BALSAM | AJ8: PINE | AK8: SPRUCE | AL8: CYPRESS | AM8: DECIDUOUS | AN8: Sum of THLB_RVTOT
A9: Western Canadian Timber Products | B9: 205677
A10: Good - Economic Zone
A11: 41-140 Years | C11: =E11/$B$9 -> 14.325254 | D11: 5742.673 | E11: =P11+AB11+AN11 -> 2946375.2 | F11: =E11/$E$22 -> 0.37375242 | G11: 1001.2243 | H11: 145518.34 | I11: 38413.589 | J11: 235436.23 | K11: 65749.9 | L11: 860.84119 | M11: 439.72942 | N11: 1766.9737 | O11: 60596.089 | P11: =SUM(H11:O11) -> 548781.69 | Q11: =P11/$E$22 -> 0.069613837 | R11: =P11/$B$9 -> 2.6681724 | S11: 3843.8402 | T11: 715170.51 | U11: 87388.738 | V11: 665639.05 | W11: 221711.59 | X11: 15373.917 | Y11: 1924.6271 | Z11: 3408.7169 | AA11: 184462.76 | AB11: =SUM(T11:AA11) -> 1895079.9 | AC11: =AB11/$E$22 -> 0.24039393 | AD11: =AB11/$B$9 -> 9.213864 | AE11: 897.60845 | AF11: 251665.39 | AG11: 21398.448 | AH11: 164483.85 | AI11: 39799.963 | AJ11: 7596.3458 | AK11: 43.418435 | AL11: 135.47369 | AM11: 17390.699 | AN11: =SUM(AF11:AM11) -> 502513.59 | AO11: =AN11/$E$22 -> 0.063744655 | AP11: =AN11/$B$9 -> 2.4432172
A12: 141+ Years | C12: =E12/$B$9 -> 7.9519375 | D12: 2257.9476 | E12: =P12+AB12+AN12 -> 1635530.7 | F12: =E12/$E$22 -> 0.20746969 | G12: 254.60599 | H12: 37567.933 | I12: 8874.5198 | J12: 51315.521 | K12: 63458.654 | L12: 278.3455 | M12: 0 | N12: 1974.3855 | O12: 5755.6569 | P12: =SUM(H12:O12) -> 169225.02 | Q12: =P12/$E$22 -> 0.021466465 | R12: =P12/$B$9 -> 0.82277073 | S12: 1649.1475 | T12: 255666.6 | U12: 55660.219 | V12: 455262.84 | W12: 407589.5 | X12: 596.38118 | Y12: 0 | Z12: 24942.453 | AA12: 10607.966 | AB12: =SUM(T12:AA12) -> 1210326 | AC12: =AB12/$E$22 -> 0.15353179 | AD12: =AB12/$B$9 -> 5.8845955 | AE12: 354.19409 | AF12: 83249.48 | AG12: 15250.907 | AH12: 93246.586 | AI12: 58918.896 | AJ12: 87.462348 | AK12: 0 | AL12: 3720.3469 | AM12: 1506.0029 | AN12: =SUM(AF12:AM12) -> 255979.68 | AO12: =AN12/$E$22 -> 0.032471433 | AP12: =AN12/$B$9 -> 1.2445713
A13: Good - Economic Zone Total | C13: =E13/$B$9 -> 22.277191 | D13: 8000.6206 | E13: =P13+AB13+AN13 -> 4581905.8 | F13: =E13/$E$22 -> 0.5812221 | G13: 1255.8303 | H13: 183086.27 | I13: 47288.108 | J13: 286751.75 | K13: 129208.55 | L13: 1139.1867 | M13: 439.72942 | N13: 3741.3592 | O13: 66351.746 | P13: =SUM(H13:O13) -> 718006.7 | Q13: =P13/$E$22 -> 0.091080302 | R13: =P13/$B$9 -> 3.4909431 | S13: 5492.9877 | T13: 970837.11 | U13: 143048.96 | V13: 1120901.9 | W13: 629301.09 | X13: 15970.298 | Y13: 1924.6271 | Z13: 28351.17 | AA13: 195070.72 | AB13: =SUM(T13:AA13) -> 3105405.9 | AC13: =AB13/$E$22 -> 0.39392571 | AD13: =AB13/$B$9 -> 15.09846 | AE13: 1251.8025 | AF13: 334914.87 | AG13: 36649.356 | AH13: 257730.44 | AI13: 98718.859 | AJ13: 7683.8081 | AK13: 43.418435 | AL13: 3855.8206 | AM13: 18896.702 | AN13: =SUM(AF13:AM13) -> 758493.27 | AO13: =AN13/$E$22 -> 0.096216088 | AP13: =AN13/$B$9 -> 3.6877885
A14: Medium - Economic Zone
A15: 41-140 Years | C15: =E15/$B$9 -> 2.9448436 | D15: 1665.6699 | E15: =P15+AB15+AN15 -> 605686.6 | F15: =E15/$E$22 -> 0.076832316 | G15: 438.71873 | H15: 71705.097 | I15: 9210.0957 | J15: 41565.391 | K15: 40640.225 | L15: 49.639369 | M15: 1084.6804 | N15: 0 | O15: 18393.118 | P15: =SUM(H15:O15) -> 182648.25 | Q15: =P15/$E$22 -> 0.023169223 | R15: =P15/$B$9 -> 0.88803437 | S15: 986.2591 | T15: 169806.66 | U15: 8787.5659 | V15: 79903.249 | W15: 75983.11 | X15: 2843.4608 | Y15: 4501.0948 | Z15: 0.7266474 | AA15: 6356.5071 | AB15: =SUM(T15:AA15) -> 348182.37 | AC15: =AB15/$E$22 -> 0.044167492 | AD15: =AB15/$B$9 -> 1.69286 | AE15: 240.69205 | AF15: 41129.421 | AG15: 1640.4537 | AH15: 18963.048 | AI15: 11607.528 | AJ15: 158.02312 | AK15: 158.90791 | AL15: 0 | AM15: 1198.597 | AN15: =SUM(AF15:AM15) -> 74855.98 | AO15: =AN15/$E$22 -> 0.009495601 | AP15: =AN15/$B$9 -> 0.3639492
A16: 141+ Years | C16: =E16/$B$9 -> 2.8630606 | D16: 940.21719 | E16: =P16+AB16+AN16 -> 588865.71 | F16: =E16/$E$22 -> 0.074698559 | G16: 120.71894 | H16: 9925.2942 | I16: 5620.0101 | J16: 31823.804 | K16: 24641.191 | L16: 0 | M16: 7818.1678 | N16: 0 | O16: 3583.6097 | P16: =SUM(H16:O16) -> 83412.077 | Q16: =P16/$E$22 -> 0.010580956 | R16: =P16/$B$9 -> 0.40554888 | S16: 658.71703 | T16: 36471.758 | U16: 13319.408 | V16: 152105.7 | W16: 195706.81 | X16: 93.931297 | Y16: 22968.472 | Z16: 794.96937 | AA16: 24.917731 | AB16: =SUM(T16:AA16) -> 421485.96 | AC16: =AB16/$E$22 -> 0.05346617 | AD16: =AB16/$B$9 -> 2.0492615 | AE16: 160.78122 | AF16: 21748.414 | AG16: 3211.1106 | AH16: 26550.629 | AI16: 31772.874 | AJ16: 4.3530186 | AK16: 545.13632 | AL16: 112.46152 | AM16: 22.693274 | AN16: =SUM(AF16:AM16) -> 83967.672 | AO16: =AN16/$E$22 -> 0.010651434 | AP16: =AN16/$B$9 -> 0.40825018
A17: Medium - Economic Zone Total | C17: =E17/$B$9 -> 5.8079042 | D17: 2605.8871 | E17: =P17+AB17+AN17 -> 1194552.3 | F17: =E17/$E$22 -> 0.15153088 | G17: 559.43767 | H17: 81630.391 | I17: 14830.106 | J17: 73389.195 | K17: 65281.416 | L17: 49.639369 | M17: 8902.8482 | N17: 0 | O17: 21976.727 | P17: =SUM(H17:O17) -> 266060.32 | Q17: =P17/$E$22 -> 0.033750179 | R17: =P17/$B$9 -> 1.2935833 | S17: 1644.9761 | T17: 206278.42 | U17: 22106.974 | V17: 232008.94 | W17: 271689.92 | X17: 2937.3921 | Y17: 27469.567 | Z17: 795.69601 | AA17: 6381.4248 | AB17: =SUM(T17:AA17) -> 769668.33 | AC17: =AB17/$E$22 -> 0.097633662 | AD17: =AB17/$B$9 -> 3.7421215 | AE17: 401.47327 | AF17: 62877.835 | AG17: 4851.5643 | AH17: 45513.678 | AI17: 43380.402 | AJ17: 162.37614 | AK17: 704.04423 | AL17: 112.46152 | AM17: 1221.2903 | AN17: =SUM(AF17:AM17) -> 158823.65 | AO17: =AN17/$E$22 -> 0.020147035 | AP17: =AN17/$B$9 -> 0.77219938
A18: Poor - Economic Zone
A19: 41-140 Years | C19: =E19/$B$9 -> 1.590773 | D19: 1924.3411 | E19: =P19+AB19+AN19 -> 327185.43 | F19: =E19/$E$22 -> 0.041503996 | G19: 469.50516 | H19: 48171.871 | I19: 3602.4451 | J19: 18510.156 | K19: 5788.8498 | L19: 5405.1971 | M19: 124.38496 | N19: 2.0229158 | O19: 5430.2 | P19: =SUM(H19:O19) -> 87035.127 | Q19: =P19/$E$22 -> 0.011040545 | R19: =P19/$B$9 -> 0.42316412 | S19: 1266.718 | T19: 119980.98 | U19: 5397.5808 | V19: 27415.509 | W19: 18156.841 | X19: 41347.556 | Y19: 1055.5838 | Z19: 136.25918 | AA19: 2616.0575 | AB19: =SUM(T19:AA19) -> 216106.37 | AC19: =AB19/$E$22 -> 0.027413439 | AD19: =AB19/$B$9 -> 1.0507075 | AE19: 188.11792 | AF19: 13312.743 | AG19: 595.70656 | AH19: 4650.4595 | AI19: 3368.923 | AJ19: 1542.6154 | AK19: 44.361068 | AL19: 0 | AM19: 529.12522 | AN19: =SUM(AF19:AM19) -> 24043.934 | AO19: =AN19/$E$22 -> 0.0030500116 | AP19: =AN19/$B$9 -> 0.11690142
A20: 141+ Years | C20: =E20/$B$9 -> 8.6523215 | D20: 3076.8704 | E20: =P20+AB20+AN20 -> 1779583.5 | F20: =E20/$E$22 -> 0.22574302 | G20: 592.89143 | H20: 52054.708 | I20: 13641.691 | J20: 109891.03 | K20: 144213.61 | L20: 3036.1718 | M20: 18501.515 | N20: 1765.4707 | O20: 1513.8053 | P20: =SUM(H20:O20) -> 344618 | Q20: =P20/$E$22 -> 0.043715346 | R20: =P20/$B$9 -> 1.6755301 | S20: 2097.4246 | T20: 246224.67 | U20: 39803.34 | V20: 400592.07 | W20: 439874.78 | X20: 11122.306 | Y20: 59965.818 | Z20: 12584.035 | AA20: 550.08297 | AB20: =SUM(T20:AA20) -> 1210717.1 | AC20: =AB20/$E$22 -> 0.15358141 | AD20: =AB20/$B$9 -> 5.8864973 | AE20: 386.5543 | AF20: 41103.036 | AG20: 9208.9158 | AH20: 72811.387 | AI20: 87178.928 | AJ20: 3015.5556 | AK20: 7942.2407 | AL20: 2930.4766 | AM20: 57.881732 | AN20: =SUM(AF20:AM20) -> 224248.42 | AO20: =AN20/$E$22 -> 0.028446272 | AP20: =AN20/$B$9 -> 1.0902941
A21: Poor - Economic Zone Total | C21: =E21/$B$9 -> 10.243095 | D21: 5001.2115 | E21: =P21+AB21+AN21 -> 2106769 | F21: =E21/$E$22 -> 0.26724702 | G21: 1062.3966 | H21: 100226.58 | I21: 17244.136 | J21: 128401.19 | K21: 150002.46 | L21: 8441.3688 | M21: 18625.9 | N21: 1767.4936 | O21: 6944.0053 | P21: =SUM(H21:O21) -> 431653.13 | Q21: =P21/$E$22 -> 0.054755892 | R21: =P21/$B$9 -> 2.0986942 | S21: 3364.1427 | T21: 366205.65 | U21: 45200.921 | V21: 428007.58 | W21: 458031.63 | X21: 52469.863 | Y21: 61021.402 | Z21: 12720.295 | AA21: 3166.1405 | AB21: =SUM(T21:AA21) -> 1426823.5 | AC21: =AB21/$E$22 -> 0.18099485 | AD21: =AB21/$B$9 -> 6.9372048 | AE21: 574.67222 | AF21: 54415.78 | AG21: 9804.6223 | AH21: 77461.847 | AI21: 90547.851 | AJ21: 4558.171 | AK21: 7986.6018 | AL21: 2930.4766 | AM21: 587.00695 | AN21: =SUM(AF21:AM21) -> 248292.36 | AO21: =AN21/$E$22 -> 0.031496284 | AP21: =AN21/$B$9 -> 1.2071955
A22: Western Canadian Timber Products Total | C22: =E22/$B$9 -> 38.32819 | D22: 15607.719 | E22: =P22+AB22+AN22 -> 7883227.1 | F22: =E22/$E$22 -> 1 | G22: 2877.6646 | H22: 364943.24 | I22: 79362.35 | J22: 488542.14 | K22: 344492.43 | L22: 9630.1949 | M22: 27968.477 | N22: 5508.8528 | O22: 95272.478 | P22: =SUM(H22:O22) -> 1415720.2 | Q22: =P22/$E$22 -> 0.17958637 | R22: =P22/$B$9 -> 6.8832206 | S22: 10502.107 | T22: 1543321.2 | U22: 210356.85 | V22: 1780918.4 | W22: 1359022.6 | X22: 71377.552 | Y22: 90415.596 | Z22: 41867.16 | AA22: 204618.29 | AB22: =SUM(T22:AA22) -> 5301897.7 | AC22: =AB22/$E$22 -> 0.67255422 | AD22: =AB22/$B$9 -> 25.777786 | AE22: 2227.948 | AF22: 452208.48 | AG22: 51305.542 | AH22: 380705.96 | AI22: 232647.11 | AJ22: 12404.355 | AK22: 8734.0644 | AL22: 6898.7587 | AM22: 20704.999 | AN22: =SUM(AF22:AM22) -> 1165609.3 | AO22: =AN22/$E$22 -> 0.14785941 | AP22: =AN22/$B$9 -> 5.6671834
A23: B.C. Timber Sales | B23: 246745
A24: Good - Economic Zone
A25: 41-140 Years | C25: =E25/$B$23 -> 23.451395 | D25: 14764.753 | E25: =P25+AB25+AN25 -> 5786514.4 | F25: =E25/$E$36 -> 0.37942159 | G25: 3508.908 | H25: 495915.17 | I25: 85599.043 | J25: 448873.78 | K25: 135655.03 | L25: 5787.2618 | M25: 2015.3575 | N25: 1626.5698 | O25: 273491.81 | P25: =SUM(H25:O25) -> 1448964 | Q25: =P25/$E$36 -> 0.095008532 | R25: =P25/$B$23 -> 5.8723136 | S25: 8777.5227 | T25: 1469908.5 | U25: 200270.01 | V25: 955582.56 | W25: 273515.22 | X25: 16030.575 | Y25: 2448.2078 | Z25: 5111.1989 | AA25: 475170.46 | AB25: =SUM(T25:AA25) -> 3398036.7 | AC25: =AB25/$E$36 -> 0.22280918 | AD25: =AB25/$B$23 -> 13.771451 | AE25: 2478.3223 | AF25: 448957.31 | AG25: 63631.832 | AH25: 256114.28 | AI25: 70324.247 | AJ25: 2164.0645 | AK25: 213.59634 | AL25: 1400.5593 | AM25: 96707.704 | AN25: =SUM(AF25:AM25) -> 939513.6 | AO25: =AN25/$E$36 -> 0.061603881 | AP25: =AN25/$B$23 -> 3.8076297
A26: 141+ Years | C26: =E26/$B$23 -> 8.1989276 | D26: 3234.7062 | E26: =P26+AB26+AN26 -> 2023044.4 | F26: =E26/$E$36 -> 0.13265097 | G26: 407.80072 | H26: 63125.987 | I26: 19234.108 | J26: 87364.771 | K26: 57785.069 | L26: 1598.7304 | M26: 184.92257 | N26: 19179.225 | O26: 3427.7015 | P26: =SUM(H26:O26) -> 251900.51 | Q26: =P26/$E$36 -> 0.01651711 | R26: =P26/$B$23 -> 1.0208941 | S26: 1855.8433 | T26: 184718.3 | U26: 119925.52 | V26: 466737.02 | W26: 377566.57 | X26: 685.58036 | Y26: 2196.8651 | Z26: 35019.237 | AA26: 6007.5914 | AB26: =SUM(T26:AA26) -> 1192856.7 | AC26: =AB26/$E$36 -> 0.078215581 | AD26: =AB26/$B$23 -> 4.8343703 | AE26: 971.06216 | AF26: 94595.815 | AG26: 78732.784 | AH26: 239808.28 | AI26: 151235.68 | AJ26: 391.46314 | AK26: 454.60879 | AL26: 12424.443 | AM26: 644.13068 | AN26: =SUM(AF26:AM26) -> 578287.2 | AO26: =AN26/$E$36 -> 0.037918276 | AP26: =AN26/$B$23 -> 2.3436633
A27: Good - Economic Zone Total | C27: =E27/$B$23 -> 31.650322 | D27: 17999.459 | E27: =P27+AB27+AN27 -> 7809558.8 | F27: =E27/$E$36 -> 0.51207256 | G27: 3916.7088 | H27: 559041.16 | I27: 104833.15 | J27: 536238.55 | K27: 193440.1 | L27: 7385.9922 | M27: 2200.2801 | N27: 20805.795 | O27: 276919.51 | P27: =SUM(H27:O27) -> 1700864.5 | Q27: =P27/$E$36 -> 0.11152564 | R27: =P27/$B$23 -> 6.8932077 | S27: 10633.366 | T27: 1654626.8 | U27: 320195.53 | V27: 1422319.6 | W27: 651081.8 | X27: 16716.156 | Y27: 4645.0729 | Z27: 40130.436 | AA27: 481178.05 | AB27: =SUM(T27:AA27) -> 4590893.4 | AC27: =AB27/$E$36 -> 0.30102476 | AD27: =AB27/$B$23 -> 18.605822 | AE27: 3449.3844 | AF27: 543553.13 | AG27: 142364.62 | AH27: 495922.56 | AI27: 221559.92 | AJ27: 2555.5276 | AK27: 668.20512 | AL27: 13825.002 | AM27: 97351.835 | AN27: =SUM(AF27:AM27) -> 1517800.8 | AO27: =AN27/$E$36 -> 0.099522157 | AP27: =AN27/$B$23 -> 6.151293
A28: Medium - Economic Zone
A29: 41-140 Years | C29: =E29/$B$23 -> 10.421137 | D29: 8192.6588 | E29: =P29+AB29+AN29 -> 2571363.5 | F29: =E29/$E$36 -> 0.16860424 | G29: 1350.2289 | H29: 63240.032 | I29: 15173.802 | J29: 127428.95 | K29: 158185.02 | L29: 0.7277603 | M29: 1790.7378 | N29: 594.39612 | O29: 36296.994 | P29: =SUM(H29:O29) -> 402710.66 | Q29: =P29/$E$36 -> 0.026405727 | R29: =P29/$B$23 -> 1.6320925 | S29: 5595.8797 | T29: 401665.34 | U29: 76580.156 | V29: 564561.85 | W29: 545087.67 | X29: 14.771331 | Y29: 3484.2882 | Z29: 1360.7551 | AA29: 161227.59 | AB29: =SUM(T29:AA29) -> 1753982.4 | AC29: =AB29/$E$36 -> 0.11500858 | AD29: =AB29/$B$23 -> 7.1084821 | AE29: 1246.5502 | AF29: 144842.95 | AG29: 25195.758 | AH29: 149955.76 | AI29: 68174.365 | AJ29: 39.437283 | AK29: 59.786721 | AL29: 308.82035 | AM29: 26093.572 | AN29: =SUM(AF29:AM29) -> 414670.45 | AO29: =AN29/$E$36 -> 0.02718993 | AP29: =AN29/$B$23 -> 1.6805627
A30: 141+ Years | C30: =E30/$B$23 -> 12.034676 | D30: 4353.4684 | E30: =P30+AB30+AN30 -> 2969496 | F30: =E30/$E$36 -> 0.19470977 | G30: 309.66575 | H30: 17746.737 | I30: 7474.0114 | J30: 98420.132 | K30: 88200.895 | L30: 155.66924 | M30: 1201.5948 | N30: 1229.0011 | O30: 21.473687 | P30: =SUM(H30:O30) -> 214449.51 | Q30: =P30/$E$36 -> 0.014061449 | R30: =P30/$B$23 -> 0.86911392 | S30: 2747.6654 | T30: 139628.72 | U30: 70017.149 | V30: 740627.7 | W30: 902465.86 | X30: 106.17832 | Y30: 3810.188 | Z30: 14123.813 | AA30: 939.61835 | AB30: =SUM(T30:AA30) -> 1871719.2 | AC30: =AB30/$E$36 -> 0.12272858 | AD30: =AB30/$B$23 -> 7.585642 | AE30: 1296.1373 | AF30: 90134.509 | AG30: 58756.093 | AH30: 403623.69 | AI30: 323920.4 | AJ30: 0 | AK30: 516.55816 | AL30: 5570.5522 | AM30: 805.45676 | AN30: =SUM(AF30:AM30) -> 883327.26 | AO30: =AN30/$E$36 -> 0.057919745 | AP30: =AN30/$B$23 -> 3.5799196
A31: Medium - Economic Zone Total | C31: =E31/$B$23 -> 22.455813 | D31: 12546.127 | E31: =P31+AB31+AN31 -> 5540859.5 | F31: =E31/$E$36 -> 0.36331401 | G31: 1659.8947 | H31: 80986.769 | I31: 22647.813 | J31: 225849.08 | K31: 246385.92 | L31: 156.397 | M31: 2992.3326 | N31: 1823.3972 | O31: 36318.468 | P31: =SUM(H31:O31) -> 617160.17 | Q31: =P31/$E$36 -> 0.040467176 | R31: =P31/$B$23 -> 2.5012064 | S31: 8343.5451 | T31: 541294.07 | U31: 146597.3 | V31: 1305189.6 | W31: 1447553.5 | X31: 120.94965 | Y31: 7294.4762 | Z31: 15484.568 | AA31: 162167.21 | AB31: =SUM(T31:AA31) -> 3625701.7 | AC31: =AB31/$E$36 -> 0.23773716 | AD31: =AB31/$B$23 -> 14.694124 | AE31: 2542.6875 | AF31: 234977.46 | AG31: 83951.851 | AH31: 553579.45 | AI31: 392094.77 | AJ31: 39.437283 | AK31: 576.34488 | AL31: 5879.3725 | AM31: 26899.029 | AN31: =SUM(AF31:AM31) -> 1297997.7 | AO31: =AN31/$E$36 -> 0.085109675 | AP31: =AN31/$B$23 -> 5.2604823
A32: Poor - Economic Zone
A33: 41-140 Years | C33: =E33/$B$23 -> 2.8178336 | D33: 1860.8438 | E33: =P33+AB33+AN33 -> 695286.36 | F33: =E33/$E$36 -> 0.045589908 | G33: 661.15058 | H33: 250058.05 | I33: 24721.036 | J33: 18485.846 | K33: 13241.099 | L33: 11351.536 | M33: 1242.9647 | N33: 4.6394504 | O33: 12352.275 | P33: =SUM(H33:O33) -> 331457.45 | Q33: =P33/$E$36 -> 0.021733656 | R33: =P33/$B$23 -> 1.3433198 | S33: 1095.2398 | T33: 216069.78 | U33: 17756.756 | V33: 10834.807 | W33: 33094.526 | X33: 39629.14 | Y33: 479.02406 | Z33: 19.143625 | AA33: 22471.808 | AB33: =SUM(T33:AA33) -> 340354.98 | AC33: =AB33/$E$36 -> 0.022317067 | AD33: =AB33/$B$23 -> 1.3793795 | AE33: 104.45341 | AF33: 14743.349 | AG33: 213.22594 | AH33: 1346.1545 | AI33: 3431.3356 | AJ33: 3399.1393 | AK33: 137.13387 | AL33: 2.6792412 | AM33: 200.90765 | AN33: =SUM(AF33:AM33) -> 23473.925 | AO33: =AN33/$E$36 -> 0.0015391846 | AP33: =AN33/$B$23 -> 0.095134349
A34: 141+ Years | C34: =E34/$B$23 -> 4.8843077 | D34: 2291.5272 | E34: =P34+AB34+AN34 -> 1205178.5 | F34: =E34/$E$36 -> 0.079023522 | G34: 435.14671 | H34: 29891.385 | I34: 17085.467 | J34: 70565.592 | K34: 98074.947 | L34: 3447.0364 | M34: 32191.899 | N34: 1835.2325 | O34: 5.2292347 | P34: =SUM(H34:O34) -> 253096.79 | Q34: =P34/$E$36 -> 0.01659555 | R34: =P34/$B$23 -> 1.0257423 | S34: 1730.6266 | T34: 215637.04 | U34: 38019.281 | V34: 254421.27 | W34: 246237.86 | X34: 20542.507 | Y34: 105080.38 | Z34: 14404.746 | AA34: 896.57365 | AB34: =SUM(T34:AA34) -> 895239.66 | AC34: =AB34/$E$36 -> 0.05870084 | AD34: =AB34/$B$23 -> 3.6281978 | AE34: 125.75383 | AF34: 19979.681 | AG34: 869.69377 | AH34: 11535.326 | AI34: 17507.361 | AJ34: 1055.9255 | AK34: 5056.936 | AL34: 565.4543 | AM34: 271.67787 | AN34: =SUM(AF34:AM34) -> 56842.056 | AO34: =AN34/$E$36 -> 0.0037271321 | AP34: =AN34/$B$23 -> 0.23036761
A35: Poor - Economic Zone Total | C35: =E35/$B$23 -> 7.7021413 | D35: 4152.371 | E35: =P35+AB35+AN35 -> 1900464.9 | F35: =E35/$E$36 -> 0.12461343 | G35: 1096.2973 | H35: 279949.44 | I35: 41806.503 | J35: 89051.438 | K35: 111316.05 | L35: 14798.573 | M35: 33434.863 | N35: 1839.8719 | O35: 12357.504 | P35: =SUM(H35:O35) -> 584554.24 | Q35: =P35/$E$36 -> 0.038329206 | R35: =P35/$B$23 -> 2.3690621 | S35: 2825.8665 | T35: 431706.82 | U35: 55776.037 | V35: 265256.08 | W35: 279332.38 | X35: 60171.647 | Y35: 105559.4 | Z35: 14423.89 | AA35: 23368.381 | AB35: =SUM(T35:AA35) -> 1235594.6 | AC35: =AB35/$E$36 -> 0.081017908 | AD35: =AB35/$B$23 -> 5.0075772 | AE35: 230.20724 | AF35: 34723.03 | AG35: 1082.9197 | AH35: 12881.481 | AI35: 20938.697 | AJ35: 4455.0648 | AK35: 5194.0699 | AL35: 568.13354 | AM35: 472.58552 | AN35: =SUM(AF35:AM35) -> 80315.981 | AO35: =AN35/$E$36 -> 0.0052663168 | AP35: =AN35/$B$23 -> 0.32550196
A36: B.C. Timber Sales Total | C36: =E36/$B$23 -> 61.808276 | D36: 34697.957 | E36: =P36+AB36+AN36 -> 15250883 | F36: =E36/$E$36 -> 1 | G36: 6672.9007 | H36: 919977.36 | I36: 169287.47 | J36: 851139.06 | K36: 551142.06 | L36: 22340.962 | M36: 38627.476 | N36: 24469.064 | O36: 325595.49 | P36: =SUM(H36:O36) -> 2902578.9 | Q36: =P36/$E$36 -> 0.19032202 | R36: =P36/$B$23 -> 11.763476 | S36: 21802.778 | T36: 2627627.7 | U36: 522568.88 | V36: 2992765.2 | W36: 2377967.7 | X36: 77008.752 | Y36: 117498.95 | Z36: 70038.893 | AA36: 666713.64 | AB36: =SUM(T36:AA36) -> 9452189.7 | AC36: =AB36/$E$36 -> 0.61977983 | AD36: =AB36/$B$23 -> 38.307523 | AE36: 6222.2792 | AF36: 813253.62 | AG36: 227399.39 | AH36: 1062383.5 | AI36: 634593.39 | AJ36: 7050.0297 | AK36: 6438.6199 | AL36: 20272.508 | AM36: 124723.45 | AN36: =SUM(AF36:AM36) -> 2896114.5 | AO36: =AN36/$E$36 -> 0.18989815 | AP36: =AN36/$B$23 -> 11.737277
A37: Bill 28 | B37: 267115
A38: Good - Economic Zone
A39: 41-140 Years | C39: =E39/$B$37 -> 10.90523 | D39: 8782.7225 | E39: =P39+AB39+AN39 -> 2912950.5 | F39: =E39/$E$50 -> 0.19894693 | G39: 1459.8247 | H39: 125688.49 | I39: 30078.837 | J39: 171548.12 | K39: 68115.603 | L39: 2089.8108 | M39: 0 | N39: 1110.1031 | O39: 128113.21 | P39: =SUM(H39:O39) -> 526744.17 | Q39: =P39/$E$50 -> 0.035975255 | R39: =P39/$B$37 -> 1.9719753 | S39: 5905.7172 | T39: 655479.49 | U39: 116804.35 | V39: 594833.13 | W39: 243027.3 | X39: 15899.047 | Y39: 0 | Z39: 7139.8027 | AA39: 290940.86 | AB39: =SUM(T39:AA39) -> 1924124 | AC39: =AB39/$E$50 -> 0.13141266 | AD39: =AB39/$B$37 -> 7.2033543 | AE39: 1417.1805 | AF39: 178428.66 | AG39: 32455.345 | AH39: 149462.9 | AI39: 33708.449 | AJ39: 4601.675 | AK39: 0 | AL39: 1165.7226 | AM39: 62259.616 | AN39: =SUM(AF39:AM39) -> 462082.37 | AO39: =AN39/$E$50 -> 0.031559022 | AP39: =AN39/$B$37 -> 1.7299005
A40: 141+ Years | C40: =E40/$B$37 -> 17.180677 | D40: 6102.619 | E40: =P40+AB40+AN40 -> 4589216.6 | F40: =E40/$E$50 -> 0.31343154 | G40: 583.01974 | H40: 27216.096 | I40: 44667.791 | J40: 179552.65 | K40: 189755.55 | L40: 713.91736 | M40: 2069.3454 | N40: 18578.494 | O40: 2411.5846 | P40: =SUM(H40:O40) -> 464965.43 | Q40: =P40/$E$50 -> 0.031755928 | R40: =P40/$B$37 -> 1.7406938 | S40: 3729.0976 | T40: 311655.93 | U40: 150776.03 | V40: 955422.57 | W40: 1182816.1 | X40: 3799.8843 | Y40: 3002.61 | Z40: 169548.5 | AA40: 4647.2989 | AB40: =SUM(T40:AA40) -> 2781669 | AC40: =AB40/$E$50 -> 0.18998075 | AD40: =AB40/$B$37 -> 10.41375 | AE40: 1790.5017 | AF40: 295084.02 | AG40: 111253.72 | AH40: 467741.05 | AI40: 408930.8 | AJ40: 1669.9297 | AK40: 818.50661 | AL40: 55420.28 | AM40: 1663.9282 | AN40: =SUM(AF40:AM40) -> 1342582.2 | AO40: =AN40/$E$50 -> 0.09169487 | AP40: =AN40/$B$37 -> 5.026233
A41: Good - Economic Zone Total | C41: =E41/$B$37 -> 28.085907 | D41: 14885.341 | E41: =P41+AB41+AN41 -> 7502167.1 | F41: =E41/$E$50 -> 0.51237848 | G41: 2042.8444 | H41: 152904.59 | I41: 74746.628 | J41: 351100.77 | K41: 257871.15 | L41: 2803.7282 | M41: 2069.3454 | N41: 19688.597 | O41: 130524.8 | P41: =SUM(H41:O41) -> 991709.61 | Q41: =P41/$E$50 -> 0.067731183 | R41: =P41/$B$37 -> 3.7126691 | S41: 9634.8148 | T41: 967135.42 | U41: 267580.38 | V41: 1550255.7 | W41: 1425843.4 | X41: 19698.931 | Y41: 3002.61 | Z41: 176688.3 | AA41: 295588.16 | AB41: =SUM(T41:AA41) -> 4705792.9 | AC41: =AB41/$E$50 -> 0.3213934 | AD41: =AB41/$B$37 -> 17.617105 | AE41: 3207.6822 | AF41: 473512.68 | AG41: 143709.07 | AH41: 617203.95 | AI41: 442639.24 | AJ41: 6271.6048 | AK41: 818.50661 | AL41: 56586.003 | AM41: 63923.544 | AN41: =SUM(AF41:AM41) -> 1804664.6 | AO41: =AN41/$E$50 -> 0.12325389 | AP41: =AN41/$B$37 -> 6.7561335
A42: Medium - Economic Zone
A43: 41-140 Years | C43: =E43/$B$37 -> 11.818871 | D43: 8887.0877 | E43: =P43+AB43+AN43 -> 3156997.6 | F43: =E43/$E$50 -> 0.21561472 | G43: 1528.1282 | H43: 96290.25 | I43: 31205.467 | J43: 176209.24 | K43: 218275.9 | L43: 2878.2782 | M43: 3284.918 | N43: 45.67445 | O43: 63111.067 | P43: =SUM(H43:O43) -> 591300.79 | Q43: =P43/$E$50 -> 0.040384304 | R43: =P43/$B$37 -> 2.2136563 | S43: 5871.5291 | T43: 660757.7 | U43: 98622.438 | V43: 593822.78 | W43: 562637.84 | X43: 11718.11 | Y43: 4144.9238 | Z43: 337.07728 | AA43: 157690.84 | AB43: =SUM(T43:AA43) -> 2089731.7 | AC43: =AB43/$E$50 -> 0.14272323 | AD43: =AB43/$B$37 -> 7.8233409 | AE43: 1487.4304 | AF43: 195907.28 | AG43: 27227.311 | AH43: 134314.43 | AI43: 73557.983 | AJ43: 3658.4817 | AK43: 826.01469 | AL43: 80.765278 | AM43: 40392.871 | AN43: =SUM(AF43:AM43) -> 475965.14 | AO43: =AN43/$E$50 -> 0.032507179 | AP43: =AN43/$B$37 -> 1.7818735
A44: 141+ Years | C44: =E44/$B$37 -> 12.092887 | D44: 5068.3042 | E44: =P44+AB44+AN44 -> 3230191.5 | F44: =E44/$E$50 -> 0.22061366 | G44: 652.55989 | H44: 14576.417 | I44: 22659.574 | J44: 123395.4 | K44: 250896.03 | L44: 64.812983 | M44: 25958.748 | N44: 1078.0747 | O44: 5031.6976 | P44: =SUM(H44:O44) -> 443660.75 | Q44: =P44/$E$50 -> 0.030300874 | R44: =P44/$B$37 -> 1.6609354 | S44: 3052.0099 | T44: 241234.62 | U44: 106707.86 | V44: 739282.24 | W44: 831910.75 | X44: 1840.361 | Y44: 31256.396 | Z44: 9523.6794 | AA44: 1391.3016 | AB44: =SUM(T44:AA44) -> 1963147.2 | AC44: =AB44/$E$50 -> 0.13407784 | AD44: =AB44/$B$37 -> 7.3494458 | AE44: 1363.7344 | AF44: 162295.54 | AG44: 54728.512 | AH44: 363888.68 | AI44: 234779.49 | AJ44: 599.91977 | AK44: 6115.703 | AL44: 244.72334 | AM44: 730.93308 | AN44: =SUM(AF44:AM44) -> 823383.5 | AO44: =AN44/$E$50 -> 0.056234949 | AP44: =AN44/$B$37 -> 3.0825057
A45: Medium - Economic Zone Total | C45: =E45/$B$37 -> 23.911757 | D45: 13955.392 | E45: =P45+AB45+AN45 -> 6387189.1 | F45: =E45/$E$50 -> 0.43622838 | G45: 2180.6881 | H45: 110866.67 | I45: 53865.041 | J45: 299604.64 | K45: 469171.93 | L45: 2943.0911 | M45: 29243.665 | N45: 1123.7492 | O45: 68142.764 | P45: =SUM(H45:O45) -> 1034961.5 | Q45: =P45/$E$50 -> 0.070685178 | R45: =P45/$B$37 -> 3.8745916 | S45: 8923.5391 | T45: 901992.33 | U45: 205330.29 | V45: 1333105 | W45: 1394548.6 | X45: 13558.471 | Y45: 35401.32 | Z45: 9860.7567 | AA45: 159082.15 | AB45: =SUM(T45:AA45) -> 4052878.9 | AC45: =AB45/$E$50 -> 0.27680107 | AD45: =AB45/$B$37 -> 15.172787 | AE45: 2851.1648 | AF45: 358202.83 | AG45: 81955.824 | AH45: 498203.1 | AI45: 308337.48 | AJ45: 4258.4015 | AK45: 6941.7177 | AL45: 325.48862 | AM45: 41123.804 | AN45: =SUM(AF45:AM45) -> 1299348.6 | AO45: =AN45/$E$50 -> 0.088742128 | AP45: =AN45/$B$37 -> 4.8643792
A46: Poor - Economic Zone
A47: 41-140 Years | C47: =E47/$B$37 -> 0.41388006 | D47: 656.07654 | E47: =P47+AB47+AN47 -> 110553.57 | F47: =E47/$E$50 -> 0.007550521 | G47: 109.05134 | H47: 4649.7362 | I47: 328.24243 | J47: 609.89741 | K47: 7279.0163 | L47: 235.7934 | M47: 579.37308 | N47: 0 | O47: 829.59156 | P47: =SUM(H47:O47) -> 14511.65 | Q47: =P47/$E$50 -> 0.00099110792 | R47: =P47/$B$37 -> 0.054327351 | S47: 491.76386 | T47: 51577.873 | U47: 571.05083 | V47: 1208.7095 | W47: 25977.423 | X47: 7389.652 | Y47: 1746.8572 | Z47: 0 | AA47: 2464.5105 | AB47: =SUM(T47:AA47) -> 90936.076 | AC47: =AB47/$E$50 -> 0.0062106971 | AD47: =AB47/$B$37 -> 0.34043792 | AE47: 55.26133 | AF47: 2572.1863 | AG47: 93.087578 | AH47: 149.34712 | AI47: 1494.7267 | AJ47: 375.02404 | AK47: 231.19669 | AL47: 0 | AM47: 190.27701 | AN47: =SUM(AF47:AM47) -> 5105.8455 | AO47: =AN47/$E$50 -> 0.00034871595 | AP47: =AN47/$B$37 -> 0.019114784
A48: 141+ Years | C48: =E48/$B$37 -> 2.4032232 | D48: 1006.4878 | E48: =P48+AB48+AN48 -> 641936.96 | F48: =E48/$E$50 -> 0.043842622 | G48: 252.59473 | H48: 2982.0098 | I48: 2352.6231 | J48: 92610.701 | K48: 73612.58 | L48: 175.67008 | M48: 30889.489 | N48: 577.68877 | O48: 72.64701 | P48: =SUM(H48:O48) -> 203273.41 | Q48: =P48/$E$50 -> 0.013883044 | R48: =P48/$B$37 -> 0.76099586 | S48: 676.53643 | T48: 48237.366 | U48: 8135.4312 | V48: 175526.85 | W48: 151795.09 | X48: 290.77937 | Y48: 30280.312 | Z48: 3318.1022 | AA48: 340.26177 | AB48: =SUM(T48:AA48) -> 417924.2 | AC48: =AB48/$E$50 -> 0.028543134 | AD48: =AB48/$B$37 -> 1.5645853 | AE48: 77.356654 | AF48: 13752.373 | AG48: 266.9998 | AH48: 2390.2587 | AI48: 3654.568 | AJ48: 49.865752 | AK48: 578.58822 | AL48: 11.855095 | AM48: 34.844575 | AN48: =SUM(AF48:AM48) -> 20739.353 | AO48: =AN48/$E$50 -> 0.0014164438 | AP48: =AN48/$B$37 -> 0.077642038
A49: Poor - Economic Zone Total | C49: =E49/$B$37 -> 2.8171032 | D49: 1662.5644 | E49: =P49+AB49+AN49 -> 752490.53 | F49: =E49/$E$50 -> 0.051393143 | G49: 361.64607 | H49: 7631.7459 | I49: 2680.8656 | J49: 93220.598 | K49: 80891.596 | L49: 411.46348 | M49: 31468.863 | N49: 577.68877 | O49: 902.23857 | P49: =SUM(H49:O49) -> 217785.06 | Q49: =P49/$E$50 -> 0.014874152 | R49: =P49/$B$37 -> 0.81532321 | S49: 1168.3003 | T49: 99815.239 | U49: 8706.4821 | V49: 176735.56 | W49: 177772.51 | X49: 7680.4313 | Y49: 32027.169 | Z49: 3318.1022 | AA49: 2804.7723 | AB49: =SUM(T49:AA49) -> 508860.27 | AC49: =AB49/$E$50 -> 0.034753831 | AD49: =AB49/$B$37 -> 1.9050232 | AE49: 132.61798 | AF49: 16324.559 | AG49: 360.08738 | AH49: 2539.6058 | AI49: 5149.2947 | AJ49: 424.88979 | AK49: 809.78491 | AL49: 11.855095 | AM49: 225.12159 | AN49: =SUM(AF49:AM49) -> 25845.199 | AO49: =AN49/$E$50 -> 0.0017651597 | AP49: =AN49/$B$37 -> 0.096756822
A50: Bill 28 Total | C50: =E50/$B$37 -> 54.814768 | D50: 30503.298 | E50: =P50+AB50+AN50 -> 14641847 | F50: =E50/$E$50 -> 1 | G50: 4585.1786 | H50: 271403 | I50: 131292.53 | J50: 743926 | K50: 807934.68 | L50: 6158.2828 | M50: 62781.873 | N50: 21390.035 | O50: 199569.8 | P50: =SUM(H50:O50) -> 2244456.2 | Q50: =P50/$E$50 -> 0.15329051 | R50: =P50/$B$37 -> 8.4025839 | S50: 19726.654 | T50: 1968943 | U50: 481617.15 | V50: 3060096.3 | W50: 2998164.5 | X50: 40937.834 | Y50: 70431.099 | Z50: 189867.16 | AA50: 457475.08 | AB50: =SUM(T50:AA50) -> 9267532.1 | AC50: =AB50/$E$50 -> 0.63294831 | AD50: =AB50/$B$37 -> 34.694915 | AE50: 6191.465 | AF50: 848040.07 | AG50: 226024.98 | AH50: 1117946.7 | AI50: 756126.01 | AJ50: 10954.896 | AK50: 8570.0092 | AL50: 56923.346 | AM50: 105272.47 | AN50: =SUM(AF50:AM50) -> 3129858.4 | AO50: =AN50/$E$50 -> 0.21376118 | AP50: =AN50/$B$37 -> 11.717269
A51: Chawathil First Nation | B51: 13890
A52: Good - Economic Zone
A53: 41-140 Years | C53: =E53/$B$51 -> 0 | D53: 0 | E53: =P53+AB53+AN53 -> 0 | F53: =E53/$E$64 -> 0 | G53: 0 | H53: 0 | I53: 0 | J53: 0 | K53: 0 | L53: 0 | M53: 0 | N53: 0 | O53: 0 | P53: =SUM(H53:O53) -> 0 | Q53: =P53/$E$64 -> 0 | R53: =P53/$B$51 -> 0 | S53: 0 | T53: 0 | U53: 0 | V53: 0 | W53: 0 | X53: 0 | Y53: 0 | Z53: 0 | AA53: 0 | AB53: =SUM(T53:AA53) -> 0 | AC53: =AB53/$E$64 -> 0 | AD53: =AB53/$B$51 -> 0 | AE53: 0 | AF53: 0 | AG53: 0 | AH53: 0 | AI53: 0 | AJ53: 0 | AK53: 0 | AL53: 0 | AM53: 0 | AN53: =SUM(AF53:AM53) -> 0 | AO53: =AN53/$E$64 -> 0 | AP53: =AN53/$B$51 -> 0
A54: 141+ Years | C54: =E54/$B$51 -> 0 | D54: 0 | E54: =P54+AB54+AN54 -> 0 | F54: =E54/$E$64 -> 0 | G54: 0 | H54: 0 | I54: 0 | J54: 0 | K54: 0 | L54: 0 | M54: 0 | N54: 0 | O54: 0 | P54: =SUM(H54:O54) -> 0 | Q54: =P54/$E$64 -> 0 | R54: =P54/$B$51 -> 0 | S54: 0 | T54: 0 | U54: 0 | V54: 0 | W54: 0 | X54: 0 | Y54: 0 | Z54: 0 | AA54: 0 | AB54: =SUM(T54:AA54) -> 0 | AC54: =AB54/$E$64 -> 0 | AD54: =AB54/$B$51 -> 0 | AE54: 0 | AF54: 0 | AG54: 0 | AH54: 0 | AI54: 0 | AJ54: 0 | AK54: 0 | AL54: 0 | AM54: 0 | AN54: =SUM(AF54:AM54) -> 0 | AO54: =AN54/$E$64 -> 0 | AP54: =AN54/$B$51 -> 0
A55: Good - Economic Zone Total | C55: =E55/$B$51 -> 0 | D55: 0 | E55: =P55+AB55+AN55 -> 0 | F55: =E55/$E$64 -> 0 | G55: 0 | H55: 0 | I55: 0 | J55: 0 | K55: 0 | L55: 0 | M55: 0 | N55: 0 | O55: 0 | P55: =SUM(H55:O55) -> 0 | Q55: =P55/$E$64 -> 0 | R55: =P55/$B$51 -> 0 | S55: 0 | T55: 0 | U55: 0 | V55: 0 | W55: 0 | X55: 0 | Y55: 0 | Z55: 0 | AA55: 0 | AB55: =SUM(T55:AA55) -> 0 | AC55: =AB55/$E$64 -> 0 | AD55: =AB55/$B$51 -> 0 | AE55: 0 | AF55: 0 | AG55: 0 | AH55: 0 | AI55: 0 | AJ55: 0 | AK55: 0 | AL55: 0 | AM55: 0 | AN55: =SUM(AF55:AM55) -> 0 | AO55: =AN55/$E$64 -> 0 | AP55: =AN55/$B$51 -> 0
A56: Medium - Economic Zone
A57: 41-140 Years | C57: =E57/$B$51 -> 16.48876 | D57: 770.97911 | E57: =P57+AB57+AN57 -> 229028.87 | F57: =E57/$E$64 -> 0.89394117 | G57: 123.30604 | H57: 17342.841 | I57: 6051.567 | J57: 1600.0253 | K57: 0 | L57: 0 | M57: 0 | N57: 0 | O57: 22979.459 | P57: =SUM(H57:O57) -> 47973.893 | Q57: =P57/$E$64 -> 0.18725079 | R57: =P57/$B$51 -> 3.453844 | S57: 555.31454 | T57: 52270.278 | U57: 9064.7628 | V57: 14736.795 | W57: 515.32918 | X57: 2.0379447 | Y57: 63.13527 | Z57: 0 | AA57: 88976.553 | AB57: =SUM(T57:AA57) -> 165628.89 | AC57: =AB57/$E$64 -> 0.64647957 | AD57: =AB57/$B$51 -> 11.924326 | AE57: 92.358527 | AF57: 6505.6411 | AG57: 1302.0975 | AH57: 3728.6737 | AI57: 190.91126 | AJ57: 0 | AK57: 0 | AL57: 0 | AM57: 3698.7631 | AN57: =SUM(AF57:AM57) -> 15426.087 | AO57: =AN57/$E$64 -> 0.060210811 | AP57: =AN57/$B$51 -> 1.1105894
A58: 141+ Years | C58: =E58/$B$51 -> 1.9562568 | D58: 67.318375 | E58: =P58+AB58+AN58 -> 27172.407 | F58: =E58/$E$64 -> 0.10605883 | G58: 24.091367 | H58: 2043.9334 | I58: 5150.5611 | J58: 209.81643 | K58: 0 | L58: 0 | M58: 0 | N58: 0 | O58: 6355.0444 | P58: =SUM(H58:O58) -> 13759.355 | Q58: =P58/$E$64 -> 0.053705257 | R58: =P58/$B$51 -> 0.99059434 | S58: 26.58328 | T58: 3640.9798 | U58: 2190.7425 | V58: 2026.0942 | W58: 135.10088 | X58: 0 | Y58: 0 | Z58: 0 | AA58: 2130.3738 | AB58: =SUM(T58:AA58) -> 10123.291 | AC58: =AB58/$E$64 -> 0.039513039 | AD58: =AB58/$B$51 -> 0.72881865 | AE58: 16.643727 | AF58: 101.70039 | AG58: 381.36676 | AH58: 2798.5942 | AI58: 8.098886 | AJ58: 0 | AK58: 0 | AL58: 0 | AM58: 0 | AN58: =SUM(AF58:AM58) -> 3289.7603 | AO58: =AN58/$E$64 -> 0.01284053 | AP58: =AN58/$B$51 -> 0.23684379
A59: Medium - Economic Zone Total | C59: =E59/$B$51 -> 18.445016 | D59: 838.29748 | E59: =P59+AB59+AN59 -> 256201.28 | F59: =E59/$E$64 -> 1 | G59: 147.39741 | H59: 19386.775 | I59: 11202.128 | J59: 1809.8417 | K59: 0 | L59: 0 | M59: 0 | N59: 0 | O59: 29334.503 | P59: =SUM(H59:O59) -> 61733.248 | Q59: =P59/$E$64 -> 0.24095605 | R59: =P59/$B$51 -> 4.4444383 | S59: 581.89782 | T59: 55911.258 | U59: 11255.505 | V59: 16762.889 | W59: 650.43006 | X59: 2.0379447 | Y59: 63.13527 | Z59: 0 | AA59: 91106.927 | AB59: =SUM(T59:AA59) -> 175752.18 | AC59: =AB59/$E$64 -> 0.68599261 | AD59: =AB59/$B$51 -> 12.653145 | AE59: 109.00225 | AF59: 6607.3415 | AG59: 1683.4642 | AH59: 6527.2679 | AI59: 199.01014 | AJ59: 0 | AK59: 0 | AL59: 0 | AM59: 3698.7631 | AN59: =SUM(AF59:AM59) -> 18715.847 | AO59: =AN59/$E$64 -> 0.073051341 | AP59: =AN59/$B$51 -> 1.3474332
A60: Poor - Economic Zone
A61: 41-140 Years | C61: =E61/$B$51 -> 0 | D61: 0 | E61: =P61+AB61+AN61 -> 0 | F61: =E61/$E$64 -> 0 | G61: 0 | H61: 0 | I61: 0 | J61: 0 | K61: 0 | L61: 0 | M61: 0 | N61: 0 | O61: 0 | P61: =SUM(H61:O61) -> 0 | Q61: =P61/$E$64 -> 0 | R61: =P61/$B$51 -> 0 | S61: 0 | T61: 0 | U61: 0 | V61: 0 | W61: 0 | X61: 0 | Y61: 0 | Z61: 0 | AA61: 0 | AB61: =SUM(T61:AA61) -> 0 | AC61: =AB61/$E$64 -> 0 | AD61: =AB61/$B$51 -> 0 | AE61: 0 | AF61: 0 | AG61: 0 | AH61: 0 | AI61: 0 | AJ61: 0 | AK61: 0 | AL61: 0 | AM61: 0 | AN61: =SUM(AF61:AM61) -> 0 | AO61: =AN61/$E$64 -> 0 | AP61: =AN61/$B$51 -> 0
A62: 141+ Years | C62: =E62/$B$51 -> 0 | D62: 0 | E62: =P62+AB62+AN62 -> 0 | F62: =E62/$E$64 -> 0 | G62: 0 | H62: 0 | I62: 0 | J62: 0 | K62: 0 | L62: 0 | M62: 0 | N62: 0 | O62: 0 | P62: =SUM(H62:O62) -> 0 | Q62: =P62/$E$64 -> 0 | R62: =P62/$B$51 -> 0 | S62: 0 | T62: 0 | U62: 0 | V62: 0 | W62: 0 | X62: 0 | Y62: 0 | Z62: 0 | AA62: 0 | AB62: =SUM(T62:AA62) -> 0 | AC62: =AB62/$E$64 -> 0 | AD62: =AB62/$B$51 -> 0 | AE62: 0 | AF62: 0 | AG62: 0 | AH62: 0 | AI62: 0 | AJ62: 0 | AK62: 0 | AL62: 0 | AM62: 0 | AN62: =SUM(AF62:AM62) -> 0 | AO62: =AN62/$E$64 -> 0 | AP62: =AN62/$B$51 -> 0
A63: Poor - Economic Zone Total | C63: =E63/$B$51 -> 0 | D63: 0 | E63: =P63+AB63+AN63 -> 0 | F63: =E63/$E$64 -> 0 | G63: 0 | H63: 0 | I63: 0 | J63: 0 | K63: 0 | L63: 0 | M63: 0 | N63: 0 | O63: 0 | P63: =SUM(H63:O63) -> 0 | Q63: =P63/$E$64 -> 0 | R63: =P63/$B$51 -> 0 | S63: 0 | T63: 0 | U63: 0 | V63: 0 | W63: 0 | X63: 0 | Y63: 0 | Z63: 0 | AA63: 0 | AB63: =SUM(T63:AA63) -> 0 | AC63: =AB63/$E$64 -> 0 | AD63: =AB63/$B$51 -> 0 | AE63: 0 | AF63: 0 | AG63: 0 | AH63: 0 | AI63: 0 | AJ63: 0 | AK63: 0 | AL63: 0 | AM63: 0 | AN63: =SUM(AF63:AM63) -> 0 | AO63: =AN63/$E$64 -> 0 | AP63: =AN63/$B$51 -> 0
A64: Chawathil First Nation Total | C64: =E64/$B$51 -> 18.445016 | D64: 838.29748 | E64: =P64+AB64+AN64 -> 256201.28 | F64: =E64/$E$64 -> 1 | G64: 147.39741 | H64: 19386.775 | I64: 11202.128 | J64: 1809.8417 | K64: 0 | L64: 0 | M64: 0 | N64: 0 | O64: 29334.503 | P64: =SUM(H64:O64) -> 61733.248 | Q64: =P64/$E$64 -> 0.24095605 | R64: =P64/$B$51 -> 4.4444383 | S64: 581.89782 | T64: 55911.258 | U64: 11255.505 | V64: 16762.889 | W64: 650.43006 | X64: 2.0379447 | Y64: 63.13527 | Z64: 0 | AA64: 91106.927 | AB64: =SUM(T64:AA64) -> 175752.18 | AC64: =AB64/$E$64 -> 0.68599261 | AD64: =AB64/$B$51 -> 12.653145 | AE64: 109.00225 | AF64: 6607.3415 | AG64: 1683.4642 | AH64: 6527.2679 | AI64: 199.01014 | AJ64: 0 | AK64: 0 | AL64: 0 | AM64: 3698.7631 | AN64: =SUM(AF64:AM64) -> 18715.847 | AO64: =AN64/$E$64 -> 0.073051341 | AP64: =AN64/$B$51 -> 1.3474332
A65: Lakeside Pacific Forest Products | B65: 125484
A66: Good - Economic Zone
A67: 41-140 Years | C67: =E67/$B$65 -> 20.089757 | D67: 6937.4509 | E67: =P67+AB67+AN67 -> 2520943 | F67: =E67/$E$78 -> 0.44558412 | G67: 1153.8265 | H67: 221878.55 | I67: 44502.807 | J67: 112527.13 | K67: 41220.439 | L67: 7161.5148 | M67: 0 | N67: 1192.056 | O67: 45223.882 | P67: =SUM(H67:O67) -> 473706.39 | Q67: =P67/$E$78 -> 0.083729002 | R67: =P67/$B$65 -> 3.7750341 | S67: 4923.9361 | T67: 812954.35 | U67: 169193.47 | V67: 468468.32 | W67: 151208.2 | X67: 23866.753 | Y67: 0 | Z67: 8712.8665 | AA67: 145538.56 | AB67: =SUM(T67:AA67) -> 1779942.5 | AC67: =AB67/$E$78 -> 0.31461009 | AD67: =AB67/$B$65 -> 14.184617 | AE67: 859.68835 | AF67: 139771.39 | AG67: 16288.404 | AH67: 63309.484 | AI67: 30168.09 | AJ67: 1206.2012 | AK67: 0 | AL67: 1026.0904 | AM67: 15524.488 | AN67: =SUM(AF67:AM67) -> 267294.15 | AO67: =AN67/$E$78 -> 0.04724503 | AP67: =AN67/$B$65 -> 2.1301054
A68: 141+ Years | C68: =E68/$B$65 -> 24.85547 | D68: 4462.8305 | E68: =P68+AB68+AN68 -> 3118963.8 | F68: =E68/$E$78 -> 0.55128606 | G68: 397.24537 | H68: 50117.033 | I68: 11359.29 | J68: 98144.978 | K68: 91145.582 | L68: 779.98905 | M68: 0 | N68: 20454.252 | O68: 2670.4139 | P68: =SUM(H68:O68) -> 274671.54 | Q68: =P68/$E$78 -> 0.048549005 | R68: =P68/$B$65 -> 2.1888969 | S68: 2903.776 | T68: 396714.3 | U68: 129579.01 | V68: 759947.66 | W68: 626335.66 | X68: 2750.2684 | Y68: 0 | Z68: 109453.75 | AA68: 9927.2924 | AB68: =SUM(T68:AA68) -> 2034707.9 | AC68: =AB68/$E$78 -> 0.35964064 | AD68: =AB68/$B$65 -> 16.21488 | AE68: 1161.8091 | AF68: 155101.91 | AG68: 121551.97 | AH68: 316026.78 | AI68: 174583.4 | AJ68: 983.44414 | AK68: 0 | AL68: 39658.665 | AM68: 1678.1538 | AN68: =SUM(AF68:AM68) -> 809584.32 | AO68: =AN68/$E$78 -> 0.14309642 | AP68: =AN68/$B$65 -> 6.4516936
A69: Good - Economic Zone Total | C69: =E69/$B$65 -> 44.945227 | D69: 11400.281 | E69: =P69+AB69+AN69 -> 5639906.8 | F69: =E69/$E$78 -> 0.99687018 | G69: 1551.0719 | H69: 271995.59 | I69: 55862.096 | J69: 210672.11 | K69: 132366.02 | L69: 7941.5038 | M69: 0 | N69: 21646.308 | O69: 47894.296 | P69: =SUM(H69:O69) -> 748377.92 | Q69: =P69/$E$78 -> 0.13227801 | R69: =P69/$B$65 -> 5.963931 | S69: 7827.7121 | T69: 1209668.6 | U69: 298772.48 | V69: 1228416 | W69: 777543.86 | X69: 26617.021 | Y69: 0 | Z69: 118166.61 | AA69: 155465.85 | AB69: =SUM(T69:AA69) -> 3814650.4 | AC69: =AB69/$E$78 -> 0.67425073 | AD69: =AB69/$B$65 -> 30.399497 | AE69: 2021.4974 | AF69: 294873.3 | AG69: 137840.37 | AH69: 379336.26 | AI69: 204751.49 | AJ69: 2189.6454 | AK69: 0 | AL69: 40684.755 | AM69: 17202.642 | AN69: =SUM(AF69:AM69) -> 1076878.5 | AO69: =AN69/$E$78 -> 0.19034145 | AP69: =AN69/$B$65 -> 8.581799
A70: Medium - Economic Zone
A71: 41-140 Years | C71: =E71/$B$65 -> 0.00045246499 | D71: 0.20071664 | E71: =P71+AB71+AN71 -> 56.777117 | F71: =E71/$E$78 -> 1.0035523e-05 | G71: 0.13680626 | H71: 0 | I71: 0 | J71: 9.6062618 | K71: 29.092398 | L71: 0 | M71: 0 | N71: 0 | O71: 0 | P71: =SUM(H71:O71) -> 38.69866 | Q71: =P71/$E$78 -> 6.8401023e-06 | R71: =P71/$B$65 -> 0.00030839517 | S71: 0.063910381 | T71: 0 | U71: 0 | V71: 4.4876591 | W71: 13.590798 | X71: 0 | Y71: 0 | Z71: 0 | AA71: 0 | AB71: =SUM(T71:AA71) -> 18.078457 | AC71: =AB71/$E$78 -> 3.1954207e-06 | AD71: =AB71/$B$65 -> 0.00014406982 | AE71: 0 | AF71: 0 | AG71: 0 | AH71: 0 | AI71: 0 | AJ71: 0 | AK71: 0 | AL71: 0 | AM71: 0 | AN71: =SUM(AF71:AM71) -> 0 | AO71: =AN71/$E$78 -> 0 | AP71: =AN71/$B$65 -> 0
A72: 141+ Years | C72: =E72/$B$65 -> 0.14065948 | D72: 26.094986 | E72: =P72+AB72+AN72 -> 17650.514 | F72: =E72/$E$78 -> 0.0031197805 | G72: 4.4396023 | H72: 0 | I72: 120.43187 | J72: 1183.7438 | K72: 987.73712 | L72: 0 | M72: 0 | N72: 238.77451 | O72: 0 | P72: =SUM(H72:O72) -> 2530.6873 | Q72: =P72/$E$78 -> 0.00044730645 | R72: =P72/$B$65 -> 0.02016741 | S72: 17.353917 | T72: 0 | U72: 80.423789 | V72: 4418.6744 | W72: 5923.3584 | X72: 0 | Y72: 0 | Z72: 2027.0563 | AA72: 0 | AB72: =SUM(T72:AA72) -> 12449.513 | AC72: =AB72/$E$78 -> 0.0022004881 | AD72: =AB72/$B$65 -> 0.099211954 | AE72: 4.3014665 | AF72: 0 | AG72: 2.196052 | AH72: 1168.8189 | AI72: 1077.5387 | AJ72: 0 | AK72: 0 | AL72: 421.76037 | AM72: 0 | AN72: =SUM(AF72:AM72) -> 2670.314 | AO72: =AN72/$E$78 -> 0.00047198589 | AP72: =AN72/$B$65 -> 0.021280116
A73: Medium - Economic Zone Total | C73: =E73/$B$65 -> 0.14111194 | D73: 26.295702 | E73: =P73+AB73+AN73 -> 17707.291 | F73: =E73/$E$78 -> 0.003129816 | G73: 4.5764085 | H73: 0 | I73: 120.43187 | J73: 1193.3501 | K73: 1016.8295 | L73: 0 | M73: 0 | N73: 238.77451 | O73: 0 | P73: =SUM(H73:O73) -> 2569.386 | Q73: =P73/$E$78 -> 0.00045414655 | R73: =P73/$B$65 -> 0.020475805 | S73: 17.417827 | T73: 0 | U73: 80.423789 | V73: 4423.162 | W73: 5936.9492 | X73: 0 | Y73: 0 | Z73: 2027.0563 | AA73: 0 | AB73: =SUM(T73:AA73) -> 12467.591 | AC73: =AB73/$E$78 -> 0.0022036836 | AD73: =AB73/$B$65 -> 0.099356024 | AE73: 4.3014665 | AF73: 0 | AG73: 2.196052 | AH73: 1168.8189 | AI73: 1077.5387 | AJ73: 0 | AK73: 0 | AL73: 421.76037 | AM73: 0 | AN73: =SUM(AF73:AM73) -> 2670.314 | AO73: =AN73/$E$78 -> 0.00047198589 | AP73: =AN73/$B$65 -> 0.021280116
A74: Poor - Economic Zone
A75: 41-140 Years | C75: =E75/$B$65 -> 0 | D75: 0 | E75: =P75+AB75+AN75 -> 0 | F75: =E75/$E$78 -> 0 | G75: 0 | H75: 0 | I75: 0 | J75: 0 | K75: 0 | L75: 0 | M75: 0 | N75: 0 | O75: 0 | P75: =SUM(H75:O75) -> 0 | Q75: =P75/$E$78 -> 0 | R75: =P75/$B$65 -> 0 | S75: 0 | T75: 0 | U75: 0 | V75: 0 | W75: 0 | X75: 0 | Y75: 0 | Z75: 0 | AA75: 0 | AB75: =SUM(T75:AA75) -> 0 | AC75: =AB75/$E$78 -> 0 | AD75: =AB75/$B$65 -> 0 | AE75: 0 | AF75: 0 | AG75: 0 | AH75: 0 | AI75: 0 | AJ75: 0 | AK75: 0 | AL75: 0 | AM75: 0 | AN75: =SUM(AF75:AM75) -> 0 | AO75: =AN75/$E$78 -> 0 | AP75: =AN75/$B$65 -> 0
A76: 141+ Years | C76: =E76/$B$65 -> 0 | D76: 0 | E76: =P76+AB76+AN76 -> 0 | F76: =E76/$E$78 -> 0 | G76: 0 | H76: 0 | I76: 0 | J76: 0 | K76: 0 | L76: 0 | M76: 0 | N76: 0 | O76: 0 | P76: =SUM(H76:O76) -> 0 | Q76: =P76/$E$78 -> 0 | R76: =P76/$B$65 -> 0 | S76: 0 | T76: 0 | U76: 0 | V76: 0 | W76: 0 | X76: 0 | Y76: 0 | Z76: 0 | AA76: 0 | AB76: =SUM(T76:AA76) -> 0 | AC76: =AB76/$E$78 -> 0 | AD76: =AB76/$B$65 -> 0 | AE76: 0 | AF76: 0 | AG76: 0 | AH76: 0 | AI76: 0 | AJ76: 0 | AK76: 0 | AL76: 0 | AM76: 0 | AN76: =SUM(AF76:AM76) -> 0 | AO76: =AN76/$E$78 -> 0 | AP76: =AN76/$B$65 -> 0
A77: Poor - Economic Zone Total | C77: =E77/$B$65 -> 0 | D77: 0 | E77: =P77+AB77+AN77 -> 0 | F77: =E77/$E$78 -> 0 | G77: 0 | H77: 0 | I77: 0 | J77: 0 | K77: 0 | L77: 0 | M77: 0 | N77: 0 | O77: 0 | P77: =SUM(H77:O77) -> 0 | Q77: =P77/$E$78 -> 0 | R77: =P77/$B$65 -> 0 | S77: 0 | T77: 0 | U77: 0 | V77: 0 | W77: 0 | X77: 0 | Y77: 0 | Z77: 0 | AA77: 0 | AB77: =SUM(T77:AA77) -> 0 | AC77: =AB77/$E$78 -> 0 | AD77: =AB77/$B$65 -> 0 | AE77: 0 | AF77: 0 | AG77: 0 | AH77: 0 | AI77: 0 | AJ77: 0 | AK77: 0 | AL77: 0 | AM77: 0 | AN77: =SUM(AF77:AM77) -> 0 | AO77: =AN77/$E$78 -> 0 | AP77: =AN77/$B$65 -> 0
A78: Lakeside Pacific Forest Products Total | C78: =E78/$B$65 -> 45.086339 | D78: 11426.577 | E78: =P78+AB78+AN78 -> 5657614.1 | F78: =E78/$E$78 -> 1 | G78: 1555.6483 | H78: 271995.59 | I78: 55982.528 | J78: 211865.46 | K78: 133382.85 | L78: 7941.5038 | M78: 0 | N78: 21885.083 | O78: 47894.296 | P78: =SUM(H78:O78) -> 750947.31 | Q78: =P78/$E$78 -> 0.13273215 | R78: =P78/$B$65 -> 5.9844068 | S78: 7845.1299 | T78: 1209668.6 | U78: 298852.9 | V78: 1232839.1 | W78: 783480.81 | X78: 26617.021 | Y78: 0 | Z78: 120193.67 | AA78: 155465.85 | AB78: =SUM(T78:AA78) -> 3827118 | AC78: =AB78/$E$78 -> 0.67645441 | AD78: =AB78/$B$65 -> 30.498853 | AE78: 2025.7989 | AF78: 294873.3 | AG78: 137842.57 | AH78: 380505.08 | AI78: 205829.03 | AJ78: 2189.6454 | AK78: 0 | AL78: 41106.516 | AM78: 17202.642 | AN78: =SUM(AF78:AM78) -> 1079548.8 | AO78: =AN78/$E$78 -> 0.19081343 | AP78: =AN78/$B$65 -> 8.6030791
A79: Northwest Hardwoods | B79: 10001
A80: Good - Economic Zone
A81: 41-140 Years | C81: =E81/$B$79 -> 23.588668 | D81: 605.02592 | E81: =P81+AB81+AN81 -> 235910.27 | F81: =E81/$E$92 -> 1 | G81: 160.26151 | H81: 20570.783 | I81: 2618.2001 | J81: 13199.893 | K81: 0 | L81: 25.24733 | M81: 0 | N81: 0 | O81: 25863.407 | P81: =SUM(H81:O81) -> 62277.53 | Q81: =P81/$E$92 -> 0.26398821 | R81: =P81/$B$79 -> 6.2271303 | S81: 372.14814 | T81: 33298.643 | U81: 4136.1915 | V81: 20378.505 | W81: 0 | X81: 55.308197 | Y81: 0 | Z81: 0 | AA81: 85170.569 | AB81: =SUM(T81:AA81) -> 143039.22 | AC81: =AB81/$E$92 -> 0.60632892 | AD81: =AB81/$B$79 -> 14.302491 | AE81: 72.616266 | AF81: 9797.0743 | AG81: 962.42835 | AH81: 8213.7327 | AI81: 0 | AJ81: 63.938851 | AK81: 0 | AL81: 0 | AM81: 11556.345 | AN81: =SUM(AF81:AM81) -> 30593.519 | AO81: =AN81/$E$92 -> 0.12968287 | AP81: =AN81/$B$79 -> 3.059046
A82: 141+ Years | C82: 0 | D82: 0 | E82: 0 | F82: 0 | G82: 0 | H82: 0 | I82: 0 | J82: 0 | K82: 0 | L82: 0 | M82: 0 | N82: 0 | O82: 0 | P82: 0 | Q82: 0 | R82: 0
A83: Good - Economic Zone Total | C83: =E83/$B$79 -> 23.588668 | D83: 605.02592 | E83: =P83+AB83+AN83 -> 235910.27 | F83: =E83/$E$92 -> 1 | G83: 160.26151 | H83: 20570.783 | I83: 2618.2001 | J83: 13199.893 | K83: 0 | L83: 25.24733 | M83: 0 | N83: 0 | O83: 25863.407 | P83: =SUM(H83:O83) -> 62277.53 | Q83: =P83/$E$92 -> 0.26398821 | R83: =P83/$B$79 -> 6.2271303 | S83: 372.14814 | T83: 33298.643 | U83: 4136.1915 | V83: 20378.505 | W83: 0 | X83: 55.308197 | Y83: 0 | Z83: 0 | AA83: 85170.569 | AB83: =SUM(T83:AA83) -> 143039.22 | AC83: =AB83/$E$92 -> 0.60632892 | AD83: =AB83/$B$79 -> 14.302491 | AE83: 72.616266 | AF83: 9797.0743 | AG83: 962.42835 | AH83: 8213.7327 | AI83: 0 | AJ83: 63.938851 | AK83: 0 | AL83: 0 | AM83: 11556.345 | AN83: =SUM(AF83:AM83) -> 30593.519 | AO83: =AN83/$E$92 -> 0.12968287 | AP83: =AN83/$B$79 -> 3.059046
A84: Medium - Economic Zone
A85: 41-140 Years | C85: =E85/$B$79 -> 0 | D85: 0 | E85: =P85+AB85+AN85 -> 0 | F85: =E85/$E$92 -> 0 | G85: 0 | H85: 0 | I85: 0 | J85: 0 | K85: 0 | L85: 0 | M85: 0 | N85: 0 | O85: 0 | P85: =SUM(H85:O85) -> 0 | Q85: =P85/$E$92 -> 0 | R85: =P85/$B$79 -> 0 | S85: 0 | T85: 0 | U85: 0 | V85: 0 | W85: 0 | X85: 0 | Y85: 0 | Z85: 0 | AA85: 0 | AB85: =SUM(T85:AA85) -> 0 | AC85: =AB85/$E$92 -> 0 | AD85: =AB85/$B$79 -> 0 | AE85: 0 | AF85: 0 | AG85: 0 | AH85: 0 | AI85: 0 | AJ85: 0 | AK85: 0 | AL85: 0 | AM85: 0 | AN85: =SUM(AF85:AM85) -> 0 | AO85: =AN85/$E$92 -> 0 | AP85: =AN85/$B$79 -> 0
A86: 141+ Years | C86: =E86/$B$79 -> 0 | D86: 0 | E86: =P86+AB86+AN86 -> 0 | F86: =E86/$E$92 -> 0 | G86: 0 | H86: 0 | I86: 0 | J86: 0 | K86: 0 | L86: 0 | M86: 0 | N86: 0 | O86: 0 | P86: =SUM(H86:O86) -> 0 | Q86: =P86/$E$92 -> 0 | R86: =P86/$B$79 -> 0 | S86: 0 | T86: 0 | U86: 0 | V86: 0 | W86: 0 | X86: 0 | Y86: 0 | Z86: 0 | AA86: 0 | AB86: =SUM(T86:AA86) -> 0 | AC86: =AB86/$E$92 -> 0 | AD86: =AB86/$B$79 -> 0 | AE86: 0 | AF86: 0 | AG86: 0 | AH86: 0 | AI86: 0 | AJ86: 0 | AK86: 0 | AL86: 0 | AM86: 0 | AN86: =SUM(AF86:AM86) -> 0 | AO86: =AN86/$E$92 -> 0 | AP86: =AN86/$B$79 -> 0
A87: Medium - Economic Zone Total | C87: =E87/$B$79 -> 0 | D87: 0 | E87: =P87+AB87+AN87 -> 0 | F87: =E87/$E$92 -> 0 | G87: 0 | H87: 0 | I87: 0 | J87: 0 | K87: 0 | L87: 0 | M87: 0 | N87: 0 | O87: 0 | P87: =SUM(H87:O87) -> 0 | Q87: =P87/$E$92 -> 0 | R87: =P87/$B$79 -> 0 | S87: 0 | T87: 0 | U87: 0 | V87: 0 | W87: 0 | X87: 0 | Y87: 0 | Z87: 0 | AA87: 0 | AB87: =SUM(T87:AA87) -> 0 | AC87: =AB87/$E$92 -> 0 | AD87: =AB87/$B$79 -> 0 | AE87: 0 | AF87: 0 | AG87: 0 | AH87: 0 | AI87: 0 | AJ87: 0 | AK87: 0 | AL87: 0 | AM87: 0 | AN87: =SUM(AF87:AM87) -> 0 | AO87: =AN87/$E$92 -> 0 | AP87: =AN87/$B$79 -> 0
A88: Poor - Economic Zone
A89: 41-140 Years | C89: =E89/$B$79 -> 0 | D89: 0 | E89: =P89+AB89+AN89 -> 0 | F89: =E89/$E$92 -> 0 | G89: 0 | H89: 0 | I89: 0 | J89: 0 | K89: 0 | L89: 0 | M89: 0 | N89: 0 | O89: 0 | P89: =SUM(H89:O89) -> 0 | Q89: =P89/$E$92 -> 0 | R89: =P89/$B$79 -> 0 | S89: 0 | T89: 0 | U89: 0 | V89: 0 | W89: 0 | X89: 0 | Y89: 0 | Z89: 0 | AA89: 0 | AB89: =SUM(T89:AA89) -> 0 | AC89: =AB89/$E$92 -> 0 | AD89: =AB89/$B$79 -> 0 | AE89: 0 | AF89: 0 | AG89: 0 | AH89: 0 | AI89: 0 | AJ89: 0 | AK89: 0 | AL89: 0 | AM89: 0 | AN89: =SUM(AF89:AM89) -> 0 | AO89: =AN89/$E$92 -> 0 | AP89: =AN89/$B$79 -> 0
A90: 141+ Years | C90: =E90/$B$79 -> 0 | D90: 0 | E90: =P90+AB90+AN90 -> 0 | F90: =E90/$E$92 -> 0 | G90: 0 | H90: 0 | I90: 0 | J90: 0 | K90: 0 | L90: 0 | M90: 0 | N90: 0 | O90: 0 | P90: =SUM(H90:O90) -> 0 | Q90: =P90/$E$92 -> 0 | R90: =P90/$B$79 -> 0 | S90: 0 | T90: 0 | U90: 0 | V90: 0 | W90: 0 | X90: 0 | Y90: 0 | Z90: 0 | AA90: 0 | AB90: =SUM(T90:AA90) -> 0 | AC90: =AB90/$E$92 -> 0 | AD90: =AB90/$B$79 -> 0 | AE90: 0 | AF90: 0 | AG90: 0 | AH90: 0 | AI90: 0 | AJ90: 0 | AK90: 0 | AL90: 0 | AM90: 0 | AN90: =SUM(AF90:AM90) -> 0 | AO90: =AN90/$E$92 -> 0 | AP90: =AN90/$B$79 -> 0
A91: Poor - Economic Zone Total | C91: =E91/$B$79 -> 0 | D91: 0 | E91: =P91+AB91+AN91 -> 0 | F91: =E91/$E$92 -> 0 | G91: 0 | H91: 0 | I91: 0 | J91: 0 | K91: 0 | L91: 0 | M91: 0 | N91: 0 | O91: 0 | P91: =SUM(H91:O91) -> 0 | Q91: =P91/$E$92 -> 0 | R91: =P91/$B$79 -> 0 | S91: 0 | T91: 0 | U91: 0 | V91: 0 | W91: 0 | X91: 0 | Y91: 0 | Z91: 0 | AA91: 0 | AB91: =SUM(T91:AA91) -> 0 | AC91: =AB91/$E$92 -> 0 | AD91: =AB91/$B$79 -> 0 | AE91: 0 | AF91: 0 | AG91: 0 | AH91: 0 | AI91: 0 | AJ91: 0 | AK91: 0 | AL91: 0 | AM91: 0 | AN91: =SUM(AF91:AM91) -> 0 | AO91: =AN91/$E$92 -> 0 | AP91: =AN91/$B$79 -> 0
A92: Northwest Hardwoods Total | C92: =E92/$B$79 -> 23.588668 | D92: 605.02592 | E92: =P92+AB92+AN92 -> 235910.27 | F92: =E92/$E$92 -> 1 | G92: 160.26151 | H92: 20570.783 | I92: 2618.2001 | J92: 13199.893 | K92: 0 | L92: 25.24733 | M92: 0 | N92: 0 | O92: 25863.407 | P92: =SUM(H92:O92) -> 62277.53 | Q92: =P92/$E$92 -> 0.26398821 | R92: =P92/$B$79 -> 6.2271303 | S92: 372.14814 | T92: 33298.643 | U92: 4136.1915 | V92: 20378.505 | W92: 0 | X92: 55.308197 | Y92: 0 | Z92: 0 | AA92: 85170.569 | AB92: =SUM(T92:AA92) -> 143039.22 | AC92: =AB92/$E$92 -> 0.60632892 | AD92: =AB92/$B$79 -> 14.302491 | AE92: 72.616266 | AF92: 9797.0743 | AG92: 962.42835 | AH92: 8213.7327 | AI92: 0 | AJ92: 63.938851 | AK92: 0 | AL92: 0 | AM92: 11556.345 | AN92: =SUM(AF92:AM92) -> 30593.519 | AO92: =AN92/$E$92 -> 0.12968287 | AP92: =AN92/$B$79 -> 3.059046
A93: Probyn Log Ltd | B93: 4578
A94: Good - Economic Zone
A95: 41-140 Years | C95: =E95/$B$93 -> 38.329975 | D95: 282.17649 | E95: =P95+AB95+AN95 -> 175474.63 | F95: =E95/$E$106 -> 0.49705665 | G95: 76.298392 | H95: 28876.435 | I95: 4257.5744 | J95: 10523.301 | K95: 480.66711 | L95: 0 | M95: 0 | N95: 0.3425154 | O95: 1252.6107 | P95: =SUM(H95:O95) -> 45390.931 | Q95: =P95/$E$106 -> 0.12857622 | R95: =P95/$B$93 -> 9.9150132 | S95: 187.4845 | T95: 51253.655 | U95: 9318.1346 | V95: 49729.039 | W95: 2906.796 | X95: 0 | Y95: 0 | Z95: 2.7424287 | AA95: 6924.5953 | AB95: =SUM(T95:AA95) -> 120134.96 | AC95: =AB95/$E$106 -> 0.34029924 | AD95: =AB95/$B$93 -> 26.2418 | AE95: 18.393599 | AF95: 6340.4442 | AG95: 1080.4981 | AH95: 2251.1993 | AI95: 118.29674 | AJ95: 0 | AK95: 0 | AL95: 0.76914733 | AM95: 157.52552 | AN95: =SUM(AF95:AM95) -> 9948.733 | AO95: =AN95/$E$106 -> 0.028181191 | AP95: =AN95/$B$93 -> 2.1731614
A96: 141+ Years | C96: =E96/$B$93 -> 38.783922 | D96: 190.43956 | E96: =P96+AB96+AN96 -> 177552.8 | F96: =E96/$E$106 -> 0.50294335 | G96: 1.1393774 | H96: 17.704 | I96: 152.60229 | J96: 463.4128 | K96: 65.826168 | L96: 0 | M96: 0 | N96: 65.620639 | O96: 5.4269741 | P96: =SUM(H96:O96) -> 770.59286 | Q96: =P96/$E$106 -> 0.0021828131 | R96: =P96/$B$93 -> 0.16832522 | S96: 121.23733 | T96: 20298.513 | U96: 17901.73 | V96: 37580.631 | W96: 31355.361 | X96: 0 | Y96: 0 | Z96: 2189.6293 | AA96: 38.841236 | AB96: =SUM(T96:AA96) -> 109364.7 | AC96: =AB96/$E$106 -> 0.30979096 | AD96: =AB96/$B$93 -> 23.889188 | AE96: 68.062849 | AF96: 11835.892 | AG96: 16549.652 | AH96: 25111.747 | AI96: 13028.469 | AJ96: 0 | AK96: 0 | AL96: 891.7377 | AM96: 0 | AN96: =SUM(AF96:AM96) -> 67417.498 | AO96: =AN96/$E$106 -> 0.19096958 | AP96: =AN96/$B$93 -> 14.726408
A97: Good - Economic Zone Total | C97: =E97/$B$93 -> 77.113897 | D97: 472.61605 | E97: =P97+AB97+AN97 -> 353027.42 | F97: =E97/$E$106 -> 1 | G97: 77.437769 | H97: 28894.139 | I97: 4410.1767 | J97: 10986.714 | K97: 546.49328 | L97: 0 | M97: 0 | N97: 65.963154 | O97: 1258.0377 | P97: =SUM(H97:O97) -> 46161.523 | Q97: =P97/$E$106 -> 0.13075903 | R97: =P97/$B$93 -> 10.083338 | S97: 308.72183 | T97: 71552.168 | U97: 27219.864 | V97: 87309.67 | W97: 34262.157 | X97: 0 | Y97: 0 | Z97: 2192.3717 | AA97: 6963.4366 | AB97: =SUM(T97:AA97) -> 229499.67 | AC97: =AB97/$E$106 -> 0.6500902 | AD97: =AB97/$B$93 -> 50.130989 | AE97: 86.456448 | AF97: 18176.337 | AG97: 17630.15 | AH97: 27362.946 | AI97: 13146.766 | AJ97: 0 | AK97: 0 | AL97: 892.50685 | AM97: 157.52552 | AN97: =SUM(AF97:AM97) -> 77366.231 | AO97: =AN97/$E$106 -> 0.21915077 | AP97: =AN97/$B$93 -> 16.89957
A98: Medium - Economic Zone
A99: 41-140 Years | C99: =E99/$B$93 -> 0 | D99: 0 | E99: =P99+AB99+AN99 -> 0 | F99: =E99/$E$106 -> 0 | G99: 0 | H99: 0 | I99: 0 | J99: 0 | K99: 0 | L99: 0 | M99: 0 | N99: 0 | O99: 0 | P99: =SUM(H99:O99) -> 0 | Q99: =P99/$E$106 -> 0 | R99: =P99/$B$93 -> 0 | S99: 0 | T99: 0 | U99: 0 | V99: 0 | W99: 0 | X99: 0 | Y99: 0 | Z99: 0 | AA99: 0 | AB99: =SUM(T99:AA99) -> 0 | AC99: =AB99/$E$106 -> 0 | AD99: =AB99/$B$93 -> 0 | AE99: 0 | AF99: 0 | AG99: 0 | AH99: 0 | AI99: 0 | AJ99: 0 | AK99: 0 | AL99: 0 | AM99: 0 | AN99: =SUM(AF99:AM99) -> 0 | AO99: =AN99/$E$106 -> 0 | AP99: =AN99/$B$93 -> 0
A100: 141+ Years | C100: =E100/$B$93 -> 0 | D100: 0 | E100: =P100+AB100+AN100 -> 0 | F100: =E100/$E$106 -> 0 | G100: 0 | H100: 0 | I100: 0 | J100: 0 | K100: 0 | L100: 0 | M100: 0 | N100: 0 | O100: 0 | P100: =SUM(H100:O100) -> 0 | Q100: =P100/$E$106 -> 0 | R100: =P100/$B$93 -> 0 | S100: 0 | T100: 0 | U100: 0 | V100: 0 | W100: 0 | X100: 0 | Y100: 0 | Z100: 0 | AA100: 0 | AB100: =SUM(T100:AA100) -> 0 | AC100: =AB100/$E$106 -> 0 | AD100: =AB100/$B$93 -> 0 | AE100: 0 | AF100: 0 | AG100: 0 | AH100: 0 | AI100: 0 | AJ100: 0 | AK100: 0 | AL100: 0 | AM100: 0 | AN100: =SUM(AF100:AM100) -> 0 | AO100: =AN100/$E$106 -> 0 | AP100: =AN100/$B$93 -> 0
A101: Medium - Economic Zone Total | C101: =E101/$B$93 -> 0 | D101: 0 | E101: =P101+AB101+AN101 -> 0 | F101: =E101/$E$106 -> 0 | G101: 0 | H101: 0 | I101: 0 | J101: 0 | K101: 0 | L101: 0 | M101: 0 | N101: 0 | O101: 0 | P101: =SUM(H101:O101) -> 0 | Q101: =P101/$E$106 -> 0 | R101: =P101/$B$93 -> 0 | S101: 0 | T101: 0 | U101: 0 | V101: 0 | W101: 0 | X101: 0 | Y101: 0 | Z101: 0 | AA101: 0 | AB101: =SUM(T101:AA101) -> 0 | AC101: =AB101/$E$106 -> 0 | AD101: =AB101/$B$93 -> 0 | AE101: 0 | AF101: 0 | AG101: 0 | AH101: 0 | AI101: 0 | AJ101: 0 | AK101: 0 | AL101: 0 | AM101: 0 | AN101: =SUM(AF101:AM101) -> 0 | AO101: =AN101/$E$106 -> 0 | AP101: =AN101/$B$93 -> 0
...

Sheet AUGUST 2017
A1: Timber Harvesting Land Base (THLB): Based on Fraser TSA TSR 4 Timber Supply Analysis using a compilation of the best available information.
A2: August 2017 Version 3 - Licensee Operating Area Analysis Forest Cover Data Sources:
A3: Vegetation Resource Inventory: Attributes projected to 2016
A4: Change Detection Mapping: Denudation current to April 2017 using RESULTS forest_cover_inv_svw dataset and Landsat imagery
A5: Burn Severity Mapping: Wildfire V10247 (Cougar Creek) & V10370 (Wood Lake) forest cover updated for Low, Medium & High severity burn
A7: August 1, 2017 Licensee - Economic Zones | B7: Total THLB Area (ha) | C7: Total THLB Vol (m3) | D7: Total Annual Yield (m3/yr) | E7: Slope 0-30 % | P7: Slope 31-69 % | AA7: > 69%
E8: Slope THLB Area (ha) | F8: THLB Volume (m3) | N8: Slope THLB Volume m3 | O8: Annual Yield m3/yr | P8: Slope THLB Area (ha) | Q8: THLB Volume (m3) | Y8: Slope THLB Volume | Z8: Annual Yield m3/yr | AA8: Slope THLB Area (ha) | AB8: THLB Volume (m3) | AJ8: Slope THLB Volume | AK8: Annual Yield m3/yr
E9: Area (ha) | F9: FIR | G9: CEDAR | H9: HEMLOCK | I9: BALSAM | J9: PINE | K9: SPRUCE | L9: CYPRESS | M9: DECIDUOUS | N9: CFLB Volume (m3) | Q9: FIR | R9: CEDAR | S9: HEMLOCK | T9: BALSAM | U9: PINE | V9: SPRUCE | W9: CYPRESS | X9: DECIDUOUS | Y9: THLB_RVTOT | AB9: FIR | AC9: CEDAR | AD9: HEMLOCK | AE9: BALSAM | AF9: PINE | AG9: SPRUCE | AH9: CYPRESS | AI9: DECIDUOUS | AJ9: Sum of THLB_RVTOT
A10: B.C. Timber Sales
A11: Good
A12: 41-140 Years | B12: 7911.5633 | C12: 3149457.5 | D12: 35732.436 | E12: 2321.3252 | F12: 246043.01 | G12: 64491.815 | H12: 393725.42 | I12: 115093.03 | J12: 4366.9239 | K12: 1857.9794 | L12: 533.43271 | M12: 357092.71 | N12: 1183204.3 | O12: 10286.5 | P12: 4386.7435 | Q12: 607768.25 | R12: 99332.422 | S12: 319510.54 | T12: 108205.65 | U12: 5777.0782 | V12: 2774.4974 | W12: 5389.9372 | X12: 402831.22 | Y12: 1551589.6 | Z12: 19767.207 | AA12: 1203.4946 | AB12: 188336.14 | AC12: 26822.531 | AD12: 91074.217 | AE12: 24656.526 | AF12: 419.46875 | AG12: 278.20094 | AH12: 1391.4045 | AI12: 81685.054 | AJ12: 414663.55 | AK12: 5678.7288
A13: 141+ Years | B13: 1694.5795 | C13: 1032232.2 | D13: 6967.5334 | E13: 299.96901 | F13: 37299.042 | G13: 19324.533 | H13: 72549.87 | I13: 54310.581 | J13: 1598.8625 | K13: 0 | L13: 5158.6377 | M13: 1535.299 | N13: 191776.83 | O13: 1202.0199 | P13: 845.8014 | Q13: 91287.819 | R13: 94694.015 | S13: 184323.86 | T13: 110471.18 | U13: 326.36987 | V13: 0 | W13: 12826.164 | X13: 2764.8587 | Y13: 496694.26 | Z13: 3455.1512 | AA13: 548.80911 | AB13: 55040.248 | AC13: 91029.227 | AD13: 120498.87 | AE13: 68703.89 | AF13: 37.616538 | AG13: 0 | AH13: 7619.115 | AI13: 832.19019 | AJ13: 343761.16 | AK13: 2310.3623
A14: Good Total | B14: 9606.1428 | C14: 4181689.7 | D14: 42699.969 | E14: 2621.2942 | F14: 283342.05 | G14: 83816.348 | H14: 466275.29 | I14: 169403.61 | J14: 5965.7864 | K14: 1857.9794 | L14: 5692.0704 | M14: 358628.01 | N14: 1374981.2 | O14: 11488.52 | P14: 5232.5449 | Q14: 699056.07 | R14: 194026.44 | S14: 503834.39 | T14: 218676.83 | U14: 6103.4481 | V14: 2774.4974 | W14: 18216.101 | X14: 405596.07 | Y14: 2048283.8 | Z14: 23222.358 | AA14: 1752.3037 | AB14: 243376.39 | AC14: 117851.76 | AD14: 211573.09 | AE14: 93360.416 | AF14: 457.08529 | AG14: 278.20094 | AH14: 9010.5195 | AI14: 82517.244 | AJ14: 758424.71 | AK14: 7989.0911
A15: Medium
A16: 41-140 Years | B16: 8446.1395 | C16: 2637130.6 | D16: 34221.156 | E16: 1321.9845 | F16: 61461.873 | G16: 14652.691 | H16: 118601.56 | I16: 163199.89 | J16: 0.95326347 | K16: 2711.8034 | L16: 712.47205 | M16: 32111.983 | N16: 393453.23 | O16: 5217.0151 | P16: 5788.7365 | Q16: 396305.86 | R16: 78298.575 | S16: 558148.73 | T16: 581328.07 | U16: 25.801652 | V16: 7607.1678 | W16: 1481.6232 | X16: 160772.87 | Y16: 1783968.7 | Z16: 23502.773 | AA16: 1335.4185 | AB16: 165913.23 | AC16: 28368.409 | AD16: 161912.27 | AE16: 76101.318 | AF16: 93.246832 | AG16: 62.002967 | AH16: 376.32511 | AI16: 26881.869 | AJ16: 459708.67 | AK16: 5501.3673
A17: 141+ Years | B17: 3980.9403 | C17: 2680847.3 | D17: 15127.344 | E17: 278.38279 | F17: 17239.851 | G17: 5869.4873 | H17: 82230.334 | I17: 75338.048 | J17: 222.87318 | K17: 1201.3422 | L17: 1165.3938 | M17: 229.27702 | N17: 183496.61 | O17: 1051.6227 | P17: 2405.6929 | Q17: 112954.93 | R17: 54697.188 | S17: 643264.34 | T17: 781952.85 | U17: 147.10653 | V17: 3357.6371 | W17: 13230.66 | X17: 594.6428 | Y17: 1610199.4 | Z17: 9123.1152 | AA17: 1296.8646 | AB17: 87690.424 | AC17: 60652.815 | AD17: 408086.45 | AE17: 323911.28 | AF17: 0 | AG17: 473.42404 | AH17: 5385.3787 | AI17: 951.61753 | AJ17: 887151.39 | AK17: 4952.6059
A18: Medium Total | B18: 12427.08 | C18: 5317978 | D18: 49348.499 | E18: 1600.3673 | F18: 78701.723 | G18: 20522.178 | H18: 200831.9 | I18: 238537.94 | J18: 223.82644 | K18: 3913.1455 | L18: 1877.8659 | M18: 32341.26 | N18: 576949.83 | O18: 6268.6378 | P18: 8194.4294 | Q18: 509260.79 | R18: 132995.76 | S18: 1201413.1 | T18: 1363280.9 | U18: 172.90818 | V18: 10964.805 | W18: 14712.283 | X18: 161367.52 | Y18: 3394168.1 | Z18: 32625.888 | AA18: 2632.2831 | AB18: 253603.65 | AC18: 89021.223 | AD18: 569998.72 | AE18: 400012.6 | AF18: 93.246832 | AG18: 535.42701 | AH18: 5761.7038 | AI18: 27833.486 | AJ18: 1346860.1 | AK18: 10453.973
A19: Poor
A20: 41-140 Years | B20: 1509.644 | C20: 625205.69 | D20: 6154.6513 | E20: 621.76228 | F20: 248865.86 | G20: 24541.024 | H20: 18341.228 | I20: 13758.07 | J20: 9113.517 | K20: 1299.9791 | L20: 0 | M20: 12282.159 | N20: 328201.83 | O20: 2732.0793 | P20: 839.06752 | Q20: 186088.25 | R20: 17129.853 | S20: 9977.5831 | T20: 33888.931 | U20: 16802.542 | V20: 596.83569 | W20: 8.9410227 | X20: 20960.757 | Y20: 285453.69 | Z20: 3264.5557 | AA20: 48.81418 | AB20: 5099.0521 | AC20: 214.93174 | AD20: 1356.8667 | AE20: 3549.4243 | AF20: 1010.3748 | AG20: 139.18376 | AH20: 2.7290372 | AI20: 177.61061 | AJ20: 11550.173 | AK20: 158.01626
A21: 141+ Years | B21: 1749.1439 | C21: 949438.12 | D21: 4801.765 | E21: 359.43716 | F21: 23583.982 | G21: 13365.586 | H21: 52784.017 | I21: 88897.989 | J21: 3206.9644 | K21: 30017.764 | L21: 1129.401 | M21: 5.2146847 | N21: 212990.92 | O21: 1013.7198 | P21: 1303.6523 | Q21: 123429.48 | R21: 29903.469 | S21: 214355.91 | T21: 213324.96 | U21: 17301.637 | V21: 87848.54 | W21: 12107.336 | X21: 270.63338 | Y21: 698541.96 | Z21: 3565.2528 | AA21: 86.054394 | AB21: 5684.8319 | AC21: 784.41561 | AD21: 9911.2813 | AE21: 16438.262 | AF21: 497.01357 | AG21: 4007.312 | AH21: 582.12259 | AI21: 0 | AJ21: 37905.239 | AK21: 222.79243
A22: Poor Total | B22: 3258.7878 | C22: 1574643.8 | D22: 10956.416 | E22: 981.19944 | F22: 272449.84 | G22: 37906.61 | H22: 71125.245 | I22: 102656.06 | J22: 12320.481 | K22: 31317.743 | L22: 1129.401 | M22: 12287.374 | N22: 541192.75 | O22: 3745.7992 | P22: 2142.7198 | Q22: 309517.73 | R22: 47033.322 | S22: 224333.49 | T22: 247213.89 | U22: 34104.178 | V22: 88445.375 | W22: 12116.277 | X22: 21231.39 | Y22: 983995.65 | Z22: 6829.8085 | AA22: 134.86857 | AB22: 10783.884 | AC22: 999.34734 | AD22: 11268.148 | AE22: 19987.686 | AF22: 1507.3884 | AG22: 4146.4958 | AH22: 584.85163 | AI22: 177.61061 | AJ22: 49455.412 | AK22: 380.80869
A23: B.C. Timber Sales Total | B23: 25292.01 | C23: 11074311 | D23: 103004.88 | E23: 5202.8609 | F23: 634493.62 | G23: 142245.14 | H23: 738232.43 | I23: 510597.61 | J23: 18510.094 | K23: 37088.868 | L23: 8699.3374 | M23: 403256.65 | N23: 2493123.7 | O23: 21502.957 | P23: 15569.694 | Q23: 1517834.6 | R23: 374055.52 | S23: 1929581 | T23: 1829171.6 | U23: 40380.535 | V23: 102184.68 | W23: 45044.661 | X23: 588194.98 | Y23: 6426447.6 | Z23: 62678.055 | AA23: 4519.4554 | AB23: 507763.93 | AC23: 207872.33 | AD23: 792839.96 | AE23: 513360.7 | AF23: 2057.7205 | AG23: 4960.1237 | AH23: 15357.075 | AI23: 110528.34 | AJ23: 2154740.2 | AK23: 18823.873
A24: First Nations District Area
A25: Good
A26: 41-140 Years | B26: 5963.9439 | C26: 2830559.4 | D26: 28073.037 | E26: 886.92659 | F26: 112751.38 | G26: 25445.271 | H26: 122782.13 | I26: 92756.111 | J26: 7215.1528 | K26: 40.026991 | L26: 534.99313 | M26: 81085.346 | N26: 442610.41 | O26: 4346.5109 | P26: 3764.9621 | Q26: 439610.03 | R26: 90730.446 | S26: 581848.29 | T26: 386360.8 | U26: 20915.859 | V26: 3.20013 | W26: 2778.2518 | X26: 272818.85 | Y26: 1795065.7 | Z26: 17631.9 | AA26: 1312.0552 | AB26: 200741.21 | AC26: 23607.325 | AD26: 199721.84 | AE26: 57047.521 | AF26: 8120.6949 | AG26: 19.630457 | AH26: 337.54409 | AI26: 103287.5 | AJ26: 592883.26 | AK26: 6094.6258
A27: 141+ Years | B27: 2343.5232 | C27: 1832234.6 | D27: 9055.907 | E27: 170.9903 | F27: 15945.927 | G27: 2901.242 | H27: 42239.933 | I27: 50983.651 | J27: 2022.8307 | K27: 50.755858 | L27: 9021.8589 | M27: 3301.3456 | N27: 126467.54 | O27: 586.25244 | P27: 1608.7165 | Q27: 158942.6 | R27: 76502.535 | S27: 453798.63 | T27: 482082.73 | U27: 635.03714 | V27: 74.210178 | W27: 80740.272 | X27: 8906.8761 | Y27: 1261682.9 | Z27: 6142.8567 | AA27: 563.8164 | AB27: 71846.233 | AC27: 35950.336 | AD27: 197098.23 | AE27: 117835.42 | AF27: 0 | AG27: 3.0108661 | AH27: 19147.294 | AI27: 2203.6648 | AJ27: 444084.19 | AK27: 2326.7979
A28: Good Total | B28: 8307.4671 | C28: 4662794 | D28: 37128.944 | E28: 1057.9169 | F28: 128697.31 | G28: 28346.513 | H28: 165022.06 | I28: 143739.76 | J28: 9237.9835 | K28: 90.782849 | L28: 9556.8521 | M28: 84386.691 | N28: 569077.96 | O28: 4932.7633 | P28: 5373.6786 | Q28: 598552.62 | R28: 167232.98 | S28: 1035646.9 | T28: 868443.53 | U28: 21550.896 | V28: 77.410308 | W28: 83518.523 | X28: 281725.73 | Y28: 3056748.6 | Z28: 23774.757 | AA28: 1875.8716 | AB28: 272587.44 | AC28: 59557.66 | AD28: 396820.07 | AE28: 174882.94 | AF28: 8120.6949 | AG28: 22.641323 | AH28: 19484.838 | AI28: 105491.17 | AJ28: 1036967.5 | AK28: 8421.4237
A29: Medium
A30: 41-140 Years | B30: 5965.148 | C30: 2075473.9 | D30: 24501.372 | E30: 984.56746 | F30: 74752.934 | G30: 17117.83 | H30: 96016.737 | I30: 118011.26 | J30: 292.92202 | K30: 2627.7012 | L30: 0 | M30: 41436.016 | N30: 350255.4 | O30: 3917.1661 | P30: 4044.786 | Q30: 379437.62 | R30: 61954.816 | S30: 399565.64 | T30: 455366.45 | U30: 10277.524 | V30: 4113.0121 | W30: 223.17539 | X30: 127015 | Y30: 1437953.2 | Z30: 16718.835 | AA30: 935.79451 | AB30: 93090.709 | AC30: 19454.851 | AD30: 80167.825 | AE30: 51146.242 | AF30: 3931.9652 | AG30: 917.87137 | AH30: 0 | AI30: 38555.832 | AJ30: 287265.3 | AK30: 3865.3714
A31: 141+ Years | B31: 2575.4739 | C31: 1549395.5 | D31: 10223.543 | E31: 218.9824 | F31: 13564.278 | G31: 3521.1254 | H31: 31146.813 | I31: 67976.89 | J31: 0 | K31: 7703.3613 | L31: 102.16104 | M31: 156.3926 | N31: 124171.02 | O31: 769.64534 | P31: 1327.7063 | Q31: 146699.65 | R31: 42690.028 | S31: 316480.35 | T31: 313626.72 | U31: 1536.664 | V31: 16729.786 | W31: 1018.9671 | X31: 990.55006 | Y31: 839772.71 | Z31: 5364.2734 | AA31: 1028.7852 | AB31: 142443.29 | AC31: 41266.171 | AD31: 253853.97 | AE31: 141701.83 | AF31: 433.40268 | AG31: 3976.1639 | AH31: 0 | AI31: 1776.8957 | AJ31: 585451.73 | AK31: 4089.6244
A32: Medium Total | B32: 8540.6219 | C32: 3624869.4 | D32: 34724.916 | E32: 1203.5499 | F32: 88317.213 | G32: 20638.955 | H32: 127163.55 | I32: 185988.15 | J32: 292.92202 | K32: 10331.062 | L32: 102.16104 | M32: 41592.409 | N32: 474426.42 | O32: 4686.8114 | P32: 5372.4923 | Q32: 526137.27 | R32: 104644.84 | S32: 716045.99 | T32: 768993.17 | U32: 11814.188 | V32: 20842.798 | W32: 1242.1425 | X32: 128005.55 | Y32: 2277726 | Z32: 22083.108 | AA32: 1964.5798 | AB32: 235534 | AC32: 60721.023 | AD32: 334021.8 | AE32: 192848.08 | AF32: 4365.3679 | AG32: 4894.0353 | AH32: 0 | AI32: 40332.727 | AJ32: 872717.02 | AK32: 7954.9958
A33: Poor
A34: 41-140 Years | B34: 2001.834 | C34: 398773.62 | D34: 6266.9589 | E34: 228.29264 | F34: 16014.315 | G34: 2093.5642 | H34: 899.65945 | I34: 10249.439 | J34: 4797.9099 | K34: 769.993 | L34: 41.208835 | M34: 2317.8899 | N34: 37183.98 | O34: 703.86119 | P34: 1505.8543 | Q34: 198923.46 | R34: 3311.5098 | S34: 4857.4479 | T34: 39606.287 | U34: 61236.424 | V34: 2985.6142 | W34: 594.09813 | X34: 11196.267 | Y34: 322711.11 | Z34: 4757.601 | AA34: 267.68707 | AB34: 26811.097 | AC34: 290.93267 | AD34: 1707.8131 | AE34: 3266.4618 | AF34: 4825.1579 | AG34: 287.44318 | AH34: 322.19782 | AI34: 1367.4197 | AJ34: 38878.524 | AK34: 805.49672
A35: 141+ Years | B35: 1540.0758 | C35: 538138.93 | D35: 4787.3005 | E35: 161.23418 | F35: 8583.5451 | G35: 274.56841 | H35: 5442.1936 | I35: 30419.866 | J35: 456.10298 | K35: 11755.259 | L35: 88.510618 | M35: 92.024659 | N35: 57112.071 | O35: 473.88932 | P35: 1164.3178 | Q35: 188342.51 | R35: 11162.077 | S35: 41905.108 | T35: 112572.49 | U35: 6515.925 | V35: 53774.392 | W35: 98.350404 | X35: 1369.0756 | Y35: 415739.93 | Z35: 3679.6999 | AA35: 214.52381 | AB35: 42467.165 | AC35: 881.40936 | AD35: 4038.1388 | AE35: 10745.023 | AF35: 627.55736 | AG35: 6182.2874 | AH35: 0 | AI35: 345.34997 | AJ35: 65286.931 | AK35: 633.71121
A36: Poor Total | B36: 3541.9098 | C36: 936912.55 | D36: 11054.259 | E36: 389.52683 | F36: 24597.861 | G36: 2368.1326 | H36: 6341.8531 | I36: 40669.305 | J36: 5254.0129 | K36: 12525.252 | L36: 129.71945 | M36: 2409.9146 | N36: 94296.051 | O36: 1177.7505 | P36: 2670.1721 | Q36: 387265.97 | R36: 14473.587 | S36: 46762.556 | T36: 152178.78 | U36: 67752.349 | V36: 56760.007 | W36: 692.44854 | X36: 12565.343 | Y36: 738451.04 | Z36: 8437.3009 | AA36: 482.21088 | AB36: 69278.262 | AC36: 1172.342 | AD36: 5745.9518 | AE36: 14011.485 | AF36: 5452.7153 | AG36: 6469.7306 | AH36: 322.19782 | AI36: 1712.7696 | AJ36: 104165.45 | AK36: 1439.2079
A37: First Nations District Area Total | B37: 20389.999 | C37: 9224576 | D37: 82908.119 | E37: 2650.9936 | F37: 241612.38 | G37: 51353.601 | H37: 298527.46 | I37: 370397.22 | J37: 14784.918 | K37: 22947.098 | L37: 9788.7326 | M37: 128389.01 | N37: 1137800.4 | O37: 10797.325 | P37: 13416.343 | Q37: 1511955.9 | R37: 286351.41 | S37: 1798455.5 | T37: 1789615.5 | U37: 101117.43 | V37: 77680.215 | W37: 85453.114 | X37: 422296.62 | Y37: 6072925.6 | Z37: 54295.166 | AA37: 4322.6623 | AB37: 577399.7 | AC37: 121451.03 | AD37: 736587.82 | AE37: 381742.5 | AF37: 17938.778 | AG37: 11386.407 | AH37: 19807.036 | AI37: 147536.66 | AJ37: 2013849.9 | AK37: 17815.627
A38: Lakeside Pacific Forest Products
A39: Good
A40: 41-140 Years | B40: 6759.917 | C40: 2319765.1 | D40: 30592.219 | E40: 1035.3703 | F40: 156837.66 | G40: 34226.032 | H40: 87534.828 | I40: 52740.71 | J40: 6301.2807 | K40: 0 | L40: 1686.1441 | M40: 46492.188 | N40: 385818.84 | O40: 4730.6917 | P40: 4745.801 | Q40: 699503.16 | R40: 149292 | S40: 431633.53 | T40: 157825.26 | U40: 28460.779 | V40: 0 | W40: 9320.853 | X40: 156979.01 | Y40: 1633014.6 | Z40: 21250.601 | AA40: 978.74572 | AB40: 151748.43 | AC40: 18674.165 | AD40: 73574.373 | AE40: 36047.632 | AF40: 1736.1445 | AG40: 0 | AH40: 1117.831 | AI40: 18033.064 | AJ40: 300931.63 | AK40: 4610.9265
A41: 141+ Years | B41: 4800.062 | C41: 3450779.7 | D41: 20414.59 | E41: 375.33431 | F41: 31614.454 | G41: 10455.447 | H41: 100967.78 | I41: 102773.51 | J41: 777.19087 | K41: 0 | L41: 22593.605 | M41: 2998.6502 | N41: 272180.63 | O41: 1686.292 | P41: 3174.084 | Q41: 361786.81 | R41: 146580.19 | S41: 876525.7 | T41: 766376.83 | U41: 3090.7943 | V41: 80.68008 | W41: 135436.24 | X41: 10262.892 | Y41: 2300140.1 | Z41: 13658.568 | AA41: 1250.6437 | AB41: 161919.3 | AC41: 126065.03 | AD41: 349139.57 | AE41: 196940.86 | AF41: 369.61124 | AG41: 345.22108 | AH41: 41975.104 | AI41: 1704.2763 | AJ41: 878458.97 | AK41: 5069.7305
A42: Good Total | B42: 11559.979 | C42: 5770544.8 | D42: 51006.809 | E42: 1410.7046 | F42: 188452.11 | G42: 44681.479 | H42: 188502.61 | I42: 155514.22 | J42: 7078.4716 | K42: 0 | L42: 24279.75 | M42: 49490.838 | N42: 657999.47 | O42: 6416.9838 | P42: 7919.885 | Q42: 1061290 | R42: 295872.19 | S42: 1308159.2 | T42: 924202.09 | U42: 31551.574 | V42: 80.68008 | W42: 144757.1 | X42: 167241.91 | Y42: 3933154.7 | Z42: 34909.169 | AA42: 2229.3894 | AB42: 313667.72 | AC42: 144739.2 | AD42: 422713.94 | AE42: 232988.49 | AF42: 2105.7557 | AG42: 345.22108 | AH42: 43092.935 | AI42: 19737.34 | AJ42: 1179390.6 | AK42: 9680.657
A43: Medium
A44: 41-140 Years | B44: 0.20071696 | C44: 60.474614 | D44: 0.87572809 | E44: 0.13680643 | F44: 0 | G44: 0 | H44: 10.301387 | I44: 30.917432 | J44: 0 | K44: 0 | L44: 0 | M44: 0 | N44: 41.218819 | O44: 0.59688644 | P44: 0.063910531 | Q44: 0 | R44: 0 | S44: 4.812399 | T44: 14.443396 | U44: 0 | V44: 0 | W44: 0 | X44: 0 | Y44: 19.255796 | Z44: 0.27884165 | AA44: 0 | AB44: 0 | AC44: 0 | AD44: 0 | AE44: 0 | AF44: 0 | AG44: 0 | AH44: 0 | AI44: 0 | AJ44: 0 | AK44: 0
A45: 141+ Years | B45: 26.095012 | C45: 17647.497 | D45: 113.99889 | E45: 4.4396107 | F45: 0 | G45: 120.32089 | H45: 1183.6323 | I45: 987.62722 | J45: 0 | K45: 0 | L45: 238.61137 | M45: 0 | N45: 2530.1918 | O45: 19.370022 | P45: 17.353931 | Q45: 0 | R45: 80.348997 | S45: 4417.9718 | T45: 5922.7616 | U45: 0 | V45: 0 | W45: 2026.176 | X45: 0 | Y45: 12447.258 | Z45: 75.861549 | AA45: 4.3014704 | AB45: 0 | AC45: 2.1941506 | AD45: 1168.6835 | AE45: 1077.6557 | AF45: 0 | AG45: 0 | AH45: 421.51322 | AI45: 0 | AJ45: 2670.0466 | AK45: 18.767315
A46: Medium Total | B46: 26.295729 | C46: 17707.971 | D46: 114.87461 | E46: 4.5764172 | F46: 0 | G46: 120.32089 | H46: 1193.9337 | I46: 1018.5446 | J46: 0 | K46: 0 | L46: 238.61137 | M46: 0 | N46: 2571.4106 | O46: 19.966908 | P46: 17.417841 | Q46: 0 | R46: 80.348997 | S46: 4422.7842 | T46: 5937.205 | U46: 0 | V46: 0 | W46: 2026.176 | X46: 0 | Y46: 12466.514 | Z46: 76.140391 | AA46: 4.3014704 | AB46: 0 | AC46: 2.1941506 | AD46: 1168.6835 | AE46: 1077.6557 | AF46: 0 | AG46: 0 | AH46: 421.51322 | AI46: 0 | AJ46: 2670.0466 | AK46: 18.767315
A47: Poor
A48: 41-140 Years | B48: 0 | C48: 0 | D48: 0 | E48: 0 | F48: 0 | G48: 0 | H48: 0 | I48: 0 | J48: 0 | K48: 0 | L48: 0 | M48: 0 | N48: 0 | O48: 0 | P48: 0 | Q48: 0 | R48: 0 | S48: 0 | T48: 0 | U48: 0 | V48: 0 | W48: 0 | X48: 0 | Y48: 0 | Z48: 0 | AA48: 0 | AB48: 0 | AC48: 0 | AD48: 0 | AE48: 0 | AF48: 0 | AG48: 0 | AH48: 0 | AI48: 0 | AJ48: 0 | AK48: 0
A49: 141+ Years | B49: 0 | C49: 0 | D49: 0 | E49: 0 | F49: 0 | G49: 0 | H49: 0 | I49: 0 | J49: 0 | K49: 0 | L49: 0 | M49: 0 | N49: 0 | O49: 0 | P49: 0 | Q49: 0 | R49: 0 | S49: 0 | T49: 0 | U49: 0 | V49: 0 | W49: 0 | X49: 0 | Y49: 0 | Z49: 0 | AA49: 0 | AB49: 0 | AC49: 0 | AD49: 0 | AE49: 0 | AF49: 0 | AG49: 0 | AH49: 0 | AI49: 0 | AJ49: 0 | AK49: 0
A50: Poor Total | B50: 0 | C50: 0 | D50: 0 | E50: 0 | F50: 0 | G50: 0 | H50: 0 | I50: 0 | J50: 0 | K50: 0 | L50: 0 | M50: 0 | N50: 0 | O50: 0 | P50: 0 | Q50: 0 | R50: 0 | S50: 0 | T50: 0 | U50: 0 | V50: 0 | W50: 0 | X50: 0 | Y50: 0 | Z50: 0 | AA50: 0 | AB50: 0 | AC50: 0 | AD50: 0 | AE50: 0 | AF50: 0 | AG50: 0 | AH50: 0 | AI50: 0 | AJ50: 0 | AK50: 0
A51: Lakeside Pacific Forest Products Total | B51: 11586.275 | C51: 5788252.8 | D51: 51121.684 | E51: 1415.281 | F51: 188452.11 | G51: 44801.8 | H51: 189696.54 | I51: 156532.76 | J51: 7078.4716 | K51: 0 | L51: 24518.361 | M51: 49490.838 | N51: 660570.88 | O51: 6436.9507 | P51: 7937.3028 | Q51: 1061290 | R51: 295952.54 | S51: 1312582 | T51: 930139.29 | U51: 31551.574 | V51: 80.68008 | W51: 146783.27 | X51: 167241.91 | Y51: 3945621.2 | Z51: 34985.309 | AA51: 2233.6909 | AB51: 313667.72 | AC51: 144741.39 | AD51: 423882.62 | AE51: 234066.15 | AF51: 2105.7557 | AG51: 345.22108 | AH51: 43514.448 | AI51: 19737.34 | AJ51: 1182060.7 | AK51: 9699.4244
A52: Probyn Log Ltd
A53: Good
A54: 41-140 Years | B54: 413.90162 | C54: 149550.07 | D54: 1536.4028 | E54: 77.423825 | F54: 6872.6245 | G54: 3814.7414 | H54: 8418.4481 | I54: 1868.5003 | J54: 0 | K54: 0 | L54: 94.03627 | M54: 7165.9667 | N54: 28234.317 | O54: 287.39724 | P54: 300.67602 | Q54: 51561.77 | R54: 10535.938 | S54: 22170.026 | T54: 3634.0996 | U54: 150.26203 | V54: 0 | W54: 109.90592 | X54: 23666.297 | Y54: 111828.3 | Z54: 1116.1094 | AA54: 35.801772 | AB54: 5056.5757 | AC54: 583.97582 | AD54: 1388.1979 | AE54: 441.42293 | AF54: 14.673769 | AG54: 0 | AH54: 14.00498 | AI54: 1988.6001 | AJ54: 9487.4512 | AK54: 132.89618
A55: 141+ Years | B55: 194.74555 | C55: 170215.65 | D55: 722.89547 | E55: 27.955995 | F55: 1015.6523 | G55: 158.64841 | H55: 8534.1096 | I55: 9662.3061 | J55: 0 | K55: 0 | L55: 1149.4628 | M55: 0.4428287 | N55: 20520.622 | O55: 103.77265 | P55: 103.4208 | Q55: 13528.841 | R55: 2952.5167 | S55: 33368.78 | T55: 34827.787 | U55: 0 | V55: 0 | W55: 8285.8236 | X55: 0 | Y55: 92963.748 | Z55: 383.89802 | AA55: 63.368749 | AB55: 10858.022 | AC55: 2425.8592 | AD55: 17464.37 | AE55: 16693.553 | AF55: 0 | AG55: 0 | AH55: 9289.476 | AI55: 0 | AJ55: 56731.28 | AK55: 235.2248
A56: Good Total | B56: 608.64716 | C56: 319765.72 | D56: 2259.2983 | E56: 105.37982 | F56: 7888.2768 | G56: 3973.3898 | H56: 16952.558 | I56: 11530.806 | J56: 0 | K56: 0 | L56: 1243.499 | M56: 7166.4096 | N56: 48754.939 | O56: 391.16989 | P56: 404.09682 | Q56: 65090.611 | R56: 13488.455 | S56: 55538.806 | T56: 38461.886 | U56: 150.26203 | V56: 0 | W56: 8395.7295 | X56: 23666.297 | Y56: 204792.05 | Z56: 1500.0074 | AA56: 99.170521 | AB56: 15914.598 | AC56: 3009.8351 | AD56: 18852.568 | AE56: 17134.976 | AF56: 14.673769 | AG56: 0 | AH56: 9303.481 | AI56: 1988.6001 | AJ56: 66218.732 | AK56: 368.12097
A57: Medium
A58: 41-140 Years | B58: 0 | C58: 0 | D58: 0 | E58: 0 | F58: 0 | G58: 0 | H58: 0 | I58: 0 | J58: 0 | K58: 0 | L58: 0 | M58: 0 | N58: 0 | O58: 0 | P58: 0 | Q58: 0 | R58: 0 | S58: 0 | T58: 0 | U58: 0 | V58: 0 | W58: 0 | X58: 0 | Y58: 0 | Z58: 0 | AA58: 0 | AB58: 0 | AC58: 0 | AD58: 0 | AE58: 0 | AF58: 0 | AG58: 0 | AH58: 0 | AI58: 0 | AJ58: 0 | AK58: 0
A59: 141+ Years | B59: 0 | C59: 0 | D59: 0 | E59: 0 | F59: 0 | G59: 0 | H59: 0 | I59: 0 | J59: 0 | K59: 0 | L59: 0 | M59: 0 | N59: 0 | O59: 0 | P59: 0 | Q59: 0 | R59: 0 | S59: 0 | T59: 0 | U59: 0 | V59: 0 | W59: 0 | X59: 0 | Y59: 0 | Z59: 0 | AA59: 0 | AB59: 0 | AC59: 0 | AD59: 0 | AE59: 0 | AF59: 0 | AG59: 0 | AH59: 0 | AI59: 0 | AJ59: 0 | AK59: 0
A60: Medium Total | B60: 0 | C60: 0 | D60: 0 | E60: 0 | F60: 0 | G60: 0 | H60: 0 | I60: 0 | J60: 0 | K60: 0 | L60: 0 | M60: 0 | N60: 0 | O60: 0 | P60: 0 | Q60: 0 | R60: 0 | S60: 0 | T60: 0 | U60: 0 | V60: 0 | W60: 0 | X60: 0 | Y60: 0 | Z60: 0 | AA60: 0 | AB60: 0 | AC60: 0 | AD60: 0 | AE60: 0 | AF60: 0 | AG60: 0 | AH60: 0 | AI60: 0 | AJ60: 0 | AK60: 0
A61: Poor
A62: 41-140 Years | B62: 0 | C62: 0 | D62: 0 | E62: 0 | F62: 0 | G62: 0 | H62: 0 | I62: 0 | J62: 0 | K62: 0 | L62: 0 | M62: 0 | N62: 0 | O62: 0 | P62: 0 | Q62: 0 | R62: 0 | S62: 0 | T62: 0 | U62: 0 | V62: 0 | W62: 0 | X62: 0 | Y62: 0 | Z62: 0 | AA62: 0 | AB62: 0 | AC62: 0 | AD62: 0 | AE62: 0 | AF62: 0 | AG62: 0 | AH62: 0 | AI62: 0 | AJ62: 0 | AK62: 0
A63: 141+ Years | B63: 0 | C63: 0 | D63: 0 | E63: 0 | F63: 0 | G63: 0 | H63: 0 | I63: 0 | J63: 0 | K63: 0 | L63: 0 | M63: 0 | N63: 0 | O63: 0 | P63: 0 | Q63: 0 | R63: 0 | S63: 0 | T63: 0 | U63: 0 | V63: 0 | W63: 0 | X63: 0 | Y63: 0 | Z63: 0 | AA63: 0 | AB63: 0 | AC63: 0 | AD63: 0 | AE63: 0 | AF63: 0 | AG63: 0 | AH63: 0 | AI63: 0 | AJ63: 0 | AK63: 0
A64: Poor Total | B64: 0 | C64: 0 | D64: 0 | E64: 0 | F64: 0 | G64: 0 | H64: 0 | I64: 0 | J64: 0 | K64: 0 | L64: 0 | M64: 0 | N64: 0 | O64: 0 | P64: 0 | Q64: 0 | R64: 0 | S64: 0 | T64: 0 | U64: 0 | V64: 0 | W64: 0 | X64: 0 | Y64: 0 | Z64: 0 | AA64: 0 | AB64: 0 | AC64: 0 | AD64: 0 | AE64: 0 | AF64: 0 | AG64: 0 | AH64: 0 | AI64: 0 | AJ64: 0 | AK64: 0
A65: Probyn Log Ltd Total | B65: 608.64716 | C65: 319765.72 | D65: 2259.2983 | E65: 105.37982 | F65: 7888.2768 | G65: 3973.3898 | H65: 16952.558 | I65: 11530.806 | J65: 0 | K65: 0 | L65: 1243.499 | M65: 7166.4096 | N65: 48754.939 | O65: 391.16989 | P65: 404.09682 | Q65: 65090.611 | R65: 13488.455 | S65: 55538.806 | T65: 38461.886 | U65: 150.26203 | V65: 0 | W65: 8395.7295 | X65: 23666.297 | Y65: 204792.05 | Z65: 1500.0074 | AA65: 99.170521 | AB65: 15914.598 | AC65: 3009.8351 | AD65: 18852.568 | AE65: 17134.976 | AF65: 14.673769 | AG65: 0 | AH65: 9303.481 | AI65: 1988.6001 | AJ65: 66218.732 | AK65: 368.12097
A66: Teal Cedar Products
A67: Good
A68: 41-140 Years | B68: 8923.2823 | C68: 3922146.3 | D68: 46034.174 | E68: 2166.3431 | F68: 209533.98 | G68: 95995.464 | H68: 408719.15 | I68: 217552.98 | J68: 742.1595 | K68: 984.15768 | L68: 11499.457 | M68: 92610.645 | N68: 1037638 | O68: 10977.317 | P68: 6233.1143 | Q68: 569731.34 | R68: 249058.77 | S68: 1049156.2 | T68: 585396.89 | U68: 2583.8512 | V68: 924.93833 | W68: 27443.611 | X68: 162628.18 | Y68: 2646923.8 | Z68: 32504.495 | AA68: 523.82491 | AB68: 74495.717 | AC68: 22728.14 | AD68: 112005.39 | AE68: 15113.696 | AF68: 142.86838 | AG68: 0 | AH68: 3452.22 | AI68: 9646.4488 | AJ68: 237584.48 | AK68: 2552.3625
A69: 141+ Years | B69: 3748.3057 | C69: 3092168.2 | D69: 17587.17 | E69: 280.00385 | F69: 10369.511 | G69: 7213.3836 | H69: 73180.813 | I69: 76975.821 | J69: 0 | K69: 0 | L69: 30137.212 | M69: 527.57547 | N69: 198404.32 | O69: 1403.9277 | P69: 2503.6586 | Q69: 174211.24 | R69: 95391.796 | S69: 751609.29 | T69: 942264.38 | U69: 575.04635 | V69: 0 | W69: 112489.01 | X69: 465.51913 | Y69: 2077006.3 | Z69: 11936.06 | AA69: 964.64323 | AB69: 160787.29 | AC69: 44065.824 | AD69: 277730.08 | AE69: 281059.16 | AF69: 2262.1358 | AG69: 0 | AH69: 50458.821 | AI69: 394.26946 | AJ69: 816757.58 | AK69: 4247.1832
A70: Good Total | B70: 12671.588 | C70: 7014314.5 | D70: 63621.344 | E70: 2446.347 | F70: 219903.5 | G70: 103208.85 | H70: 481899.96 | I70: 294528.8 | J70: 742.1595 | K70: 984.15768 | L70: 41636.669 | M70: 93138.221 | N70: 1236042.3 | O70: 12381.244 | P70: 8736.7729 | Q70: 743942.58 | R70: 344450.57 | S70: 1800765.5 | T70: 1527661.3 | U70: 3158.8975 | V70: 924.93833 | W70: 139932.62 | X70: 163093.7 | Y70: 4723930.1 | Z70: 44440.554 | AA70: 1488.4681 | AB70: 235283.01 | AC70: 66793.964 | AD70: 389735.47 | AE70: 296172.86 | AF70: 2405.0042 | AG70: 0 | AH70: 53911.041 | AI70: 10040.718 | AJ70: 1054342.1 | AK70: 6799.5457
A71: Medium
A72: 41-140 Years | B72: 7783.948 | C72: 3026039.4 | D72: 31278.57 | E72: 1443.8528 | F72: 128738.08 | G72: 56507.087 | H72: 227366.7 | I72: 72809.891 | J72: 430.3652 | K72: 4618.7658 | L72: 1397.8132 | M72: 156975.24 | N72: 648843.94 | O72: 5727.4696 | P72: 5233.1198 | Q72: 509956.2 | R72: 189128.04 | S72: 807938.52 | T72: 307460.77 | U72: 6174.898 | V72: 22415.244 | W72: 5354.8412 | X72: 134525.25 | Y72: 1982953.7 | Z72: 21426.07 | AA72: 1106.9753 | AB72: 152238.07 | AC72: 61875.27 | AD72: 134439.79 | AE72: 19920.677 | AF72: 2213.9827 | AG72: 1261.3485 | AH72: 1755.7014 | AI72: 20536.903 | AJ72: 394241.75 | AK72: 4125.0307
A73: 141+ Years | B73: 4914.8694 | C73: 3415146.1 | D73: 18575.816 | E73: 460.94697 | F73: 16334.567 | G73: 23522.956 | H73: 128645.61 | I73: 143031.48 | J73: 48.015496 | K73: 3963.9653 | L73: 10025.94 | M73: 43.731088 | N73: 325616.27 | O73: 1862.8368 | P73: 2980.3717 | Q73: 127271.42 | R73: 239187.8 | S73: 959092.19 | T73: 751703.6 | U73: 367.63647 | V73: 6528.513 | W73: 72442.858 | X73: 795.08339 | Y73: 2157389.1 | Z73: 11454.814 | AA73: 1473.5508 | AB73: 146438.94 | AC73: 223908.94 | AD73: 367750.75 | AE73: 151251.49 | AF73: 132.24251 | AG73: 382.82161 | AH73: 42051.034 | AI73: 224.4717 | AJ73: 932140.7 | AK73: 5258.1659
A74: Medium Total | B74: 12698.817 | C74: 6441185.5 | D74: 49854.387 | E74: 1904.7998 | F74: 145072.65 | G74: 80030.043 | H74: 356012.31 | I74: 215841.37 | J74: 478.38069 | K74: 8582.7311 | L74: 11423.753 | M74: 157018.97 | N74: 974460.21 | O74: 7590.3064 | P74: 8213.4915 | Q74: 637227.62 | R74: 428315.83 | S74: 1767030.7 | T74: 1059164.4 | U74: 6542.5345 | V74: 28943.757 | W74: 77797.699 | X74: 135320.33 | Y74: 4140342.8 | Z74: 32880.884 | AA74: 2580.5261 | AB74: 298677.02 | AC74: 285784.21 | AD74: 502190.55 | AE74: 171172.17 | AF74: 2346.2252 | AG74: 1644.1701 | AH74: 43806.735 | AI74: 20761.375 | AJ74: 1326382.4 | AK74: 9383.1966
A75: Poor
A76: 41-140 Years | B76: 6232.0226 | C76: 1334503.8 | D76: 17041.559 | E76: 1994.0076 | F76: 129562.77 | G76: 19265.912 | H76: 23261.015 | I76: 144974.56 | J76: 49241.524 | K76: 46123.999 | L76: 50.145018 | M76: 9965.5348 | N76: 422445.45 | O76: 5362.5053 | P76: 4122.3246 | Q76: 354841.54 | R76: 21700.7 | S76: 36494.281 | T76: 207245.75 | U76: 165947.44 | V76: 84316.939 | W76: 78.604683 | X76: 16675.176 | Y76: 887300.43 | Z76: 11355.325 | AA76: 115.69035 | AB76: 11691.201 | AC76: 1081.2657 | AD76: 758.64066 | AE76: 4253.9995 | AF76: 4694.7253 | AG76: 1939.8252 | AH76: 0 | AI76: 338.29501 | AJ76: 24757.952 | AK76: 323.72919
A77: 141+ Years | B77: 6849.1605 | C77: 2978013.9 | D77: 19209.122 | E77: 1697.9675 | F77: 189777.9 | G77: 25382.115 | H77: 88712.166 | I77: 220941.22 | J77: 28318.722 | K77: 147771.44 | L77: 384.55668 | M77: 2168.4176 | N77: 703456.54 | O77: 4683.377 | P77: 4725.465 | Q77: 562742.73 | R77: 70691.378 | S77: 300389.06 | T77: 686654.77 | U77: 62303 | V77: 380345.5 | W77: 5837.6309 | X77: 2427.4021 | Y77: 2071391.5 | Z77: 13347.198 | AA77: 425.72799 | AB77: 64241.654 | AC77: 6039.4789 | AD77: 42745.7 | AE77: 58367.485 | AF77: 11449.045 | AG77: 19637.958 | AH77: 650.83041 | AI77: 33.705125 | AJ77: 203165.86 | AK77: 1178.5468
A78: Poor Total | B78: 13081.183 | C78: 4312517.7 | D78: 36250.681 | E78: 3691.9751 | F78: 319340.67 | G78: 44648.027 | H78: 111973.18 | I78: 365915.78 | J78: 77560.246 | K78: 193895.44 | L78: 434.70169 | M78: 12133.952 | N78: 1125902 | O78: 10045.882 | P78: 8847.7896 | Q78: 917584.27 | R78: 92392.077 | S78: 336883.34 | T78: 893900.52 | U78: 228250.44 | V78: 464662.44 | W78: 5916.2356 | X78: 19102.578 | Y78: 2958691.9 | Z78: 24702.523 | AA78: 541.41834 | AB78: 75932.855 | AC78: 7120.7446 | AD78: 43504.341 | AE78: 62621.484 | AF78: 16143.77 | AG78: 21577.783 | AH78: 650.83041 | AI78: 372.00014 | AJ78: 227923.81 | AK78: 1502.276
A79: Teal Cedar Products Total | B79: 38451.588 | C79: 17768018 | D79: 149726.41 | E79: 8043.1219 | F79: 684316.81 | G79: 227886.92 | H79: 949885.45 | I79: 876285.94 | J79: 78780.786 | K79: 203462.33 | L79: 53495.124 | M79: 262291.15 | N79: 3336404.5 | O79: 30017.433 | P79: 25798.054 | Q79: 2298754.5 | R79: 865158.48 | S79: 3904679.6 | T79: 3480726.2 | U79: 237951.87 | V79: 494531.14 | W79: 223646.56 | X79: 317516.6 | Y79: 11822965 | Z79: 102023.96 | AA79: 4610.4126 | AB79: 609892.88 | AC79: 359698.92 | AD79: 935430.36 | AE79: 529966.51 | AF79: 20895 | AG79: 23221.954 | AH79: 98368.607 | AI79: 31174.093 | AJ79: 2608648.3 | AK79: 17685.018
A80: Western Canadian Timber Products Partnership
A81: Good
A82: 41-140 Years | B82: 10286.773 | C82: 4229027.2 | D82: 49583.864 | E82: 2117.2539 | F82: 303739.15 | G82: 81202.228 | H82: 327757.31 | I82: 95894.626 | J82: 5807.3512 | K82: 1570.588 | L82: 3542.7877 | M82: 135966.52 | N82: 955480.56 | O82: 10243.469 | P82: 6823.8548 | Q82: 996555.31 | R82: 167352.24 | S82: 803777.33 | T82: 355946.72 | U82: 20167.243 | V82: 10829.571 | W82: 16457.369 | X82: 324645.68 | Y82: 2695731.5 | Z82: 32892.225 | AA82: 1345.6639 | AB82: 304513.76 | AC82: 26071.389 | AD82: 165213.37 | AE82: 33581.911 | AF82: 5696.2287 | AG82: 98.762978 | AH82: 795.97503 | AI82: 41843.825 | AJ82: 577815.23 | AK82: 6448.1703
A83: 141+ Years | B83: 4436.2561 | C83: 3105324.9 | D83: 19983.968 | E83: 586.57697 | F83: 147322.53 | G83: 39668.567 | H83: 99782.689 | I83: 68185.768 | J83: 4907.0459 | K83: 220.55513 | L83: 6282.6243 | M83: 5206.2902 | N83: 371576.07 | O83: 2627.1696 | P83: 2751.7834 | Q83: 443500.88 | R83: 123131.58 | S83: 672367 | T83: 574838.63 | U83: 3299.3546 | V83: 1784.0613 | W83: 67682.82 | X83: 6487.6459 | Y83: 1893092 | Z83: 12563.843 | AA83: 1097.8958 | AB83: 187890.96 | AC83: 81236.877 | AD83: 307519.27 | AE83: 233442.4 | AF83: 800.10813 | AG83: 433.72588 | AH83: 28400.529 | AI83: 932.99853 | AJ83: 840656.87 | AK83: 4792.9561
A84: Good Total | B84: 14723.029 | C84: 7334352.1 | D84: 69567.833 | E84: 2703.8309 | F84: 451061.68 | G84: 120870.79 | H84: 427540 | I84: 164080.39 | J84: 10714.397 | K84: 1791.1431 | L84: 9825.412 | M84: 141172.81 | N84: 1327056.6 | O84: 12870.639 | P84: 9575.6383 | Q84: 1440056.2 | R84: 290483.81 | S84: 1476144.3 | T84: 930785.34 | U84: 23466.598 | V84: 12613.632 | W84: 84140.188 | X84: 331133.33 | Y84: 4588823.4 | Z84: 45456.068 | AA84: 2443.5597 | AB84: 492404.72 | AC84: 107308.27 | AD84: 472732.64 | AE84: 267024.31 | AF84: 6496.3369 | AG84: 532.48886 | AH84: 29196.504 | AI84: 42776.823 | AJ84: 1418472.1 | AK84: 11241.126
A85: Medium
A86: 41-140 Years | B86: 4735.1574 | C86: 1468723.3 | D86: 19286.645 | E86: 714.78535 | F86: 79344.098 | G86: 9711.5221 | H86: 55961.796 | I86: 82214.004 | J86: 1852.6114 | K86: 2428.9057 | L86: 11.157192 | M86: 17776.125 | N86: 249300.22 | O86: 2928.3603 | P86: 3326.286 | Q86: 520061.96 | R86: 48463.508 | S86: 244855.19 | T86: 158997.07 | U86: 4979.9717 | V86: 5467.6615 | W86: 117.95144 | X86: 46116.836 | Y86: 1029060.1 | Z86: 13619.339 | AA86: 694.08602 | AB86: 116887.98 | AC86: 8315.3892 | AD86: 42299.631 | AE86: 18702.709 | AF86: 194.33044 | AG86: 224.76019 | AH86: 31.717705 | AI86: 3706.4278 | AJ86: 190362.95 | AK86: 2738.9455
A87: 141+ Years | B87: 2462.4146 | C87: 1635663.8 | D87: 10106.461 | E87: 394.01178 | F87: 9581.3423 | G87: 12312.915 | H87: 86310.524 | I87: 156507.41 | J87: 0 | K87: 25093.057 | L87: 935.02206 | M87: 7.1502268 | N87: 290747.42 | O87: 1619.119 | P87: 1700.5134 | Q87: 126030.78 | R87: 45812.567 | S87: 398531.43 | T87: 515181.82 | U87: 699.41373 | V87: 31064.653 | W87: 8229.2752 | X87: 486.03007 | Y87: 1126036 | Z87: 6988.8456 | AA87: 367.88948 | AB87: 48107.875 | AC87: 10560.903 | AD87: 80717 | AE87: 77814.788 | AF87: 387.81477 | AG87: 627.66942 | AH87: 356.9585 | AI87: 307.40026 | AJ87: 218880.41 | AK87: 1498.4963
A88: Medium Total | B88: 7197.572 | C88: 3104387.1 | D88: 29393.106 | E88: 1108.7971 | F88: 88925.44 | G88: 22024.438 | H88: 142272.32 | I88: 238721.42 | J88: 1852.6114 | K88: 27521.963 | L88: 946.17925 | M88: 17783.275 | N88: 540047.64 | O88: 4547.4793 | P88: 5026.7993 | Q88: 646092.74 | R88: 94276.075 | S88: 643386.62 | T88: 674178.89 | U88: 5679.3855 | V88: 36532.315 | W88: 8347.2267 | X88: 46602.866 | Y88: 2155096.1 | Z88: 20608.185 | AA88: 1061.9755 | AB88: 164995.86 | AC88: 18876.293 | AD88: 123016.63 | AE88: 96517.496 | AF88: 582.14521 | AG88: 852.42961 | AH88: 388.6762 | AI88: 4013.8281 | AJ88: 409243.36 | AK88: 4237.4418
A89: Poor
A90: 41-140 Years | B90: 2115.9755 | C90: 397056.28 | D90: 7011.7855 | E90: 511.52316 | F90: 46830.168 | G90: 4048.8981 | H90: 18509.272 | I90: 5147.3181 | J90: 23342.266 | K90: 125.96019 | L90: 12.59942 | M90: 7400.2839 | N90: 105416.77 | O90: 1737.5871 | P90: 1414.6287 | Q90: 133839.98 | R90: 5660.4328 | S90: 27556.49 | T90: 20501.632 | U90: 70452.566 | V90: 1145.7151 | W90: 146.19586 | X90: 3467.7003 | Y90: 262770.71 | Z90: 4641.437 | AA90: 189.82362 | AB90: 15110.056 | AC90: 651.65507 | AD90: 4904.9303 | AE90: 3428.556 | AF90: 4145.3194 | AG90: 44.928361 | AH90: 0 | AI90: 583.36581 | AJ90: 28868.811 | AK90: 632.76136
A91: 141+ Years | B91: 3213.8562 | C91: 2063787.5 | D91: 9604.9161 | E91: 663.15378 | F91: 42475.124 | G91: 15047.764 | H91: 183824.19 | I91: 182095.92 | J91: 3720.9567 | K91: 39711.277 | L91: 2087.7259 | M91: 3241.6827 | N91: 472204.64 | O91: 1962.3586 | P91: 2172.504 | Q91: 209646.76 | R91: 44900.832 | S91: 522330.26 | T91: 501363.93 | U91: 13022.468 | V91: 62853.169 | W91: 15539.094 | X91: 462.13469 | Y91: 1370118.6 | Z91: 6592.0883 | AA91: 378.19846 | AB91: 38942.96 | AC91: 9258.0574 | AD91: 71748.873 | AE91: 87469.088 | AF91: 3048.8556 | AG91: 7997.6698 | AH91: 2940.9049 | AI91: 57.848741 | AJ91: 221464.26 | AK91: 1050.4692
A92: Poor Total | B92: 5329.8317 | C92: 2460843.8 | D92: 16616.702 | E92: 1174.6769 | F92: 89305.292 | G92: 19096.662 | H92: 202333.46 | I92: 187243.24 | J92: 27063.222 | K92: 39837.237 | L92: 2100.3254 | M92: 10641.967 | N92: 577621.41 | O92: 3699.9457 | P92: 3587.1327 | Q92: 343486.73 | R92: 50561.265 | S92: 549886.75 | T92: 521865.56 | U92: 83475.034 | V92: 63998.884 | W92: 15685.29 | X92: 3929.835 | Y92: 1632889.3 | Z92: 11233.525 | AA92: 568.02208 | AB92: 54053.016 | AC92: 9909.7125 | AD92: 76653.804 | AE92: 90897.644 | AF92: 7194.1751 | AG92: 8042.5982 | AH92: 2940.9049 | AI92: 641.21455 | AJ92: 250333.07 | AK92: 1683.2305
A93: Western Canadian Timber Products Total | B93: 27250.433 | C93: 12899583 | D93: 115577.64 | E93: 4987.305 | F93: 629292.41 | G93: 161991.89 | H93: 772145.78 | I93: 590045.05 | J93: 39630.231 | K93: 69150.343 | L93: 12871.917 | M93: 169598.06 | N93: 2444725.7 | O93: 21118.064 | P93: 18189.57 | Q93: 2429635.7 | R93: 435321.15 | S93: 2669417.7 | T93: 2126829.8 | U93: 112621.02 | V93: 113144.83 | W93: 108172.7 | X93: 381666.03 | Y93: 8376808.9 | Z93: 77297.778 | AA93: 4073.5573 | AB93: 711453.6 | AC93: 136094.27 | AD93: 672403.08 | AE93: 454439.45 | AF93: 14272.657 | AG93: 9427.5166 | AH93: 32526.085 | AI93: 47431.866 | AJ93: 2078048.5 | AK93: 17161.799
A95: RESIDUAL FRASER TSA PROFILE | B95: =B93+B79+B65+B51+B37+B23 -> 123578.95 | C95: =C93+C79+C65+C51+C37+C23 -> 57074507 | D95: =D93+D79+D65+D51+D37+D23 -> 504598.04 | E95: =E93+E79+E65+E51+E37+E23 -> 22404.942 | F95: =F93+F79+F65+F51+F37+F23 -> 2386055.6 | G95: =G93+G79+G65+G51+G37+G23 -> 632252.74 | H95: =H93+H79+H65+H51+H37+H23 -> 2965440.2 | I95: =I93+I79+I65+I51+I37+I23 -> 2515389.4 | ... AK95: =AK93+AK79+AK65+AK51+AK37+AK23 -> 81553.863

Sheet V3 AUG2017
A1: Timber Harvesting Land Base (THLB): Based on Fraser TSA TSR 4 Timber Supply Analysis using a compilation of the best available information.
A2: August 2017 Version 3 - Licensee Operating Area Analysis Forest Cover Data Sources:
A3: Vegetation Resource Inventory: Attributes projected to 2016
A4: Change Detection Mapping: Denudation current to April 2017 using RESULTS forest_cover_inv_svw dataset and Landsat imagery
A5: Burn Severity Mapping: Wildfire V10247 (Cougar Creek) & V10370 (Wood Lake) forest cover updated for Low, Medium & High severity burn
A7: August 1, 2017 Licensee - Economic Zones | B7: Total THLB Area (ha) | C7: Total THLB Vol (m3) | D7: Total Annual Yield (m3/yr) | E7: Slope 0-30 % | P7: Slope 31-69 % | AA7: > 69%
E8: Slope THLB Area (ha) | F8: THLB Volume (m3) | N8: Slope THLB Volume m3 | O8: Annual Yield m3/yr | P8: Slope THLB Area (ha) | Q8: THLB Volume (m3) | Y8: Slope THLB Volume | Z8: Annual Yield m3/yr | AA8: Slope THLB Area (ha) | AB8: THLB Volume (m3) | AJ8: Slope THLB Volume | AK8: Annual Yield m3/yr
E9: Area (ha) | F9: FIR | G9: CEDAR | H9: HEMLOCK | I9: BALSAM | J9: PINE | K9: SPRUCE | L9: CYPRESS | M9: DECIDUOUS | N9: CFLB Volume (m3) | Q9: FIR | R9: CEDAR | S9: HEMLOCK | T9: BALSAM | U9: PINE | V9: SPRUCE | W9: CYPRESS | X9: DECIDUOUS | Y9: THLB_RVTOT | AB9: FIR | AC9: CEDAR | AD9: HEMLOCK | AE9: BALSAM | AF9: PINE | AG9: SPRUCE | AH9: CYPRESS | AI9: DECIDUOUS | AJ9: Sum of THLB_RVTOT
A10: B.C. Timber Sales
A11: Good
A12: 41-140 Years | B12: 7911.5633 | C12: 3149457.5 | D12: 35732.436 | E12: 2321.3252 | F12: 246043.01 | G12: 64491.815 | H12: 393725.42 | I12: 115093.03 | J12: 4366.9239 | K12: 1857.9794 | L12: 533.43271 | M12: 357092.71 | N12: 1183204.3 | O12: 10286.5 | P12: 4386.7435 | Q12: 607768.25 | R12: 99332.422 | S12: 319510.54 | T12: 108205.65 | U12: 5777.0782 | V12: 2774.4974 | W12: 5389.9372 | X12: 402831.22 | Y12: 1551589.6 | Z12: 19767.207 | AA12: 1203.4946 | AB12: 188336.14 | AC12: 26822.531 | AD12: 91074.217 | AE12: 24656.526 | AF12: 419.46875 | AG12: 278.20094 | AH12: 1391.4045 | AI12: 81685.054 | AJ12: 414663.55 | AK12: 5678.7288
A13: 141+ Years | B13: 1694.5795 | C13: 1032232.2 | D13: 6967.5334 | E13: 299.96901 | F13: 37299.042 | G13: 19324.533 | H13: 72549.87 | I13: 54310.581 | J13: 1598.8625 | K13: 0 | L13: 5158.6377 | M13: 1535.299 | N13: 191776.83 | O13: 1202.0199 | P13: 845.8014 | Q13: 91287.819 | R13: 94694.015 | S13: 184323.86 | T13: 110471.18 | U13: 326.36987 | V13: 0 | W13: 12826.164 | X13: 2764.8587 | Y13: 496694.26 | Z13: 3455.1512 | AA13: 548.80911 | AB13: 55040.248 | AC13: 91029.227 | AD13: 120498.87 | AE13: 68703.89 | AF13: 37.616538 | AG13: 0 | AH13: 7619.115 | AI13: 832.19019 | AJ13: 343761.16 | AK13: 2310.3623
A14: Good Total | B14: 9606.1428 | C14: 4181689.7 | D14: 42699.969 | E14: 2621.2942 | F14: 283342.05 | G14: 83816.348 | H14: 466275.29 | I14: 169403.61 | J14: 5965.7864 | K14: 1857.9794 | L14: 5692.0704 | M14: 358628.01 | N14: 1374981.2 | O14: 11488.52 | P14: 5232.5449 | Q14: 699056.07 | R14: 194026.44 | S14: 503834.39 | T14: 218676.83 | U14: 6103.4481 | V14: 2774.4974 | W14: 18216.101 | X14: 405596.07 | Y14: 2048283.8 | Z14: 23222.358 | AA14: 1752.3037 | AB14: 243376.39 | AC14: 117851.76 | AD14: 211573.09 | AE14: 93360.416 | AF14: 457.08529 | AG14: 278.20094 | AH14: 9010.5195 | AI14: 82517.244 | AJ14: 758424.71 | AK14: 7989.0911
A15: Medium
A16: 41-140 Years | B16: 8446.1395 | C16: 2637130.6 | D16: 34221.156 | E16: 1321.9845 | F16: 61461.873 | G16: 14652.691 | H16: 118601.56 | I16: 163199.89 | J16: 0.95326347 | K16: 2711.8034 | L16: 712.47205 | M16: 32111.983 | N16: 393453.23 | O16: 5217.0151 | P16: 5788.7365 | Q16: 396305.86 | R16: 78298.575 | S16: 558148.73 | T16: 581328.07 | U16: 25.801652 | V16: 7607.1678 | W16: 1481.6232 | X16: 160772.87 | Y16: 1783968.7 | Z16: 23502.773 | AA16: 1335.4185 | AB16: 165913.23 | AC16: 28368.409 | AD16: 161912.27 | AE16: 76101.318 | AF16: 93.246832 | AG16: 62.002967 | AH16: 376.32511 | AI16: 26881.869 | AJ16: 459708.67 | AK16: 5501.3673
A17: 141+ Years | B17: 3980.9403 | C17: 2680847.3 | D17: 15127.344 | E17: 278.38279 | F17: 17239.851 | G17: 5869.4873 | H17: 82230.334 | I17: 75338.048 | J17: 222.87318 | K17: 1201.3422 | L17: 1165.3938 | M17: 229.27702 | N17: 183496.61 | O17: 1051.6227 | P17: 2405.6929 | Q17: 112954.93 | R17: 54697.188 | S17: 643264.34 | T17: 781952.85 | U17: 147.10653 | V17: 3357.6371 | W17: 13230.66 | X17: 594.6428 | Y17: 1610199.4 | Z17: 9123.1152 | AA17: 1296.8646 | AB17: 87690.424 | AC17: 60652.815 | AD17: 408086.45 | AE17: 323911.28 | AF17: 0 | AG17: 473.42404 | AH17: 5385.3787 | AI17: 951.61753 | AJ17: 887151.39 | AK17: 4952.6059
A18: Medium Total | B18: 12427.08 | C18: 5317978 | D18: 49348.499 | E18: 1600.3673 | F18: 78701.723 | G18: 20522.178 | H18: 200831.9 | I18: 238537.94 | J18: 223.82644 | K18: 3913.1455 | L18: 1877.8659 | M18: 32341.26 | N18: 576949.83 | O18: 6268.6378 | P18: 8194.4294 | Q18: 509260.79 | R18: 132995.76 | S18: 1201413.1 | T18: 1363280.9 | U18: 172.90818 | V18: 10964.805 | W18: 14712.283 | X18: 161367.52 | Y18: 3394168.1 | Z18: 32625.888 | AA18: 2632.2831 | AB18: 253603.65 | AC18: 89021.223 | AD18: 569998.72 | AE18: 400012.6 | AF18: 93.246832 | AG18: 535.42701 | AH18: 5761.7038 | AI18: 27833.486 | AJ18: 1346860.1 | AK18: 10453.973
A19: Poor
A20: 41-140 Years | B20: 1509.644 | C20: 625205.69 | D20: 6154.6513 | E20: 621.76228 | F20: 248865.86 | G20: 24541.024 | H20: 18341.228 | I20: 13758.07 | J20: 9113.517 | K20: 1299.9791 | L20: 0 | M20: 12282.159 | N20: 328201.83 | O20: 2732.0793 | P20: 839.06752 | Q20: 186088.25 | R20: 17129.853 | S20: 9977.5831 | T20: 33888.931 | U20: 16802.542 | V20: 596.83569 | W20: 8.9410227 | X20: 20960.757 | Y20: 285453.69 | Z20: 3264.5557 | AA20: 48.81418 | AB20: 5099.0521 | AC20: 214.93174 | AD20: 1356.8667 | AE20: 3549.4243 | AF20: 1010.3748 | AG20: 139.18376 | AH20: 2.7290372 | AI20: 177.61061 | AJ20: 11550.173 | AK20: 158.01626
A21: 141+ Years | B21: 1749.1439 | C21: 949438.12 | D21: 4801.765 | E21: 359.43716 | F21: 23583.982 | G21: 13365.586 | H21: 52784.017 | I21: 88897.989 | J21: 3206.9644 | K21: 30017.764 | L21: 1129.401 | M21: 5.2146847 | N21: 212990.92 | O21: 1013.7198 | P21: 1303.6523 | Q21: 123429.48 | R21: 29903.469 | S21: 214355.91 | T21: 213324.96 | U21: 17301.637 | V21: 87848.54 | W21: 12107.336 | X21: 270.63338 | Y21: 698541.96 | Z21: 3565.2528 | AA21: 86.054394 | AB21: 5684.8319 | AC21: 784.41561 | AD21: 9911.2813 | AE21: 16438.262 | AF21: 497.01357 | AG21: 4007.312 | AH21: 582.12259 | AI21: 0 | AJ21: 37905.239 | AK21: 222.79243
A22: Poor Total | B22: 3258.7878 | C22: 1574643.8 | D22: 10956.416 | E22: 981.19944 | F22: 272449.84 | G22: 37906.61 | H22: 71125.245 | I22: 102656.06 | J22: 12320.481 | K22: 31317.743 | L22: 1129.401 | M22: 12287.374 | N22: 541192.75 | O22: 3745.7992 | P22: 2142.7198 | Q22: 309517.73 | R22: 47033.322 | S22: 224333.49 | T22: 247213.89 | U22: 34104.178 | V22: 88445.375 | W22: 12116.277 | X22: 21231.39 | Y22: 983995.65 | Z22: 6829.8085 | AA22: 134.86857 | AB22: 10783.884 | AC22: 999.34734 | AD22: 11268.148 | AE22: 19987.686 | AF22: 1507.3884 | AG22: 4146.4958 | AH22: 584.85163 | AI22: 177.61061 | AJ22: 49455.412 | AK22: 380.80869
A23: B.C. Timber Sales Total | B23: 25292.01 | C23: 11074311 | D23: 103004.88 | E23: 5202.8609 | F23: 634493.62 | G23: 142245.14 | H23: 738232.43 | I23: 510597.61 | J23: 18510.094 | K23: 37088.868 | L23: 8699.3374 | M23: 403256.65 | N23: 2493123.7 | O23: 21502.957 | P23: 15569.694 | Q23: 1517834.6 | R23: 374055.52 | S23: 1929581 | T23: 1829171.6 | U23: 40380.535 | V23: 102184.68 | W23: 45044.661 | X23: 588194.98 | Y23: 6426447.6 | Z23: 62678.055 | AA23: 4519.4554 | AB23: 507763.93 | AC23: 207872.33 | AD23: 792839.96 | AE23: 513360.7 | AF23: 2057.7205 | AG23: 4960.1237 | AH23: 15357.075 | AI23: 110528.34 | AJ23: 2154740.2 | AK23: 18823.873
A24: First Nations District Area
A25: Good
A26: 41-140 Years | B26: 5963.9439 | C26: 2830559.4 | D26: 28073.037 | E26: 886.92659 | F26: 112751.38 | G26: 25445.271 | H26: 122782.13 | I26: 92756.111 | J26: 7215.1528 | K26: 40.026991 | L26: 534.99313 | M26: 81085.346 | N26: 442610.41 | O26: 4346.5109 | P26: 3764.9621 | Q26: 439610.03 | R26: 90730.446 | S26: 581848.29 | T26: 386360.8 | U26: 20915.859 | V26: 3.20013 | W26: 2778.2518 | X26: 272818.85 | Y26: 1795065.7 | Z26: 17631.9 | AA26: 1312.0552 | AB26: 200741.21 | AC26: 23607.325 | AD26: 199721.84 | AE26: 57047.521 | AF26: 8120.6949 | AG26: 19.630457 | AH26: 337.54409 | AI26: 103287.5 | AJ26: 592883.26 | AK26: 6094.6258
A27: 141+ Years | B27: 2343.5232 | C27: 1832234.6 | D27: 9055.907 | E27: 170.9903 | F27: 15945.927 | G27: 2901.242 | H27: 42239.933 | I27: 50983.651 | J27: 2022.8307 | K27: 50.755858 | L27: 9021.8589 | M27: 3301.3456 | N27: 126467.54 | O27: 586.25244 | P27: 1608.7165 | Q27: 158942.6 | R27: 76502.535 | S27: 453798.63 | T27: 482082.73 | U27: 635.03714 | V27: 74.210178 | W27: 80740.272 | X27: 8906.8761 | Y27: 1261682.9 | Z27: 6142.8567 | AA27: 563.8164 | AB27: 71846.233 | AC27: 35950.336 | AD27: 197098.23 | AE27: 117835.42 | AF27: 0 | AG27: 3.0108661 | AH27: 19147.294 | AI27: 2203.6648 | AJ27: 444084.19 | AK27: 2326.7979
A28: Good Total | B28: 8307.4671 | C28: 4662794 | D28: 37128.944 | E28: 1057.9169 | F28: 128697.31 | G28: 28346.513 | H28: 165022.06 | I28: 143739.76 | J28: 9237.9835 | K28: 90.782849 | L28: 9556.8521 | M28: 84386.691 | N28: 569077.96 | O28: 4932.7633 | P28: 5373.6786 | Q28: 598552.62 | R28: 167232.98 | S28: 1035646.9 | T28: 868443.53 | U28: 21550.896 | V28: 77.410308 | W28: 83518.523 | X28: 281725.73 | Y28: 3056748.6 | Z28: 23774.757 | AA28: 1875.8716 | AB28: 272587.44 | AC28: 59557.66 | AD28: 396820.07 | AE28: 174882.94 | AF28: 8120.6949 | AG28: 22.641323 | AH28: 19484.838 | AI28: 105491.17 | AJ28: 1036967.5 | AK28: 8421.4237
A29: Medium
A30: 41-140 Years | B30: 5965.148 | C30: 2075473.9 | D30: 24501.372 | E30: 984.56746 | F30: 74752.934 | G30: 17117.83 | H30: 96016.737 | I30: 118011.26 | J30: 292.92202 | K30: 2627.7012 | L30: 0 | M30: 41436.016 | N30: 350255.4 | O30: 3917.1661 | P30: 4044.786 | Q30: 379437.62 | R30: 61954.816 | S30: 399565.64 | T30: 455366.45 | U30: 10277.524 | V30: 4113.0121 | W30: 223.17539 | X30: 127015 | Y30: 1437953.2 | Z30: 16718.835 | AA30: 935.79451 | AB30: 93090.709 | AC30: 19454.851 | AD30: 80167.825 | AE30: 51146.242 | AF30: 3931.9652 | AG30: 917.87137 | AH30: 0 | AI30: 38555.832 | AJ30: 287265.3 | AK30: 3865.3714
A31: 141+ Years | B31: 2575.4739 | C31: 1549395.5 | D31: 10223.543 | E31: 218.9824 | F31: 13564.278 | G31: 3521.1254 | H31: 31146.813 | I31: 67976.89 | J31: 0 | K31: 7703.3613 | L31: 102.16104 | M31: 156.3926 | N31: 124171.02 | O31: 769.64534 | P31: 1327.7063 | Q31: 146699.65 | R31: 42690.028 | S31: 316480.35 | T31: 313626.72 | U31: 1536.664 | V31: 16729.786 | W31: 1018.9671 | X31: 990.55006 | Y31: 839772.71 | Z31: 5364.2734 | AA31: 1028.7852 | AB31: 142443.29 | AC31: 41266.171 | AD31: 253853.97 | AE31: 141701.83 | AF31: 433.40268 | AG31: 3976.1639 | AH31: 0 | AI31: 1776.8957 | AJ31: 585451.73 | AK31: 4089.6244
A32: Medium Total | B32: 8540.6219 | C32: 3624869.4 | D32: 34724.916 | E32: 1203.5499 | F32: 88317.213 | G32: 20638.955 | H32: 127163.55 | I32: 185988.15 | J32: 292.92202 | K32: 10331.062 | L32: 102.16104 | M32: 41592.409 | N32: 474426.42 | O32: 4686.8114 | P32: 5372.4923 | Q32: 526137.27 | R32: 104644.84 | S32: 716045.99 | T32: 768993.17 | U32: 11814.188 | V32: 20842.798 | W32: 1242.1425 | X32: 128005.55 | Y32: 2277726 | Z32: 22083.108 | AA32: 1964.5798 | AB32: 235534 | AC32: 60721.023 | AD32: 334021.8 | AE32: 192848.08 | AF32: 4365.3679 | AG32: 4894.0353 | AH32: 0 | AI32: 40332.727 | AJ32: 872717.02 | AK32: 7954.9958
A33: Poor
A34: 41-140 Years | B34: 2001.834 | C34: 398773.62 | D34: 6266.9589 | E34: 228.29264 | F34: 16014.315 | G34: 2093.5642 | H34: 899.65945 | I34: 10249.439 | J34: 4797.9099 | K34: 769.993 | L34: 41.208835 | M34: 2317.8899 | N34: 37183.98 | O34: 703.86119 | P34: 1505.8543 | Q34: 198923.46 | R34: 3311.5098 | S34: 4857.4479 | T34: 39606.287 | U34: 61236.424 | V34: 2985.6142 | W34: 594.09813 | X34: 11196.267 | Y34: 322711.11 | Z34: 4757.601 | AA34: 267.68707 | AB34: 26811.097 | AC34: 290.93267 | AD34: 1707.8131 | AE34: 3266.4618 | AF34: 4825.1579 | AG34: 287.44318 | AH34: 322.19782 | AI34: 1367.4197 | AJ34: 38878.524 | AK34: 805.49672
A35: 141+ Years | B35: 1540.0758 | C35: 538138.93 | D35: 4787.3005 | E35: 161.23418 | F35: 8583.5451 | G35: 274.56841 | H35: 5442.1936 | I35: 30419.866 | J35: 456.10298 | K35: 11755.259 | L35: 88.510618 | M35: 92.024659 | N35: 57112.071 | O35: 473.88932 | P35: 1164.3178 | Q35: 188342.51 | R35: 11162.077 | S35: 41905.108 | T35: 112572.49 | U35: 6515.925 | V35: 53774.392 | W35: 98.350404 | X35: 1369.0756 | Y35: 415739.93 | Z35: 3679.6999 | AA35: 214.52381 | AB35: 42467.165 | AC35: 881.40936 | AD35: 4038.1388 | AE35: 10745.023 | AF35: 627.55736 | AG35: 6182.2874 | AH35: 0 | AI35: 345.34997 | AJ35: 65286.931 | AK35: 633.71121
A36: Poor Total | B36: 3541.9098 | C36: 936912.55 | D36: 11054.259 | E36: 389.52683 | F36: 24597.861 | G36: 2368.1326 | H36: 6341.8531 | I36: 40669.305 | J36: 5254.0129 | K36: 12525.252 | L36: 129.71945 | M36: 2409.9146 | N36: 94296.051 | O36: 1177.7505 | P36: 2670.1721 | Q36: 387265.97 | R36: 14473.587 | S36: 46762.556 | T36: 152178.78 | U36: 67752.349 | V36: 56760.007 | W36: 692.44854 | X36: 12565.343 | Y36: 738451.04 | Z36: 8437.3009 | AA36: 482.21088 | AB36: 69278.262 | AC36: 1172.342 | AD36: 5745.9518 | AE36: 14011.485 | AF36: 5452.7153 | AG36: 6469.7306 | AH36: 322.19782 | AI36: 1712.7696 | AJ36: 104165.45 | AK36: 1439.2079
A37: First Nations District Area Total | B37: 20389.999 | C37: 9224576 | D37: 82908.119 | E37: 2650.9936 | F37: 241612.38 | G37: 51353.601 | H37: 298527.46 | I37: 370397.22 | J37: 14784.918 | K37: 22947.098 | L37: 9788.7326 | M37: 128389.01 | N37: 1137800.4 | O37: 10797.325 | P37: 13416.343 | Q37: 1511955.9 | R37: 286351.41 | S37: 1798455.5 | T37: 1789615.5 | U37: 101117.43 | V37: 77680.215 | W37: 85453.114 | X37: 422296.62 | Y37: 6072925.6 | Z37: 54295.166 | AA37: 4322.6623 | AB37: 577399.7 | AC37: 121451.03 | AD37: 736587.82 | AE37: 381742.5 | AF37: 17938.778 | AG37: 11386.407 | AH37: 19807.036 | AI37: 147536.66 | AJ37: 2013849.9 | AK37: 17815.627
A38: Lakeside Pacific Forest Products
A39: Good
A40: 41-140 Years | B40: 6759.917 | C40: 2319765.1 | D40: 30592.219 | E40: 1035.3703 | F40: 156837.66 | G40: 34226.032 | H40: 87534.828 | I40: 52740.71 | J40: 6301.2807 | K40: 0 | L40: 1686.1441 | M40: 46492.188 | N40: 385818.84 | O40: 4730.6917 | P40: 4745.801 | Q40: 699503.16 | R40: 149292 | S40: 431633.53 | T40: 157825.26 | U40: 28460.779 | V40: 0 | W40: 9320.853 | X40: 156979.01 | Y40: 1633014.6 | Z40: 21250.601 | AA40: 978.74572 | AB40: 151748.43 | AC40: 18674.165 | AD40: 73574.373 | AE40: 36047.632 | AF40: 1736.1445 | AG40: 0 | AH40: 1117.831 | AI40: 18033.064 | AJ40: 300931.63 | AK40: 4610.9265
A41: 141+ Years | B41: 4800.062 | C41: 3450779.7 | D41: 20414.59 | E41: 375.33431 | F41: 31614.454 | G41: 10455.447 | H41: 100967.78 | I41: 102773.51 | J41: 777.19087 | K41: 0 | L41: 22593.605 | M41: 2998.6502 | N41: 272180.63 | O41: 1686.292 | P41: 3174.084 | Q41: 361786.81 | R41: 146580.19 | S41: 876525.7 | T41: 766376.83 | U41: 3090.7943 | V41: 80.68008 | W41: 135436.24 | X41: 10262.892 | Y41: 2300140.1 | Z41: 13658.568 | AA41: 1250.6437 | AB41: 161919.3 | AC41: 126065.03 | AD41: 349139.57 | AE41: 196940.86 | AF41: 369.61124 | AG41: 345.22108 | AH41: 41975.104 | AI41: 1704.2763 | AJ41: 878458.97 | AK41: 5069.7305
A42: Good Total | B42: 11559.979 | C42: 5770544.8 | D42: 51006.809 | E42: 1410.7046 | F42: 188452.11 | G42: 44681.479 | H42: 188502.61 | I42: 155514.22 | J42: 7078.4716 | K42: 0 | L42: 24279.75 | M42: 49490.838 | N42: 657999.47 | O42: 6416.9838 | P42: 7919.885 | Q42: 1061290 | R42: 295872.19 | S42: 1308159.2 | T42: 924202.09 | U42: 31551.574 | V42: 80.68008 | W42: 144757.1 | X42: 167241.91 | Y42: 3933154.7 | Z42: 34909.169 | AA42: 2229.3894 | AB42: 313667.72 | AC42: 144739.2 | AD42: 422713.94 | AE42: 232988.49 | AF42: 2105.7557 | AG42: 345.22108 | AH42: 43092.935 | AI42: 19737.34 | AJ42: 1179390.6 | AK42: 9680.657
A43: Medium
A44: 41-140 Years | B44: 0.20071696 | C44: 60.474614 | D44: 0.87572809 | E44: 0.13680643 | F44: 0 | G44: 0 | H44: 10.301387 | I44: 30.917432 | J44: 0 | K44: 0 | L44: 0 | M44: 0 | N44: 41.218819 | O44: 0.59688644 | P44: 0.063910531 | Q44: 0 | R44: 0 | S44: 4.812399 | T44: 14.443396 | U44: 0 | V44: 0 | W44: 0 | X44: 0 | Y44: 19.255796 | Z44: 0.27884165 | AA44: 0 | AB44: 0 | AC44: 0 | AD44: 0 | AE44: 0 | AF44: 0 | AG44: 0 | AH44: 0 | AI44: 0 | AJ44: 0 | AK44: 0
A45: 141+ Years | B45: 26.095012 | C45: 17647.497 | D45: 113.99889 | E45: 4.4396107 | F45: 0 | G45: 120.32089 | H45: 1183.6323 | I45: 987.62722 | J45: 0 | K45: 0 | L45: 238.61137 | M45: 0 | N45: 2530.1918 | O45: 19.370022 | P45: 17.353931 | Q45: 0 | R45: 80.348997 | S45: 4417.9718 | T45: 5922.7616 | U45: 0 | V45: 0 | W45: 2026.176 | X45: 0 | Y45: 12447.258 | Z45: 75.861549 | AA45: 4.3014704 | AB45: 0 | AC45: 2.1941506 | AD45: 1168.6835 | AE45: 1077.6557 | AF45: 0 | AG45: 0 | AH45: 421.51322 | AI45: 0 | AJ45: 2670.0466 | AK45: 18.767315
A46: Medium Total | B46: 26.295729 | C46: 17707.971 | D46: 114.87461 | E46: 4.5764172 | F46: 0 | G46: 120.32089 | H46: 1193.9337 | I46: 1018.5446 | J46: 0 | K46: 0 | L46: 238.61137 | M46: 0 | N46: 2571.4106 | O46: 19.966908 | P46: 17.417841 | Q46: 0 | R46: 80.348997 | S46: 4422.7842 | T46: 5937.205 | U46: 0 | V46: 0 | W46: 2026.176 | X46: 0 | Y46: 12466.514 | Z46: 76.140391 | AA46: 4.3014704 | AB46: 0 | AC46: 2.1941506 | AD46: 1168.6835 | AE46: 1077.6557 | AF46: 0 | AG46: 0 | AH46: 421.51322 | AI46: 0 | AJ46: 2670.0466 | AK46: 18.767315
A47: Poor
A48: 41-140 Years | B48: 0 | C48: 0 | D48: 0 | E48: 0 | F48: 0 | G48: 0 | H48: 0 | I48: 0 | J48: 0 | K48: 0 | L48: 0 | M48: 0 | N48: 0 | O48: 0 | P48: 0 | Q48: 0 | R48: 0 | S48: 0 | T48: 0 | U48: 0 | V48: 0 | W48: 0 | X48: 0 | Y48: 0 | Z48: 0 | AA48: 0 | AB48: 0 | AC48: 0 | AD48: 0 | AE48: 0 | AF48: 0 | AG48: 0 | AH48: 0 | AI48: 0 | AJ48: 0 | AK48: 0
A49: 141+ Years | B49: 0 | C49: 0 | D49: 0 | E49: 0 | F49: 0 | G49: 0 | H49: 0 | I49: 0 | J49: 0 | K49: 0 | L49: 0 | M49: 0 | N49: 0 | O49: 0 | P49: 0 | Q49: 0 | R49: 0 | S49: 0 | T49: 0 | U49: 0 | V49: 0 | W49: 0 | X49: 0 | Y49: 0 | Z49: 0 | AA49: 0 | AB49: 0 | AC49: 0 | AD49: 0 | AE49: 0 | AF49: 0 | AG49: 0 | AH49: 0 | AI49: 0 | AJ49: 0 | AK49: 0
A50: Poor Total | B50: 0 | C50: 0 | D50: 0 | E50: 0 | F50: 0 | G50: 0 | H50: 0 | I50: 0 | J50: 0 | K50: 0 | L50: 0 | M50: 0 | N50: 0 | O50: 0 | P50: 0 | Q50: 0 | R50: 0 | S50: 0 | T50: 0 | U50: 0 | V50: 0 | W50: 0 | X50: 0 | Y50: 0 | Z50: 0 | AA50: 0 | AB50: 0 | AC50: 0 | AD50: 0 | AE50: 0 | AF50: 0 | AG50: 0 | AH50: 0 | AI50: 0 | AJ50: 0 | AK50: 0
A51: Lakeside Pacific Forest Products Total | B51: 11586.275 | C51: 5788252.8 | D51: 51121.684 | E51: 1415.281 | F51: 188452.11 | G51: 44801.8 | H51: 189696.54 | I51: 156532.76 | J51: 7078.4716 | K51: 0 | L51: 24518.361 | M51: 49490.838 | N51: 660570.88 | O51: 6436.9507 | P51: 7937.3028 | Q51: 1061290 | R51: 295952.54 | S51: 1312582 | T51: 930139.29 | U51: 31551.574 | V51: 80.68008 | W51: 146783.27 | X51: 167241.91 | Y51: 3945621.2 | Z51: 34985.309 | AA51: 2233.6909 | AB51: 313667.72 | AC51: 144741.39 | AD51: 423882.62 | AE51: 234066.15 | AF51: 2105.7557 | AG51: 345.22108 | AH51: 43514.448 | AI51: 19737.34 | AJ51: 1182060.7 | AK51: 9699.4244
A52: Probyn Log Ltd
A53: Good
A54: 41-140 Years | B54: 413.90162 | C54: 149550.07 | D54: 1536.4028 | E54: 77.423825 | F54: 6872.6245 | G54: 3814.7414 | H54: 8418.4481 | I54: 1868.5003 | J54: 0 | K54: 0 | L54: 94.03627 | M54: 7165.9667 | N54: 28234.317 | O54: 287.39724 | P54: 300.67602 | Q54: 51561.77 | R54: 10535.938 | S54: 22170.026 | T54: 3634.0996 | U54: 150.26203 | V54: 0 | W54: 109.90592 | X54: 23666.297 | Y54: 111828.3 | Z54: 1116.1094 | AA54: 35.801772 | AB54: 5056.5757 | AC54: 583.97582 | AD54: 1388.1979 | AE54: 441.42293 | AF54: 14.673769 | AG54: 0 | AH54: 14.00498 | AI54: 1988.6001 | AJ54: 9487.4512 | AK54: 132.89618
A55: 141+ Years | B55: 194.74555 | C55: 170215.65 | D55: 722.89547 | E55: 27.955995 | F55: 1015.6523 | G55: 158.64841 | H55: 8534.1096 | I55: 9662.3061 | J55: 0 | K55: 0 | L55: 1149.4628 | M55: 0.4428287 | N55: 20520.622 | O55: 103.77265 | P55: 103.4208 | Q55: 13528.841 | R55: 2952.5167 | S55: 33368.78 | T55: 34827.787 | U55: 0 | V55: 0 | W55: 8285.8236 | X55: 0 | Y55: 92963.748 | Z55: 383.89802 | AA55: 63.368749 | AB55: 10858.022 | AC55: 2425.8592 | AD55: 17464.37 | AE55: 16693.553 | AF55: 0 | AG55: 0 | AH55: 9289.476 | AI55: 0 | AJ55: 56731.28 | AK55: 235.2248
A56: Good Total | B56: 608.64716 | C56: 319765.72 | D56: 2259.2983 | E56: 105.37982 | F56: 7888.2768 | G56: 3973.3898 | H56: 16952.558 | I56: 11530.806 | J56: 0 | K56: 0 | L56: 1243.499 | M56: 7166.4096 | N56: 48754.939 | O56: 391.16989 | P56: 404.09682 | Q56: 65090.611 | R56: 13488.455 | S56: 55538.806 | T56: 38461.886 | U56: 150.26203 | V56: 0 | W56: 8395.7295 | X56: 23666.297 | Y56: 204792.05 | Z56: 1500.0074 | AA56: 99.170521 | AB56: 15914.598 | AC56: 3009.8351 | AD56: 18852.568 | AE56: 17134.976 | AF56: 14.673769 | AG56: 0 | AH56: 9303.481 | AI56: 1988.6001 | AJ56: 66218.732 | AK56: 368.12097
A57: Medium
A58: 41-140 Years | B58: 0 | C58: 0 | D58: 0 | E58: 0 | F58: 0 | G58: 0 | H58: 0 | I58: 0 | J58: 0 | K58: 0 | L58: 0 | M58: 0 | N58: 0 | O58: 0 | P58: 0 | Q58: 0 | R58: 0 | S58: 0 | T58: 0 | U58: 0 | V58: 0 | W58: 0 | X58: 0 | Y58: 0 | Z58: 0 | AA58: 0 | AB58: 0 | AC58: 0 | AD58: 0 | AE58: 0 | AF58: 0 | AG58: 0 | AH58: 0 | AI58: 0 | AJ58: 0 | AK58: 0
A59: 141+ Years | B59: 0 | C59: 0 | D59: 0 | E59: 0 | F59: 0 | G59: 0 | H59: 0 | I59: 0 | J59: 0 | K59: 0 | L59: 0 | M59: 0 | N59: 0 | O59: 0 | P59: 0 | Q59: 0 | R59: 0 | S59: 0 | T59: 0 | U59: 0 | V59: 0 | W59: 0 | X59: 0 | Y59: 0 | Z59: 0 | AA59: 0 | AB59: 0 | AC59: 0 | AD59: 0 | AE59: 0 | AF59: 0 | AG59: 0 | AH59: 0 | AI59: 0 | AJ59: 0 | AK59: 0
A60: Medium Total | B60: 0 | C60: 0 | D60: 0 | E60: 0 | F60: 0 | G60: 0 | H60: 0 | I60: 0 | J60: 0 | K60: 0 | L60: 0 | M60: 0 | N60: 0 | O60: 0 | P60: 0 | Q60: 0 | R60: 0 | S60: 0 | T60: 0 | U60: 0 | V60: 0 | W60: 0 | X60: 0 | Y60: 0 | Z60: 0 | AA60: 0 | AB60: 0 | AC60: 0 | AD60: 0 | AE60: 0 | AF60: 0 | AG60: 0 | AH60: 0 | AI60: 0 | AJ60: 0 | AK60: 0
A61: Poor
A62: 41-140 Years | B62: 0 | C62: 0 | D62: 0 | E62: 0 | F62: 0 | G62: 0 | H62: 0 | I62: 0 | J62: 0 | K62: 0 | L62: 0 | M62: 0 | N62: 0 | O62: 0 | P62: 0 | Q62: 0 | R62: 0 | S62: 0 | T62: 0 | U62: 0 | V62: 0 | W62: 0 | X62: 0 | Y62: 0 | Z62: 0 | AA62: 0 | AB62: 0 | AC62: 0 | AD62: 0 | AE62: 0 | AF62: 0 | AG62: 0 | AH62: 0 | AI62: 0 | AJ62: 0 | AK62: 0
A63: 141+ Years | B63: 0 | C63: 0 | D63: 0 | E63: 0 | F63: 0 | G63: 0 | H63: 0 | I63: 0 | J63: 0 | K63: 0 | L63: 0 | M63: 0 | N63: 0 | O63: 0 | P63: 0 | Q63: 0 | R63: 0 | S63: 0 | T63: 0 | U63: 0 | V63: 0 | W63: 0 | X63: 0 | Y63: 0 | Z63: 0 | AA63: 0 | AB63: 0 | AC63: 0 | AD63: 0 | AE63: 0 | AF63: 0 | AG63: 0 | AH63: 0 | AI63: 0 | AJ63: 0 | AK63: 0
A64: Poor Total | B64: 0 | C64: 0 | D64: 0 | E64: 0 | F64: 0 | G64: 0 | H64: 0 | I64: 0 | J64: 0 | K64: 0 | L64: 0 | M64: 0 | N64: 0 | O64: 0 | P64: 0 | Q64: 0 | R64: 0 | S64: 0 | T64: 0 | U64: 0 | V64: 0 | W64: 0 | X64: 0 | Y64: 0 | Z64: 0 | AA64: 0 | AB64: 0 | AC64: 0 | AD64: 0 | AE64: 0 | AF64: 0 | AG64: 0 | AH64: 0 | AI64: 0 | AJ64: 0 | AK64: 0
A65: Probyn Log Ltd Total | B65: 608.64716 | C65: 319765.72 | D65: 2259.2983 | E65: 105.37982 | F65: 7888.2768 | G65: 3973.3898 | H65: 16952.558 | I65: 11530.806 | J65: 0 | K65: 0 | L65: 1243.499 | M65: 7166.4096 | N65: 48754.939 | O65: 391.16989 | P65: 404.09682 | Q65: 65090.611 | R65: 13488.455 | S65: 55538.806 | T65: 38461.886 | U65: 150.26203 | V65: 0 | W65: 8395.7295 | X65: 23666.297 | Y65: 204792.05 | Z65: 1500.0074 | AA65: 99.170521 | AB65: 15914.598 | AC65: 3009.8351 | AD65: 18852.568 | AE65: 17134.976 | AF65: 14.673769 | AG65: 0 | AH65: 9303.481 | AI65: 1988.6001 | AJ65: 66218.732 | AK65: 368.12097
A66: Teal Cedar Products
A67: Good
A68: 41-140 Years | B68: 8923.2823 | C68: 3922146.3 | D68: 46034.174 | E68: 2166.3431 | F68: 209533.98 | G68: 95995.464 | H68: 408719.15 | I68: 217552.98 | J68: 742.1595 | K68: 984.15768 | L68: 11499.457 | M68: 92610.645 | N68: 1037638 | O68: 10977.317 | P68: 6233.1143 | Q68: 569731.34 | R68: 249058.77 | S68: 1049156.2 | T68: 585396.89 | U68: 2583.8512 | V68: 924.93833 | W68: 27443.611 | X68: 162628.18 | Y68: 2646923.8 | Z68: 32504.495 | AA68: 523.82491 | AB68: 74495.717 | AC68: 22728.14 | AD68: 112005.39 | AE68: 15113.696 | AF68: 142.86838 | AG68: 0 | AH68: 3452.22 | AI68: 9646.4488 | AJ68: 237584.48 | AK68: 2552.3625
A69: 141+ Years | B69: 3748.3057 | C69: 3092168.2 | D69: 17587.17 | E69: 280.00385 | F69: 10369.511 | G69: 7213.3836 | H69: 73180.813 | I69: 76975.821 | J69: 0 | K69: 0 | L69: 30137.212 | M69: 527.57547 | N69: 198404.32 | O69: 1403.9277 | P69: 2503.6586 | Q69: 174211.24 | R69: 95391.796 | S69: 751609.29 | T69: 942264.38 | U69: 575.04635 | V69: 0 | W69: 112489.01 | X69: 465.51913 | Y69: 2077006.3 | Z69: 11936.06 | AA69: 964.64323 | AB69: 160787.29 | AC69: 44065.824 | AD69: 277730.08 | AE69: 281059.16 | AF69: 2262.1358 | AG69: 0 | AH69: 50458.821 | AI69: 394.26946 | AJ69: 816757.58 | AK69: 4247.1832
A70: Good Total | B70: 12671.588 | C70: 7014314.5 | D70: 63621.344 | E70: 2446.347 | F70: 219903.5 | G70: 103208.85 | H70: 481899.96 | I70: 294528.8 | J70: 742.1595 | K70: 984.15768 | L70: 41636.669 | M70: 93138.221 | N70: 1236042.3 | O70: 12381.244 | P70: 8736.7729 | Q70: 743942.58 | R70: 344450.57 | S70: 1800765.5 | T70: 1527661.3 | U70: 3158.8975 | V70: 924.93833 | W70: 139932.62 | X70: 163093.7 | Y70: 4723930.1 | Z70: 44440.554 | AA70: 1488.4681 | AB70: 235283.01 | AC70: 66793.964 | AD70: 389735.47 | AE70: 296172.86 | AF70: 2405.0042 | AG70: 0 | AH70: 53911.041 | AI70: 10040.718 | AJ70: 1054342.1 | AK70: 6799.5457
A71: Medium
A72: 41-140 Years | B72: 7783.948 | C72: 3026039.4 | D72: 31278.57 | E72: 1443.8528 | F72: 128738.08 | G72: 56507.087 | H72: 227366.7 | I72: 72809.891 | J72: 430.3652 | K72: 4618.7658 | L72: 1397.8132 | M72: 156975.24 | N72: 648843.94 | O72: 5727.4696 | P72: 5233.1198 | Q72: 509956.2 | R72: 189128.04 | S72: 807938.52 | T72: 307460.77 | U72: 6174.898 | V72: 22415.244 | W72: 5354.8412 | X72: 134525.25 | Y72: 1982953.7 | Z72: 21426.07 | AA72: 1106.9753 | AB72: 152238.07 | AC72: 61875.27 | AD72: 134439.79 | AE72: 19920.677 | AF72: 2213.9827 | AG72: 1261.3485 | AH72: 1755.7014 | AI72: 20536.903 | AJ72: 394241.75 | AK72: 4125.0307
A73: 141+ Years | B73: 4914.8694 | C73: 3415146.1 | D73: 18575.816 | E73: 460.94697 | F73: 16334.567 | G73: 23522.956 | H73: 128645.61 | I73: 143031.48 | J73: 48.015496 | K73: 3963.9653 | L73: 10025.94 | M73: 43.731088 | N73: 325616.27 | O73: 1862.8368 | P73: 2980.3717 | Q73: 127271.42 | R73: 239187.8 | S73: 959092.19 | T73: 751703.6 | U73: 367.63647 | V73: 6528.513 | W73: 72442.858 | X73: 795.08339 | Y73: 2157389.1 | Z73: 11454.814 | AA73: 1473.5508 | AB73: 146438.94 | AC73: 223908.94 | AD73: 367750.75 | AE73: 151251.49 | AF73: 132.24251 | AG73: 382.82161 | AH73: 42051.034 | AI73: 224.4717 | AJ73: 932140.7 | AK73: 5258.1659
A74: Medium Total | B74: 12698.817 | C74: 6441185.5 | D74: 49854.387 | E74: 1904.7998 | F74: 145072.65 | G74: 80030.043 | H74: 356012.31 | I74: 215841.37 | J74: 478.38069 | K74: 8582.7311 | L74: 11423.753 | M74: 157018.97 | N74: 974460.21 | O74: 7590.3064 | P74: 8213.4915 | Q74: 637227.62 | R74: 428315.83 | S74: 1767030.7 | T74: 1059164.4 | U74: 6542.5345 | V74: 28943.757 | W74: 77797.699 | X74: 135320.33 | Y74: 4140342.8 | Z74: 32880.884 | AA74: 2580.5261 | AB74: 298677.02 | AC74: 285784.21 | AD74: 502190.55 | AE74: 171172.17 | AF74: 2346.2252 | AG74: 1644.1701 | AH74: 43806.735 | AI74: 20761.375 | AJ74: 1326382.4 | AK74: 9383.1966
A75: Poor
A76: 41-140 Years | B76: 6232.0226 | C76: 1334503.8 | D76: 17041.559 | E76: 1994.0076 | F76: 129562.77 | G76: 19265.912 | H76: 23261.015 | I76: 144974.56 | J76: 49241.524 | K76: 46123.999 | L76: 50.145018 | M76: 9965.5348 | N76: 422445.45 | O76: 5362.5053 | P76: 4122.3246 | Q76: 354841.54 | R76: 21700.7 | S76: 36494.281 | T76: 207245.75 | U76: 165947.44 | V76: 84316.939 | W76: 78.604683 | X76: 16675.176 | Y76: 887300.43 | Z76: 11355.325 | AA76: 115.69035 | AB76: 11691.201 | AC76: 1081.2657 | AD76: 758.64066 | AE76: 4253.9995 | AF76: 4694.7253 | AG76: 1939.8252 | AH76: 0 | AI76: 338.29501 | AJ76: 24757.952 | AK76: 323.72919
A77: 141+ Years | B77: 6849.1605 | C77: 2978013.9 | D77: 19209.122 | E77: 1697.9675 | F77: 189777.9 | G77: 25382.115 | H77: 88712.166 | I77: 220941.22 | J77: 28318.722 | K77: 147771.44 | L77: 384.55668 | M77: 2168.4176 | N77: 703456.54 | O77: 4683.377 | P77: 4725.465 | Q77: 562742.73 | R77: 70691.378 | S77: 300389.06 | T77: 686654.77 | U77: 62303 | V77: 380345.5 | W77: 5837.6309 | X77: 2427.4021 | Y77: 2071391.5 | Z77: 13347.198 | AA77: 425.72799 | AB77: 64241.654 | AC77: 6039.4789 | AD77: 42745.7 | AE77: 58367.485 | AF77: 11449.045 | AG77: 19637.958 | AH77: 650.83041 | AI77: 33.705125 | AJ77: 203165.86 | AK77: 1178.5468
A78: Poor Total | B78: 13081.183 | C78: 4312517.7 | D78: 36250.681 | E78: 3691.9751 | F78: 319340.67 | G78: 44648.027 | H78: 111973.18 | I78: 365915.78 | J78: 77560.246 | K78: 193895.44 | L78: 434.70169 | M78: 12133.952 | N78: 1125902 | O78: 10045.882 | P78: 8847.7896 | Q78: 917584.27 | R78: 92392.077 | S78: 336883.34 | T78: 893900.52 | U78: 228250.44 | V78: 464662.44 | W78: 5916.2356 | X78: 19102.578 | Y78: 2958691.9 | Z78: 24702.523 | AA78: 541.41834 | AB78: 75932.855 | AC78: 7120.7446 | AD78: 43504.341 | AE78: 62621.484 | AF78: 16143.77 | AG78: 21577.783 | AH78: 650.83041 | AI78: 372.00014 | AJ78: 227923.81 | AK78: 1502.276
A79: Teal Cedar Products Total | B79: 38451.588 | C79: 17768018 | D79: 149726.41 | E79: 8043.1219 | F79: 684316.81 | G79: 227886.92 | H79: 949885.45 | I79: 876285.94 | J79: 78780.786 | K79: 203462.33 | L79: 53495.124 | M79: 262291.15 | N79: 3336404.5 | O79: 30017.433 | P79: 25798.054 | Q79: 2298754.5 | R79: 865158.48 | S79: 3904679.6 | T79: 3480726.2 | U79: 237951.87 | V79: 494531.14 | W79: 223646.56 | X79: 317516.6 | Y79: 11822965 | Z79: 102023.96 | AA79: 4610.4126 | AB79: 609892.88 | AC79: 359698.92 | AD79: 935430.36 | AE79: 529966.51 | AF79: 20895 | AG79: 23221.954 | AH79: 98368.607 | AI79: 31174.093 | AJ79: 2608648.3 | AK79: 17685.018
A80: Western Canadian Timber Products Partnership
A81: Good
A82: 41-140 Years | B82: 10286.773 | C82: 4229027.2 | D82: 49583.864 | E82: 2117.2539 | F82: 303739.15 | G82: 81202.228 | H82: 327757.31 | I82: 95894.626 | J82: 5807.3512 | K82: 1570.588 | L82: 3542.7877 | M82: 135966.52 | N82: 955480.56 | O82: 10243.469 | P82: 6823.8548 | Q82: 996555.31 | R82: 167352.24 | S82: 803777.33 | T82: 355946.72 | U82: 20167.243 | V82: 10829.571 | W82: 16457.369 | X82: 324645.68 | Y82: 2695731.5 | Z82: 32892.225 | AA82: 1345.6639 | AB82: 304513.76 | AC82: 26071.389 | AD82: 165213.37 | AE82: 33581.911 | AF82: 5696.2287 | AG82: 98.762978 | AH82: 795.97503 | AI82: 41843.825 | AJ82: 577815.23 | AK82: 6448.1703
A83: 141+ Years | B83: 4436.2561 | C83: 3105324.9 | D83: 19983.968 | E83: 586.57697 | F83: 147322.53 | G83: 39668.567 | H83: 99782.689 | I83: 68185.768 | J83: 4907.0459 | K83: 220.55513 | L83: 6282.6243 | M83: 5206.2902 | N83: 371576.07 | O83: 2627.1696 | P83: 2751.7834 | Q83: 443500.88 | R83: 123131.58 | S83: 672367 | T83: 574838.63 | U83: 3299.3546 | V83: 1784.0613 | W83: 67682.82 | X83: 6487.6459 | Y83: 1893092 | Z83: 12563.843 | AA83: 1097.8958 | AB83: 187890.96 | AC83: 81236.877 | AD83: 307519.27 | AE83: 233442.4 | AF83: 800.10813 | AG83: 433.72588 | AH83: 28400.529 | AI83: 932.99853 | AJ83: 840656.87 | AK83: 4792.9561
A84: Good Total | B84: 14723.029 | C84: 7334352.1 | D84: 69567.833 | E84: 2703.8309 | F84: 451061.68 | G84: 120870.79 | H84: 427540 | I84: 164080.39 | J84: 10714.397 | K84: 1791.1431 | L84: 9825.412 | M84: 141172.81 | N84: 1327056.6 | O84: 12870.639 | P84: 9575.6383 | Q84: 1440056.2 | R84: 290483.81 | S84: 1476144.3 | T84: 930785.34 | U84: 23466.598 | V84: 12613.632 | W84: 84140.188 | X84: 331133.33 | Y84: 4588823.4 | Z84: 45456.068 | AA84: 2443.5597 | AB84: 492404.72 | AC84: 107308.27 | AD84: 472732.64 | AE84: 267024.31 | AF84: 6496.3369 | AG84: 532.48886 | AH84: 29196.504 | AI84: 42776.823 | AJ84: 1418472.1 | AK84: 11241.126
A85: Medium
A86: 41-140 Years | B86: 4735.1574 | C86: 1468723.3 | D86: 19286.645 | E86: 714.78535 | F86: 79344.098 | G86: 9711.5221 | H86: 55961.796 | I86: 82214.004 | J86: 1852.6114 | K86: 2428.9057 | L86: 11.157192 | M86: 17776.125 | N86: 249300.22 | O86: 2928.3603 | P86: 3326.286 | Q86: 520061.96 | R86: 48463.508 | S86: 244855.19 | T86: 158997.07 | U86: 4979.9717 | V86: 5467.6615 | W86: 117.95144 | X86: 46116.836 | Y86: 1029060.1 | Z86: 13619.339 | AA86: 694.08602 | AB86: 116887.98 | AC86: 8315.3892 | AD86: 42299.631 | AE86: 18702.709 | AF86: 194.33044 | AG86: 224.76019 | AH86: 31.717705 | AI86: 3706.4278 | AJ86: 190362.95 | AK86: 2738.9455
A87: 141+ Years | B87: 2462.4146 | C87: 1635663.8 | D87: 10106.461 | E87: 394.01178 | F87: 9581.3423 | G87: 12312.915 | H87: 86310.524 | I87: 156507.41 | J87: 0 | K87: 25093.057 | L87: 935.02206 | M87: 7.1502268 | N87: 290747.42 | O87: 1619.119 | P87: 1700.5134 | Q87: 126030.78 | R87: 45812.567 | S87: 398531.43 | T87: 515181.82 | U87: 699.41373 | V87: 31064.653 | W87: 8229.2752 | X87: 486.03007 | Y87: 1126036 | Z87: 6988.8456 | AA87: 367.88948 | AB87: 48107.875 | AC87: 10560.903 | AD87: 80717 | AE87: 77814.788 | AF87: 387.81477 | AG87: 627.66942 | AH87: 356.9585 | AI87: 307.40026 | AJ87: 218880.41 | AK87: 1498.4963
A88: Medium Total | B88: 7197.572 | C88: 3104387.1 | D88: 29393.106 | E88: 1108.7971 | F88: 88925.44 | G88: 22024.438 | H88: 142272.32 | I88: 238721.42 | J88: 1852.6114 | K88: 27521.963 | L88: 946.17925 | M88: 17783.275 | N88: 540047.64 | O88: 4547.4793 | P88: 5026.7993 | Q88: 646092.74 | R88: 94276.075 | S88: 643386.62 | T88: 674178.89 | U88: 5679.3855 | V88: 36532.315 | W88: 8347.2267 | X88: 46602.866 | Y88: 2155096.1 | Z88: 20608.185 | AA88: 1061.9755 | AB88: 164995.86 | AC88: 18876.293 | AD88: 123016.63 | AE88: 96517.496 | AF88: 582.14521 | AG88: 852.42961 | AH88: 388.6762 | AI88: 4013.8281 | AJ88: 409243.36 | AK88: 4237.4418
A89: Poor
A90: 41-140 Years | B90: 2115.9755 | C90: 397056.28 | D90: 7011.7855 | E90: 511.52316 | F90: 46830.168 | G90: 4048.8981 | H90: 18509.272 | I90: 5147.3181 | J90: 23342.266 | K90: 125.96019 | L90: 12.59942 | M90: 7400.2839 | N90: 105416.77 | O90: 1737.5871 | P90: 1414.6287 | Q90: 133839.98 | R90: 5660.4328 | S90: 27556.49 | T90: 20501.632 | U90: 70452.566 | V90: 1145.7151 | W90: 146.19586 | X90: 3467.7003 | Y90: 262770.71 | Z90: 4641.437 | AA90: 189.82362 | AB90: 15110.056 | AC90: 651.65507 | AD90: 4904.9303 | AE90: 3428.556 | AF90: 4145.3194 | AG90: 44.928361 | AH90: 0 | AI90: 583.36581 | AJ90: 28868.811 | AK90: 632.76136
A91: 141+ Years | B91: 3213.8562 | C91: 2063787.5 | D91: 9604.9161 | E91: 663.15378 | F91: 42475.124 | G91: 15047.764 | H91: 183824.19 | I91: 182095.92 | J91: 3720.9567 | K91: 39711.277 | L91: 2087.7259 | M91: 3241.6827 | N91: 472204.64 | O91: 1962.3586 | P91: 2172.504 | Q91: 209646.76 | R91: 44900.832 | S91: 522330.26 | T91: 501363.93 | U91: 13022.468 | V91: 62853.169 | W91: 15539.094 | X91: 462.13469 | Y91: 1370118.6 | Z91: 6592.0883 | AA91: 378.19846 | AB91: 38942.96 | AC91: 9258.0574 | AD91: 71748.873 | AE91: 87469.088 | AF91: 3048.8556 | AG91: 7997.6698 | AH91: 2940.9049 | AI91: 57.848741 | AJ91: 221464.26 | AK91: 1050.4692
A92: Poor Total | B92: 5329.8317 | C92: 2460843.8 | D92: 16616.702 | E92: 1174.6769 | F92: 89305.292 | G92: 19096.662 | H92: 202333.46 | I92: 187243.24 | J92: 27063.222 | K92: 39837.237 | L92: 2100.3254 | M92: 10641.967 | N92: 577621.41 | O92: 3699.9457 | P92: 3587.1327 | Q92: 343486.73 | R92: 50561.265 | S92: 549886.75 | T92: 521865.56 | U92: 83475.034 | V92: 63998.884 | W92: 15685.29 | X92: 3929.835 | Y92: 1632889.3 | Z92: 11233.525 | AA92: 568.02208 | AB92: 54053.016 | AC92: 9909.7125 | AD92: 76653.804 | AE92: 90897.644 | AF92: 7194.1751 | AG92: 8042.5982 | AH92: 2940.9049 | AI92: 641.21455 | AJ92: 250333.07 | AK92: 1683.2305
A93: Western Canadian Timber Products Total | B93: 27250.433 | C93: 12899583 | D93: 115577.64 | E93: 4987.305 | F93: 629292.41 | G93: 161991.89 | H93: 772145.78 | I93: 590045.05 | J93: 39630.231 | K93: 69150.343 | L93: 12871.917 | M93: 169598.06 | N93: 2444725.7 | O93: 21118.064 | P93: 18189.57 | Q93: 2429635.7 | R93: 435321.15 | S93: 2669417.7 | T93: 2126829.8 | U93: 112621.02 | V93: 113144.83 | W93: 108172.7 | X93: 381666.03 | Y93: 8376808.9 | Z93: 77297.778 | AA93: 4073.5573 | AB93: 711453.6 | AC93: 136094.27 | AD93: 672403.08 | AE93: 454439.45 | AF93: 14272.657 | AG93: 9427.5166 | AH93: 32526.085 | AI93: 47431.866 | AJ93: 2078048.5 | AK93: 17161.799
F94: FIR | G94: CEDAR | H94: HEMLOCK | I94: BALSAM | J94: PINE | K94: SPRUCE | L94: CYPRESS | M94: DECIDUOUS | Q94: FIR | R94: CEDAR | S94: HEMLOCK | T94: BALSAM | U94: PINE | V94: SPRUCE | W94: CYPRESS | X94: DECIDUOUS | AB94: FIR | AC94: CEDAR | AD94: HEMLOCK | AE94: BALSAM | AF94: PINE | AG94: SPRUCE | AH94: CYPRESS | AI94: DECIDUOUS
A95: RESIDUAL FRASER TSA PROFILE | B95: =B93+B79+B65+B51+B37+B23 -> 123578.95 | C95: =C93+C79+C65+C51+C37+C23 -> 57074507 | D95: =D93+D79+D65+D51+D37+D23 -> 504598.04 | E95: =E93+E79+E65+E51+E37+E23 -> 22404.942 | F95: =F93+F79+F65+F51+F37+F23 -> 2386055.6 | G95: =G93+G79+G65+G51+G37+G23 -> 632252.74 | H95: =H93+H79+H65+H51+H37+H23 -> 2965440.2 | I95: =I93+I79+I65+I51+I37+I23 -> 2515389.4 | ... AK95: =AK93+AK79+AK65+AK51+AK37+AK23 -> 81553.863
A96: Good | E96: Species | F96: Volume | G96: % Dist.
A97: 41-140 Years | C97: =C12+C26+C40+C54+C68+C82 -> 16600506 | E97: Fd | F97: =F95+Q95+AB95 -> 14006709 | G97: =F97/$C$95 -> 0.24541096 | AB97: Residual TSA
A98: 141+ Years | C98: =C13+C27+C41+C55+C69+C83 -> 12682955 | E98: Ce | F98: =G95+R95+AC95 -> 3875448.1 | G98: =F98/$C$95 -> 0.067901561 | AB98: OG HB >70% | AD98: =AD13+AE13+AD17+AE17+AD21+AE21+AD27+AE27+AD31+AE31+AD35+AE35+AD41+AE41+AD45+AE45+AD55+AE55+AD69+AE69+AD73+AE73+AD77+AE77+AD83+AE83+AD87+AE87+AD91+AE91 -> 4292923.4
A99: Good Total | C99: =SUM(C97:C98) -> 29283461 | D99: =C99/$C$95 -> 0.51307427 | E99: He | F99: =H95+S95+AD95 -> 18215691 | G99: =F99/$C$95 -> 0.31915635 | J99: =D95/B95 -> 4.0832037 | AD99: =AD98/C95 -> 0.075216129
A100: Medium | E100: Ba | F100: =I95+T95+AE95 -> 14841044 | G100: =F100/$C$95 -> 0.2600293
A101: 41-140 Years | C101: =C16+C30+C44+C58+C72+C86 -> 9207427.8 | E101: Pine | F101: =J95+U95+AF95 -> 739841.78 | G101: =F101/$C$95 -> 0.012962736
...

Sheet Comparison
A2: August 1, 2017 Licensee - Economic Zones | B2: 2017 Total THLB Area (ha) | C2: Total THLB Area Difference +/-from Benchmark | D2: 2017 Total THLB Vol (m3) | E2: Total THLB Vol Difference +/-from Benchmark | F2: Slope 0-30 % | J2: Slope 31-69% | N2: Slope > 69%
F3: Slope THLB Area (ha) | G3: THLB Area Difference +/-from Benchmark | H3: Slope THLB Volume m3 | I3: THLB Vol Difference +/-from Benchmark | J3: Slope THLB Area (ha) | K3: THLB Area Difference +/- from Benchmark | L3: Slope THLB Volume m3 | M3: THLB Vol Difference +/- from Benchmark | N3: Slope THLB Area (ha) | O3: THLB Area Difference +/- from Benchmark | P3: Slope THLB Volume | Q3: THLB Vol Difference +/- from Benchmark
F4: CFLB Area (ha) | H4: CFLB Volume (m3) | J4: THLBAREA | L4: THLB_RVTOT | N4: Sum of THLBAREA | P4: Sum of THLB_RVTOT
A5: B.C. Timber Sales
A6: Good - Economic Zone
A7: 41-140 Years | B7: 7911.5633 | C7: =B7-'Benchmark 2015'!D25 -> -6853.1897 | D7: 3149457.5 | E7: =D7-'Benchmark 2015'!E25 -> -2637056.9 | F7: 2321.3252 | G7: =F7-'Benchmark 2015'!G25 -> -1187.5829 | H7: 1183204.3 | I7: =H7-'Benchmark 2015'!P25 -> -265759.69 | J7: 4386.7435 | K7: =J7-'Benchmark 2015'!S25 -> -4390.7792 | L7: 1551589.6 | M7: =L7-'Benchmark 2015'!AB25 -> -1846447.2 | N7: 1203.4946 | O7: =N7-'Benchmark 2015'!AE25 -> -1274.8277 | P7: 414663.55 | Q7: =P7-'Benchmark 2015'!AN25 -> -524850.05
A8: 141+ Years | B8: 1694.5795 | C8: =B8-'Benchmark 2015'!D26 -> -1540.1267 | D8: 1032232.2 | E8: =D8-'Benchmark 2015'!E26 -> -990812.16 | F8: 299.96901 | G8: =F8-'Benchmark 2015'!G26 -> -107.83171 | H8: 191776.83 | I8: =H8-'Benchmark 2015'!P26 -> -60123.688 | J8: 845.8014 | K8: =J8-'Benchmark 2015'!S26 -> -1010.0419 | L8: 496694.26 | M8: =L8-'Benchmark 2015'!AB26 -> -696162.43 | N8: 548.80911 | O8: =N8-'Benchmark 2015'!AE26 -> -422.25305 | P8: 343761.16 | Q8: =P8-'Benchmark 2015'!AN26 -> -234526.04
A9: Good - Economic Zone Total | B9: 9606.1428 | C9: =B9-'Benchmark 2015'!D27 -> -8393.3164 | D9: 4181689.7 | E9: =D9-'Benchmark 2015'!E27 -> -3627869.1 | F9: 2621.2942 | G9: =F9-'Benchmark 2015'!G27 -> -1295.4146 | H9: 1374981.2 | I9: =H9-'Benchmark 2015'!P27 -> -325883.38 | J9: 5232.5449 | K9: =J9-'Benchmark 2015'!S27 -> -5400.8211 | L9: 2048283.8 | M9: =L9-'Benchmark 2015'!AB27 -> -2542609.6 | N9: 1752.3037 | O9: =N9-'Benchmark 2015'!AE27 -> -1697.0808 | P9: 758424.71 | Q9: =P9-'Benchmark 2015'!AN27 -> -759376.09
A10: Medium - Economic Zone | C10: =B10-'Benchmark 2015'!D28 -> 0 | E10: =D10-'Benchmark 2015'!E28 -> 0 | G10: =F10-'Benchmark 2015'!G28 -> 0 | I10: =H10-'Benchmark 2015'!P28 -> 0 | K10: =J10-'Benchmark 2015'!S28 -> 0 | M10: =L10-'Benchmark 2015'!AB28 -> 0 | O10: =N10-'Benchmark 2015'!AE28 -> 0 | Q10: =P10-'Benchmark 2015'!AN28 -> 0
A11: 41-140 Years | B11: 8446.1395 | C11: =B11-'Benchmark 2015'!D29 -> 253.48072 | D11: 2637130.6 | E11: =D11-'Benchmark 2015'!E29 -> 65767.078 | F11: 1321.9845 | G11: =F11-'Benchmark 2015'!G29 -> -28.244407 | H11: 393453.23 | I11: =H11-'Benchmark 2015'!P29 -> -9257.4286 | J11: 5788.7365 | K11: =J11-'Benchmark 2015'!S29 -> 192.85682 | L11: 1783968.7 | M11: =L11-'Benchmark 2015'!AB29 -> 29986.286 | N11: 1335.4185 | O11: =N11-'Benchmark 2015'!AE29 -> 88.868305 | P11: 459708.67 | Q11: =P11-'Benchmark 2015'!AN29 -> 45038.221
A12: 141+ Years | B12: 3980.9403 | C12: =B12-'Benchmark 2015'!D30 -> -372.52806 | D12: 2680847.3 | E12: =D12-'Benchmark 2015'!E30 -> -288648.66 | F12: 278.38279 | G12: =F12-'Benchmark 2015'!G30 -> -31.282953 | H12: 183496.61 | I12: =H12-'Benchmark 2015'!P30 -> -30952.907 | J12: 2405.6929 | K12: =J12-'Benchmark 2015'!S30 -> -341.97244 | L12: 1610199.4 | M12: =L12-'Benchmark 2015'!AB30 -> -261519.88 | N12: 1296.8646 | O12: =N12-'Benchmark 2015'!AE30 -> 0.72733497 | P12: 887151.39 | Q12: =P12-'Benchmark 2015'!AN30 -> 3824.1252
A13: Medium - Economic Zone Total | B13: 12427.08 | C13: =B13-'Benchmark 2015'!D31 -> -119.04734 | D13: 5317978 | E13: =D13-'Benchmark 2015'!E31 -> -222881.58 | F13: 1600.3673 | G13: =F13-'Benchmark 2015'!G31 -> -59.52736 | H13: 576949.83 | I13: =H13-'Benchmark 2015'!P31 -> -40210.336 | J13: 8194.4294 | K13: =J13-'Benchmark 2015'!S31 -> -149.11562 | L13: 3394168.1 | M13: =L13-'Benchmark 2015'!AB31 -> -231533.59 | N13: 2632.2831 | O13: =N13-'Benchmark 2015'!AE31 -> 89.59564 | P13: 1346860.1 | Q13: =P13-'Benchmark 2015'!AN31 -> 48862.346
A14: Poor - Economic Zone | C14: =B14-'Benchmark 2015'!D32 -> 0 | E14: =D14-'Benchmark 2015'!E32 -> 0 | G14: =F14-'Benchmark 2015'!G32 -> 0 | I14: =H14-'Benchmark 2015'!P32 -> 0 | K14: =J14-'Benchmark 2015'!S32 -> 0 | M14: =L14-'Benchmark 2015'!AB32 -> 0 | O14: =N14-'Benchmark 2015'!AE32 -> 0 | Q14: =P14-'Benchmark 2015'!AN32 -> 0
A15: 41-140 Years | B15: 1509.644 | C15: =B15-'Benchmark 2015'!D33 -> -351.19984 | D15: 625205.69 | E15: =D15-'Benchmark 2015'!E33 -> -70080.667 | F15: 621.76228 | G15: =F15-'Benchmark 2015'!G33 -> -39.388305 | H15: 328201.83 | I15: =H15-'Benchmark 2015'!P33 -> -3255.6191 | J15: 839.06752 | K15: =J15-'Benchmark 2015'!S33 -> -256.1723 | L15: 285453.69 | M15: =L15-'Benchmark 2015'!AB33 -> -54901.296 | N15: 48.81418 | O15: =N15-'Benchmark 2015'!AE33 -> -55.63923 | P15: 11550.173 | Q15: =P15-'Benchmark 2015'!AN33 -> -11923.752
A16: 141+ Years | B16: 1749.1439 | C16: =B16-'Benchmark 2015'!D34 -> -542.3833 | D16: 949438.12 | E16: =D16-'Benchmark 2015'!E34 -> -255740.38 | F16: 359.43716 | G16: =F16-'Benchmark 2015'!G34 -> -75.709542 | H16: 212990.92 | I16: =H16-'Benchmark 2015'!P34 -> -40105.87 | J16: 1303.6523 | K16: =J16-'Benchmark 2015'!S34 -> -426.97432 | L16: 698541.96 | M16: =L16-'Benchmark 2015'!AB34 -> -196697.7 | N16: 86.054394 | O16: =N16-'Benchmark 2015'!AE34 -> -39.69944 | P16: 37905.239 | Q16: =P16-'Benchmark 2015'!AN34 -> -18936.817
A17: Poor - Economic Zone Total | B17: 3258.7878 | C17: =B17-'Benchmark 2015'!D35 -> -893.58314 | D17: 1574643.8 | E17: =D17-'Benchmark 2015'!E35 -> -325821.05 | F17: 981.19944 | G17: =F17-'Benchmark 2015'!G35 -> -115.09785 | H17: 541192.75 | I17: =H17-'Benchmark 2015'!P35 -> -43361.489 | J17: 2142.7198 | K17: =J17-'Benchmark 2015'!S35 -> -683.14662 | L17: 983995.65 | M17: =L17-'Benchmark 2015'!AB35 -> -251598.99 | N17: 134.86857 | O17: =N17-'Benchmark 2015'!AE35 -> -95.338669 | P17: 49455.412 | Q17: =P17-'Benchmark 2015'!AN35 -> -30860.569
A18: B.C. Timber Sales Total | B18: 25292.01 | C18: =B18-'Benchmark 2015'!D36 -> -9405.9469 | D18: 11074311 | E18: =D18-'Benchmark 2015'!E36 -> -4176571.7 | F18: 5202.8609 | G18: =F18-'Benchmark 2015'!G36 -> -1470.0398 | H18: 2493123.7 | I18: =H18-'Benchmark 2015'!P36 -> -409455.2 | J18: 15569.694 | K18: =J18-'Benchmark 2015'!S36 -> -6233.0833 | L18: 6426447.6 | M18: =L18-'Benchmark 2015'!AB36 -> -3025742.2 | N18: 4519.4554 | O18: =N18-'Benchmark 2015'!AE36 -> -1702.8238 | P18: 2154740.2 | Q18: =P18-'Benchmark 2015'!AN36 -> -741374.31
A19: Lakeside Pacific Forest Products
A20: Good - Economic Zone
A21: 41-140 Years | B21: 6759.917 | C21: =B21-'Benchmark 2015'!D67 -> -177.53391 | D21: 2319765.1 | E21: =D21-'Benchmark 2015'!E67 -> -201177.98 | F21: 1035.3703 | G21: =F21-'Benchmark 2015'!G67 -> -118.45623 | H21: 385818.84 | I21: =H21-'Benchmark 2015'!P67 -> -87887.545 | J21: 4745.801 | K21: =J21-'Benchmark 2015'!S67 -> -178.13505 | L21: 1633014.6 | M21: =L21-'Benchmark 2015'!AB67 -> -146927.92 | N21: 978.74572 | O21: =N21-'Benchmark 2015'!AE67 -> 119.05738 | P21: 300931.63 | Q21: =P21-'Benchmark 2015'!AN67 -> 33637.483
A22: 141+ Years | B22: 4800.062 | C22: =B22-'Benchmark 2015'!D68 -> 337.23151 | D22: 3450779.7 | E22: =D22-'Benchmark 2015'!E68 -> 331815.94 | F22: 375.33431 | G22: =F22-'Benchmark 2015'!G68 -> -21.911059 | H22: 272180.63 | I22: =H22-'Benchmark 2015'!P68 -> -2490.9032 | J22: 3174.084 | K22: =J22-'Benchmark 2015'!S68 -> 270.30795 | L22: 2300140.1 | M22: =L22-'Benchmark 2015'!AB68 -> 265432.19 | N22: 1250.6437 | O22: =N22-'Benchmark 2015'!AE68 -> 88.834627 | P22: 878458.97 | Q22: =P22-'Benchmark 2015'!AN68 -> 68874.653
A23: Good - Economic Zone Total | B23: 11559.979 | C23: =B23-'Benchmark 2015'!D69 -> 159.6976 | D23: 5770544.8 | E23: =D23-'Benchmark 2015'!E69 -> 130637.96 | F23: 1410.7046 | G23: =F23-'Benchmark 2015'!G69 -> -140.36729 | H23: 657999.47 | I23: =H23-'Benchmark 2015'!P69 -> -90378.449 | J23: 7919.885 | K23: =J23-'Benchmark 2015'!S69 -> 92.172894 | L23: 3933154.7 | M23: =L23-'Benchmark 2015'!AB69 -> 118504.27 | N23: 2229.3894 | O23: =N23-'Benchmark 2015'!AE69 -> 207.892 | P23: 1179390.6 | Q23: =P23-'Benchmark 2015'!AN69 -> 102512.14
A24: Medium - Economic Zone | C24: =B24-'Benchmark 2015'!D70 -> 0 | E24: =D24-'Benchmark 2015'!E70 -> 0 | G24: =F24-'Benchmark 2015'!G70 -> 0 | I24: =H24-'Benchmark 2015'!P70 -> 0 | K24: =J24-'Benchmark 2015'!S70 -> 0 | M24: =L24-'Benchmark 2015'!AB70 -> 0 | O24: =N24-'Benchmark 2015'!AE70 -> 0 | Q24: =P24-'Benchmark 2015'!AN70 -> 0
A25: 41-140 Years | B25: 0.20071696 | C25: =B25-'Benchmark 2015'!D71 -> 3.1984217e-07 | D25: 60.474614 | E25: =D25-'Benchmark 2015'!E71 -> 3.6974976 | F25: 0.13680643 | G25: =F25-'Benchmark 2015'!G71 -> 1.7021306e-07 | H25: 41.218819 | I25: =H25-'Benchmark 2015'!P71 -> 2.5201594 | J25: 0.063910531 | K25: =J25-'Benchmark 2015'!S71 -> 1.4962912e-07 | L25: 19.255796 | M25: =L25-'Benchmark 2015'!AB71 -> 1.1773382 | N25: 0 | O25: =N25-'Benchmark 2015'!AE71 -> 0 | P25: 0 | Q25: =P25-'Benchmark 2015'!AN71 -> 0
A26: 141+ Years | B26: 26.095012 | C26: =B26-'Benchmark 2015'!D72 -> 2.6166503e-05 | D26: 17647.497 | E26: =D26-'Benchmark 2015'!E72 -> -3.0174668 | F26: 4.4396107 | G26: =F26-'Benchmark 2015'!G72 -> 8.4761145e-06 | H26: 2530.1918 | I26: =H26-'Benchmark 2015'!P72 -> -0.49549517 | J26: 17.353931 | K26: =J26-'Benchmark 2015'!S72 -> 1.37176e-05 | L26: 12447.258 | M26: =L26-'Benchmark 2015'!AB72 -> -2.2544773 | N26: 4.3014704 | O26: =N26-'Benchmark 2015'!AE72 -> 3.9727883e-06 | P26: 2670.0466 | Q26: =P26-'Benchmark 2015'!AN72 -> -0.26749432
A27: Medium - Economic Zone Total | B27: 26.295729 | C27: =B27-'Benchmark 2015'!D73 -> 2.6486345e-05 | D27: 17707.971 | E27: =D27-'Benchmark 2015'!E73 -> 0.6800308 | F27: 4.5764172 | G27: =F27-'Benchmark 2015'!G73 -> 8.6463275e-06 | H27: 2571.4106 | I27: =H27-'Benchmark 2015'!P73 -> 2.0246642 | J27: 17.417841 | K27: =J27-'Benchmark 2015'!S73 -> 1.3867229e-05 | L27: 12466.514 | M27: =L27-'Benchmark 2015'!AB73 -> -1.0771391 | N27: 4.3014704 | O27: =N27-'Benchmark 2015'!AE73 -> 3.9727883e-06 | P27: 2670.0466 | Q27: =P27-'Benchmark 2015'!AN73 -> -0.26749432
A28: Poor - Economic Zone | C28: =B28-'Benchmark 2015'!D74 -> 0 | E28: =D28-'Benchmark 2015'!E74 -> 0 | G28: =F28-'Benchmark 2015'!G74 -> 0 | I28: =H28-'Benchmark 2015'!P74 -> 0 | K28: =J28-'Benchmark 2015'!S74 -> 0 | M28: =L28-'Benchmark 2015'!AB74 -> 0 | O28: =N28-'Benchmark 2015'!AE74 -> 0 | Q28: =P28-'Benchmark 2015'!AN74 -> 0
A29: 41-140 Years | B29: 0 | C29: =B29-'Benchmark 2015'!D75 -> 0 | D29: 0 | E29: =D29-'Benchmark 2015'!E75 -> 0 | F29: 0 | G29: =F29-'Benchmark 2015'!G75 -> 0 | H29: 0 | I29: =H29-'Benchmark 2015'!P75 -> 0 | J29: 0 | K29: =J29-'Benchmark 2015'!S75 -> 0 | L29: 0 | M29: =L29-'Benchmark 2015'!AB75 -> 0 | N29: 0 | O29: =N29-'Benchmark 2015'!AE75 -> 0 | P29: 0 | Q29: =P29-'Benchmark 2015'!AN75 -> 0
A30: 141+ Years | B30: 0 | C30: =B30-'Benchmark 2015'!D76 -> 0 | D30: 0 | E30: =D30-'Benchmark 2015'!E76 -> 0 | F30: 0 | G30: =F30-'Benchmark 2015'!G76 -> 0 | H30: 0 | I30: =H30-'Benchmark 2015'!P76 -> 0 | J30: 0 | K30: =J30-'Benchmark 2015'!S76 -> 0 | L30: 0 | M30: =L30-'Benchmark 2015'!AB76 -> 0 | N30: 0 | O30: =N30-'Benchmark 2015'!AE76 -> 0 | P30: 0 | Q30: =P30-'Benchmark 2015'!AN76 -> 0
A31: Poor - Economic Zone Total | B31: 0 | C31: =B31-'Benchmark 2015'!D77 -> 0 | D31: 0 | E31: =D31-'Benchmark 2015'!E77 -> 0 | F31: 0 | G31: =F31-'Benchmark 2015'!G77 -> 0 | H31: 0 | I31: =H31-'Benchmark 2015'!P77 -> 0 | J31: 0 | K31: =J31-'Benchmark 2015'!S77 -> 0 | L31: 0 | M31: =L31-'Benchmark 2015'!AB77 -> 0 | N31: 0 | O31: =N31-'Benchmark 2015'!AE77 -> 0 | P31: 0 | Q31: =P31-'Benchmark 2015'!AN77 -> 0
A32: Lakeside Pacific Forest Products Total | B32: 11586.275 | C32: =B32-'Benchmark 2015'!D78 -> 159.69763 | D32: 5788252.8 | E32: =D32-'Benchmark 2015'!E78 -> 130638.64 | F32: 1415.281 | G32: =F32-'Benchmark 2015'!G78 -> -140.36728 | H32: 660570.88 | I32: =H32-'Benchmark 2015'!P78 -> -90376.424 | J32: 7937.3028 | K32: =J32-'Benchmark 2015'!S78 -> 92.172908 | L32: 3945621.2 | M32: =L32-'Benchmark 2015'!AB78 -> 118503.2 | N32: 2233.6909 | O32: =N32-'Benchmark 2015'!AE78 -> 207.89201 | P32: 1182060.7 | Q32: =P32-'Benchmark 2015'!AN78 -> 102511.87
A33: Probyn Log Ltd
A34: Good - Economic Zone
A35: 41-140 Years | B35: 413.90162 | C35: =B35-'Benchmark 2015'!D95 -> 131.72513 | D35: 149550.07 | E35: =D35-'Benchmark 2015'!E95 -> -25924.559 | F35: 77.423825 | G35: =F35-'Benchmark 2015'!G95 -> 1.1254338 | H35: 28234.317 | I35: =H35-'Benchmark 2015'!P95 -> -17156.613 | J35: 300.67602 | K35: =J35-'Benchmark 2015'!S95 -> 113.19152 | L35: 111828.3 | M35: =L35-'Benchmark 2015'!AB95 -> -8306.6641 | N35: 35.801772 | O35: =N35-'Benchmark 2015'!AE95 -> 17.408173 | P35: 9487.4512 | Q35: =P35-'Benchmark 2015'!AN95 -> -461.28188
A36: 141+ Years | B36: 194.74555 | C36: =B36-'Benchmark 2015'!D96 -> 4.305987 | D36: 170215.65 | E36: =D36-'Benchmark 2015'!E96 -> -7337.1455 | F36: 27.955995 | G36: =F36-'Benchmark 2015'!G96 -> 26.816618 | H36: 20520.622 | I36: =H36-'Benchmark 2015'!P96 -> 19750.029 | J36: 103.4208 | K36: =J36-'Benchmark 2015'!S96 -> -17.81653 | L36: 92963.748 | M36: =L36-'Benchmark 2015'!AB96 -> -16400.957 | N36: 63.368749 | O36: =N36-'Benchmark 2015'!AE96 -> -4.6941006 | P36: 56731.28 | Q36: =P36-'Benchmark 2015'!AN96 -> -10686.218
A37: Good - Economic Zone Total | B37: 608.64716 | C37: =B37-'Benchmark 2015'!D97 -> 136.03111 | D37: 319765.72 | E37: =D37-'Benchmark 2015'!E97 -> -33261.705 | F37: 105.37982 | G37: =F37-'Benchmark 2015'!G97 -> 27.942051 | H37: 48754.939 | I37: =H37-'Benchmark 2015'!P97 -> 2593.4158 | J37: 404.09682 | K37: =J37-'Benchmark 2015'!S97 -> 95.374989 | L37: 204792.05 | M37: =L37-'Benchmark 2015'!AB97 -> -24707.621 | N37: 99.170521 | O37: =N37-'Benchmark 2015'!AE97 -> 12.714072 | P37: 66218.732 | Q37: =P37-'Benchmark 2015'!AN97 -> -11147.499
A38: Medium - Economic Zone | C38: =B38-'Benchmark 2015'!D98 -> 0 | E38: =D38-'Benchmark 2015'!E98 -> 0 | G38: =F38-'Benchmark 2015'!G98 -> 0 | I38: =H38-'Benchmark 2015'!P98 -> 0 | K38: =J38-'Benchmark 2015'!S98 -> 0 | M38: =L38-'Benchmark 2015'!AB98 -> 0 | O38: =N38-'Benchmark 2015'!AE98 -> 0 | Q38: =P38-'Benchmark 2015'!AN98 -> 0
A39: 41-140 Years | B39: 0 | C39: =B39-'Benchmark 2015'!D99 -> 0 | D39: 0 | E39: =D39-'Benchmark 2015'!E99 -> 0 | F39: 0 | G39: =F39-'Benchmark 2015'!G99 -> 0 | H39: 0 | I39: =H39-'Benchmark 2015'!P99 -> 0 | J39: 0 | K39: =J39-'Benchmark 2015'!S99 -> 0 | L39: 0 | M39: =L39-'Benchmark 2015'!AB99 -> 0 | N39: 0 | O39: =N39-'Benchmark 2015'!AE99 -> 0 | P39: 0 | Q39: =P39-'Benchmark 2015'!AN99 -> 0
A40: 141+ Years | B40: 0 | C40: =B40-'Benchmark 2015'!D100 -> 0 | D40: 0 | E40: =D40-'Benchmark 2015'!E100 -> 0 | F40: 0 | G40: =F40-'Benchmark 2015'!G100 -> 0 | H40: 0 | I40: =H40-'Benchmark 2015'!P100 -> 0 | J40: 0 | K40: =J40-'Benchmark 2015'!S100 -> 0 | L40: 0 | M40: =L40-'Benchmark 2015'!AB100 -> 0 | N40: 0 | O40: =N40-'Benchmark 2015'!AE100 -> 0 | P40: 0 | Q40: =P40-'Benchmark 2015'!AN100 -> 0
A41: Medium - Economic Zone Total | B41: 0 | C41: =B41-'Benchmark 2015'!D101 -> 0 | D41: 0 | E41: =D41-'Benchmark 2015'!E101 -> 0 | F41: 0 | G41: =F41-'Benchmark 2015'!G101 -> 0 | H41: 0 | I41: =H41-'Benchmark 2015'!P101 -> 0 | J41: 0 | K41: =J41-'Benchmark 2015'!S101 -> 0 | L41: 0 | M41: =L41-'Benchmark 2015'!AB101 -> 0 | N41: 0 | O41: =N41-'Benchmark 2015'!AE101 -> 0 | P41: 0 | Q41: =P41-'Benchmark 2015'!AN101 -> 0
A42: Poor - Economic Zone | C42: =B42-'Benchmark 2015'!D102 -> 0 | E42: =D42-'Benchmark 2015'!E102 -> 0 | G42: =F42-'Benchmark 2015'!G102 -> 0 | I42: =H42-'Benchmark 2015'!P102 -> 0 | K42: =J42-'Benchmark 2015'!S102 -> 0 | M42: =L42-'Benchmark 2015'!AB102 -> 0 | O42: =N42-'Benchmark 2015'!AE102 -> 0 | Q42: =P42-'Benchmark 2015'!AN102 -> 0
A43: 41-140 Years | B43: 0 | C43: =B43-'Benchmark 2015'!D103 -> 0 | D43: 0 | E43: =D43-'Benchmark 2015'!E103 -> 0 | F43: 0 | G43: =F43-'Benchmark 2015'!G103 -> 0 | H43: 0 | I43: =H43-'Benchmark 2015'!P103 -> 0 | J43: 0 | K43: =J43-'Benchmark 2015'!S103 -> 0 | L43: 0 | M43: =L43-'Benchmark 2015'!AB103 -> 0 | N43: 0 | O43: =N43-'Benchmark 2015'!AE103 -> 0 | P43: 0 | Q43: =P43-'Benchmark 2015'!AN103 -> 0
A44: 141+ Years | B44: 0 | C44: =B44-'Benchmark 2015'!D104 -> 0 | D44: 0 | E44: =D44-'Benchmark 2015'!E104 -> 0 | F44: 0 | G44: =F44-'Benchmark 2015'!G104 -> 0 | H44: 0 | I44: =H44-'Benchmark 2015'!P104 -> 0 | J44: 0 | K44: =J44-'Benchmark 2015'!S104 -> 0 | L44: 0 | M44: =L44-'Benchmark 2015'!AB104 -> 0 | N44: 0 | O44: =N44-'Benchmark 2015'!AE104 -> 0 | P44: 0 | Q44: =P44-'Benchmark 2015'!AN104 -> 0
A45: Poor - Economic Zone Total | B45: 0 | C45: =B45-'Benchmark 2015'!D105 -> 0 | D45: 0 | E45: =D45-'Benchmark 2015'!E105 -> 0 | F45: 0 | G45: =F45-'Benchmark 2015'!G105 -> 0 | H45: 0 | I45: =H45-'Benchmark 2015'!P105 -> 0 | J45: 0 | K45: =J45-'Benchmark 2015'!S105 -> 0 | L45: 0 | M45: =L45-'Benchmark 2015'!AB105 -> 0 | N45: 0 | O45: =N45-'Benchmark 2015'!AE105 -> 0 | P45: 0 | Q45: =P45-'Benchmark 2015'!AN105 -> 0
A46: Probyn Log Ltd Total | B46: 608.64716 | C46: =B46-'Benchmark 2015'!D106 -> 136.03111 | D46: 319765.72 | E46: =D46-'Benchmark 2015'!E106 -> -33261.705 | F46: 105.37982 | G46: =F46-'Benchmark 2015'!G106 -> 27.942051 | H46: 48754.939 | I46: =H46-'Benchmark 2015'!P106 -> 2593.4158 | J46: 404.09682 | K46: =J46-'Benchmark 2015'!S106 -> 95.374989 | L46: 204792.05 | M46: =L46-'Benchmark 2015'!AB106 -> -24707.621 | N46: 99.170521 | O46: =N46-'Benchmark 2015'!AE106 -> 12.714072 | P46: 66218.732 | Q46: =P46-'Benchmark 2015'!AN106 -> -11147.499
A47: Teal Cedar Products
A48: Good - Economic Zone
A49: 41-140 Years | B49: 8923.2823 | C49: =B49-'Benchmark 2015'!D151 -> 866.15384 | D49: 3922146.3 | E49: =D49-'Benchmark 2015'!E151 -> 495715.56 | F49: 2166.3431 | G49: =F49-'Benchmark 2015'!G151 -> 170.75376 | H49: 1037638 | I49: =H49-'Benchmark 2015'!P151 -> 101657.61 | J49: 6233.1143 | K49: =J49-'Benchmark 2015'!S151 -> 658.50317 | L49: 2646923.8 | M49: =L49-'Benchmark 2015'!AB151 -> 366789.55 | N49: 523.82491 | O49: =N49-'Benchmark 2015'!AE151 -> 36.896918 | P49: 237584.48 | Q49: =P49-'Benchmark 2015'!AN151 -> 27268.397
A50: 141+ Years | B50: 3748.3057 | C50: =B50-'Benchmark 2015'!D152 -> 1753.7484 | D50: 3092168.2 | E50: =D50-'Benchmark 2015'!E152 -> 1386955.8 | F50: 280.00385 | G50: =F50-'Benchmark 2015'!G152 -> 97.787031 | H50: 198404.32 | I50: =H50-'Benchmark 2015'!P152 -> 70491.123 | J50: 2503.6586 | K50: =J50-'Benchmark 2015'!S152 -> 1103.7797 | L50: 2077006.3 | M50: =L50-'Benchmark 2015'!AB152 -> 875806.91 | N50: 964.64323 | O50: =N50-'Benchmark 2015'!AE152 -> 552.18166 | P50: 816757.58 | Q50: =P50-'Benchmark 2015'!AN152 -> 440657.73
A51: Good - Economic Zone Total | B51: 12671.588 | C51: =B51-'Benchmark 2015'!D153 -> 2619.9022 | D51: 7014314.5 | E51: =D51-'Benchmark 2015'!E153 -> 1882671.3 | F51: 2446.347 | G51: =F51-'Benchmark 2015'!G153 -> 268.54079 | H51: 1236042.3 | I51: =H51-'Benchmark 2015'!P153 -> 172148.73 | J51: 8736.7729 | K51: =J51-'Benchmark 2015'!S153 -> 1762.2828 | L51: 4723930.1 | M51: =L51-'Benchmark 2015'!AB153 -> 1242596.5 | N51: 1488.4681 | O51: =N51-'Benchmark 2015'!AE153 -> 589.07858 | P51: 1054342.1 | Q51: =P51-'Benchmark 2015'!AN153 -> 467926.12
A52: Medium - Economic Zone
A53: 41-140 Years | B53: 7783.948 | C53: =B53-'Benchmark 2015'!D155 -> -43.464977 | D53: 3026039.4 | E53: =D53-'Benchmark 2015'!E155 -> -46932.328 | F53: 1443.8528 | G53: =F53-'Benchmark 2015'!G155 -> -40.504783 | H53: 648843.94 | I53: =H53-'Benchmark 2015'!P155 -> 6029.8384 | J53: 5233.1198 | K53: =J53-'Benchmark 2015'!S155 -> -100.9256 | L53: 1982953.7 | M53: =L53-'Benchmark 2015'!AB155 -> -93578.642 | N53: 1106.9753 | O53: =N53-'Benchmark 2015'!AE155 -> 97.965406 | P53: 394241.75 | Q53: =P53-'Benchmark 2015'!AN155 -> 40616.476
A54: 141+ Years | B54: 4914.8694 | C54: =B54-'Benchmark 2015'!D156 -> -91.7135 | D54: 3415146.1 | E54: =D54-'Benchmark 2015'!E156 -> -181904.96 | F54: 460.94697 | G54: =F54-'Benchmark 2015'!G156 -> -15.0178 | H54: 325616.27 | I54: =H54-'Benchmark 2015'!P156 -> -14418.206 | J54: 2980.3717 | K54: =J54-'Benchmark 2015'!S156 -> -89.058639 | L54: 2157389.1 | M54: =L54-'Benchmark 2015'!AB156 -> -131870.48 | N54: 1473.5508 | O54: =N54-'Benchmark 2015'!AE156 -> 12.362939 | P54: 932140.7 | Q54: =P54-'Benchmark 2015'!AN156 -> -35616.278
A55: Medium - Economic Zone Total | B55: 12698.817 | C55: =B55-'Benchmark 2015'!D157 -> -135.17848 | D55: 6441185.5 | E55: =D55-'Benchmark 2015'!E157 -> -228837.29 | F55: 1904.7998 | G55: =F55-'Benchmark 2015'!G157 -> -55.522583 | H55: 974460.21 | I55: =H55-'Benchmark 2015'!P157 -> -8388.368 | J55: 8213.4915 | K55: =J55-'Benchmark 2015'!S157 -> -189.98424 | L55: 4140342.8 | M55: =L55-'Benchmark 2015'!AB157 -> -225449.12 | N55: 2580.5261 | O55: =N55-'Benchmark 2015'!AE157 -> 110.32834 | P55: 1326382.4 | Q55: =P55-'Benchmark 2015'!AN157 -> 5000.198
A56: Poor - Economic Zone
A57: 41-140 Years | B57: 6232.0226 | C57: =B57-'Benchmark 2015'!D159 -> -1029.805 | D57: 1334503.8 | E57: =D57-'Benchmark 2015'!E159 -> -222753.19 | F57: 1994.0076 | G57: =F57-'Benchmark 2015'!G159 -> -172.15141 | H57: 422445.45 | I57: =H57-'Benchmark 2015'!P159 -> -39069.151 | J57: 4122.3246 | K57: =J57-'Benchmark 2015'!S159 -> -723.80095 | L57: 887300.43 | M57: =L57-'Benchmark 2015'!AB159 -> -165017.96 | N57: 115.69035 | O57: =N57-'Benchmark 2015'!AE159 -> -133.85262 | P57: 24757.952 | Q57: =P57-'Benchmark 2015'!AN159 -> -18666.08
A58: 141+ Years | B58: 6849.1605 | C58: =B58-'Benchmark 2015'!D160 -> -1311.7155 | D58: 2978013.9 | E58: =D58-'Benchmark 2015'!E160 -> -543164.53 | F58: 1697.9675 | G58: =F58-'Benchmark 2015'!G160 -> -312.14896 | H58: 703456.54 | I58: =H58-'Benchmark 2015'!P160 -> -140348.88 | J58: 4725.465 | K58: =J58-'Benchmark 2015'!S160 -> -905.31637 | L58: 2071391.5 | M58: =L58-'Benchmark 2015'!AB160 -> -364776.6 | N58: 425.72799 | O58: =N58-'Benchmark 2015'!AE160 -> -94.250133 | P58: 203165.86 | Q58: =P58-'Benchmark 2015'!AN160 -> -38039.061
A59: Poor - Economic Zone Total | B59: 13081.183 | C59: =B59-'Benchmark 2015'!D161 -> -2341.5204 | D59: 4312517.7 | E59: =D59-'Benchmark 2015'!E161 -> -765917.72 | F59: 3691.9751 | G59: =F59-'Benchmark 2015'!G161 -> -484.30037 | H59: 1125902 | I59: =H59-'Benchmark 2015'!P161 -> -179418.03 | J59: 8847.7896 | K59: =J59-'Benchmark 2015'!S161 -> -1629.1173 | L59: 2958691.9 | M59: =L59-'Benchmark 2015'!AB161 -> -529794.56 | N59: 541.41834 | O59: =N59-'Benchmark 2015'!AE161 -> -228.10275 | P59: 227923.81 | Q59: =P59-'Benchmark 2015'!AN161 -> -56705.141
A60: Teal Cedar Products Total | B60: 38451.588 | C60: =B60-'Benchmark 2015'!D162 -> 143.2033 | D60: 17768018 | E60: =D60-'Benchmark 2015'!E162 -> 887916.3 | F60: 8043.1219 | G60: =F60-'Benchmark 2015'!G162 -> -271.28216 | H60: 3336404.5 | I60: =H60-'Benchmark 2015'!P162 -> -15657.66 | J60: 25798.054 | K60: =J60-'Benchmark 2015'!S162 -> -56.81872 | L60: 11822965 | M60: =L60-'Benchmark 2015'!AB162 -> 487352.78 | N60: 4610.4126 | O60: =N60-'Benchmark 2015'!AE162 -> 471.30417 | P60: 2608648.3 | Q60: =P60-'Benchmark 2015'!AN162 -> 416221.18
A61: Western Canadian Timber Products Partnership
A62: Good - Economic Zone
A63: 41-140 Years | B63: 10286.773 | C63: =B63-'Benchmark 2015'!D11 -> 4544.0997 | D63: 4229027.2 | E63: =D63-'Benchmark 2015'!E11 -> 1282652.1 | F63: 2117.2539 | G63: =F63-'Benchmark 2015'!G11 -> 1116.0296 | H63: 955480.56 | I63: =H63-'Benchmark 2015'!P11 -> 406698.87 | J63: 6823.8548 | K63: =J63-'Benchmark 2015'!S11 -> 2980.0146 | L63: 2695731.5 | M63: =L63-'Benchmark 2015'!AB11 -> 800651.54 | N63: 1345.6639 | O63: =N63-'Benchmark 2015'!AE11 -> 448.0555 | P63: 577815.23 | Q63: =P63-'Benchmark 2015'!AN11 -> 75301.639
A64: 141+ Years | B64: 4436.2561 | C64: =B64-'Benchmark 2015'!D12 -> 2178.3085 | D64: 3105324.9 | E64: =D64-'Benchmark 2015'!E12 -> 1469794.2 | F64: 586.57697 | G64: =F64-'Benchmark 2015'!G12 -> 331.97098 | H64: 371576.07 | I64: =H64-'Benchmark 2015'!P12 -> 202351.06 | J64: 2751.7834 | K64: =J64-'Benchmark 2015'!S12 -> 1102.6359 | L64: 1893092 | M64: =L64-'Benchmark 2015'!AB12 -> 682766 | N64: 1097.8958 | O64: =N64-'Benchmark 2015'!AE12 -> 743.70166 | P64: 840656.87 | Q64: =P64-'Benchmark 2015'!AN12 -> 584677.19
A65: Good - Economic Zone Total | B65: 14723.029 | C65: =B65-'Benchmark 2015'!D13 -> 6722.4083 | D65: 7334352.1 | E65: =D65-'Benchmark 2015'!E13 -> 2752446.3 | F65: 2703.8309 | G65: =F65-'Benchmark 2015'!G13 -> 1448.0006 | H65: 1327056.6 | I65: =H65-'Benchmark 2015'!P13 -> 609049.93 | J65: 9575.6383 | K65: =J65-'Benchmark 2015'!S13 -> 4082.6505 | L65: 4588823.4 | M65: =L65-'Benchmark 2015'!AB13 -> 1483417.5 | N65: 2443.5597 | O65: =N65-'Benchmark 2015'!AE13 -> 1191.7572 | P65: 1418472.1 | Q65: =P65-'Benchmark 2015'!AN13 -> 659978.82
A66: Medium - Economic Zone
A67: 41-140 Years | B67: 4735.1574 | C67: =B67-'Benchmark 2015'!D15 -> 3069.4875 | D67: 1468723.3 | E67: =D67-'Benchmark 2015'!E15 -> 863036.72 | F67: 714.78535 | G67: =F67-'Benchmark 2015'!G15 -> 276.06662 | H67: 249300.22 | I67: =H67-'Benchmark 2015'!P15 -> 66651.973 | J67: 3326.286 | K67: =J67-'Benchmark 2015'!S15 -> 2340.0269 | L67: 1029060.1 | M67: =L67-'Benchmark 2015'!AB15 -> 680877.78 | N67: 694.08602 | O67: =N67-'Benchmark 2015'!AE15 -> 453.39397 | P67: 190362.95 | Q67: =P67-'Benchmark 2015'!AN15 -> 115506.97
A68: 141+ Years | B68: 2462.4146 | C68: =B68-'Benchmark 2015'!D16 -> 1522.1974 | D68: 1635663.8 | E68: =D68-'Benchmark 2015'!E16 -> 1046798.1 | F68: 394.01178 | G68: =F68-'Benchmark 2015'!G16 -> 273.29284 | H68: 290747.42 | I68: =H68-'Benchmark 2015'!P16 -> 207335.35 | J68: 1700.5134 | K68: =J68-'Benchmark 2015'!S16 -> 1041.7963 | L68: 1126036 | M68: =L68-'Benchmark 2015'!AB16 -> 704550.02 | N68: 367.88948 | O68: =N68-'Benchmark 2015'!AE16 -> 207.10826 | P68: 218880.41 | Q68: =P68-'Benchmark 2015'!AN16 -> 134912.74
A69: Medium - Economic Zone Total | B69: 7197.572 | C69: =B69-'Benchmark 2015'!D17 -> 4591.6849 | D69: 3104387.1 | E69: =D69-'Benchmark 2015'!E17 -> 1909834.8 | F69: 1108.7971 | G69: =F69-'Benchmark 2015'!G17 -> 549.35946 | H69: 540047.64 | I69: =H69-'Benchmark 2015'!P17 -> 273987.32 | J69: 5026.7993 | K69: =J69-'Benchmark 2015'!S17 -> 3381.8232 | L69: 2155096.1 | M69: =L69-'Benchmark 2015'!AB17 -> 1385427.8 | N69: 1061.9755 | O69: =N69-'Benchmark 2015'!AE17 -> 660.50223 | P69: 409243.36 | Q69: =P69-'Benchmark 2015'!AN17 -> 250419.71
A70: Poor - Economic Zone
A71: 41-140 Years | B71: 2115.9755 | C71: =B71-'Benchmark 2015'!D19 -> 191.63439 | D71: 397056.28 | E71: =D71-'Benchmark 2015'!E19 -> 69870.856 | F71: 511.52316 | G71: =F71-'Benchmark 2015'!G19 -> 42.017997 | H71: 105416.77 | I71: =H71-'Benchmark 2015'!P19 -> 18381.638 | J71: 1414.6287 | K71: =J71-'Benchmark 2015'!S19 -> 147.9107 | L71: 262770.71 | M71: =L71-'Benchmark 2015'!AB19 -> 46664.342 | N71: 189.82362 | O71: =N71-'Benchmark 2015'!AE19 -> 1.7056924 | P71: 28868.811 | Q71: =P71-'Benchmark 2015'!AN19 -> 4824.8769
A72: 141+ Years | B72: 3213.8562 | C72: =B72-'Benchmark 2015'!D20 -> 136.98584 | D72: 2063787.5 | E72: =D72-'Benchmark 2015'!E20 -> 284204 | F72: 663.15378 | G72: =F72-'Benchmark 2015'!G20 -> 70.262344 | H72: 472204.64 | I72: =H72-'Benchmark 2015'!P20 -> 127586.64 | J72: 2172.504 | K72: =J72-'Benchmark 2015'!S20 -> 75.079326 | L72: 1370118.6 | M72: =L72-'Benchmark 2015'!AB20 -> 159401.53 | N72: 378.19846 | O72: =N72-'Benchmark 2015'!AE20 -> -8.3558336 | P72: 221464.26 | Q72: =P72-'Benchmark 2015'!AN20 -> -2784.1641
A73: Poor - Economic Zone Total | B73: 5329.8317 | C73: =B73-'Benchmark 2015'!D21 -> 328.62023 | D73: 2460843.8 | E73: =D73-'Benchmark 2015'!E21 -> 354074.86 | F73: 1174.6769 | G73: =F73-'Benchmark 2015'!G21 -> 112.28034 | H73: 577621.41 | I73: =H73-'Benchmark 2015'!P21 -> 145968.27 | J73: 3587.1327 | K73: =J73-'Benchmark 2015'!S21 -> 222.99003 | L73: 1632889.3 | M73: =L73-'Benchmark 2015'!AB21 -> 206065.87 | N73: 568.02208 | O73: =N73-'Benchmark 2015'!AE21 -> -6.6501412 | P73: 250333.07 | Q73: =P73-'Benchmark 2015'!AN21 -> 2040.7128
A74: Western Canadian Timber Products Total | B74: 27250.433 | C74: =B74-'Benchmark 2015'!D22 -> 11642.713 | D74: 12899583 | E74: =D74-'Benchmark 2015'!E22 -> 5016356 | F74: 4987.305 | G74: =F74-'Benchmark 2015'!G22 -> 2109.6404 | H74: 2444725.7 | I74: =H74-'Benchmark 2015'!P22 -> 1029005.5 | J74: 18189.57 | K74: =J74-'Benchmark 2015'!S22 -> 7687.4638 | L74: 8376808.9 | M74: =L74-'Benchmark 2015'!AB22 -> 3074911.2 | N74: 4073.5573 | O74: =N74-'Benchmark 2015'!AE22 -> 1845.6092 | P74: 2078048.5 | Q74: =P74-'Benchmark 2015'!AN22 -> 912439.25
