Workbook

Sheet Benchmark 2015
A1: Timber Harvesting Land Base (THLB): Based on Fraser TSA TSR 4 Timber Supply Analysis using a compilation of the best available information.
A2: Benchmark 2015 - Licensee Operating Area Analysis Forest Cover Data Sources:
A3: Vegetation Resource Inventory: Attributes projected to 2014
A4: Change Detection Mapping: Denudation current to April 2014 using RESULTS forest_cover_inv_svw dataset and Landsat imagery
A6: Benchmark 2015 Licensee - Economic Zones | B6: Total Summary | G6: Slope 0-30% | S6: Slope 31-69% | AE6: Slope >69%
B7: AAC (m3) | C7: Yrs Supply | D7: Total THLB Area (ha) | E7: Total THLB Vol (m3) | F7: % Total Vol (m3) | G7: Slope THLB Area (ha) | H7: THLB Volume (m3) | P7: Slope THLB Volume | Q7: % of Total Volume | R7: Yrs Supply | S7: Slope THLB Area (ha) | T7: THLB Volume (m3) | AB7: Slope THLB Volume | AC7: % of Total Volume | AD7: Yrs Supply | AE7: Slope THLB Area (ha) | AF7: THLB Volume (m3) | AN7: Slope THLB Volume | AO7: % of Total Volume (m3) | AP7: Yrs Supply
C8: Yrs Supply | F8: % of Total Vol (m3) | G8: CFLB Area (ha) | H8: FIR | I8: CEDAR | J8: HEMLOCK | K8: BALSAM | L8: PINE | M8: SPRUCE | N8: CYPRESS | O8: DECIDUOUS | P8: CFLB Volume (m3) | Q8: % of Total Volume (m3) | R8: Yrs Supply | S8: THLBAREA | T8: FIR | U8: CEDAR | V8: HEMLOCK | W8: BALSAM | X8: PINE | Y8: SPRUCE | Z8: CYPRESS | AA8: DECIDUOUS | AB8: THLB_RVTOT | AE8: Sum of THLBAREA | AF8: FIR | AG8: CEDAR | AH8: HEMLOCK | AI8: BALSAM | AJ8: PINE | AK8: SPRUCE | AL8: CYPRESS | AM8: DECIDUOUS | AN8: Sum of THLB_RVTOT
A9: Western Canadian Timber Products | B9: 205677
A10: Good - Economic Zone
A11: 41-140 Years | C11: =E11/$B$9 -> 14.325254 | D11: 5742.673 | E11: =P11+AB11+AN11 -> 2946375.2 | F11: =E11/$E$22 -> 0.37375242 | G11: 1001.2243 | H11: 145518.34 | I11: 38413.589 | J11: 235436.23 | K11: 65749.9 | L11: 860.84119 | M11: 439.72942 | N11: 1766.9737 | O11: 60596.089 | P11: =SUM(H11:O11) -> 548781.69 | Q11: =P11/$E$22 -> 0.069613837 | R11: =P11/$B$9 -> 2.6681724 | S11: 3843.8402 | T11: 715170.51 | U11: 87388.738 | V11: 665639.05 | W11: 221711.59 | X11: 15373.917 | Y11: 1924.6271 | Z11: 3408.7169 | AA11: 184462.76 | AB11: =SUM(T11:AA11) -> 1895079.9 | AC11: =AB11/$E$22 -> 0.24039393 | AD11: =AB11/$B$9 -> 9.213864 | AE11: 897.60845 | AF11: 251665.39 | AG11: 21398.448 | AH11: 164483.85 | AI11: 39799.963 | AJ11: 7596.3458 | AK11: 43.418435 | AL11: 135.47369 | AM11: 17390.699 | AN11: =SUM(AF11:AM11) -> 502513.59 | AO11: =AN11/$E$22 -> 0.063744655 | AP11: =AN11/$B$9 -> 2.4432172
A12: 141+ Years | C12: =E12/$B$9 -> 7.9519375 | D12: 2257.9476 | E12: =P12+AB12+AN12 -> 1635530.7 | F12: =E12/$E$22 -> 0.20746969 | G12: 254.60599 | H12: 37567.933 | I12: 8874.5198 | J12: 51315.521 | K12: 63458.654 | L12: 278.3455 | M12: 0 | N12: 1974.3855 | O12: 5755.6569 | P12: =SUM(H12:O12) -> 169225.02 | Q12: =P12/$E$22 -> 0.021466465 | R12: =P12/$B$9 -> 0.82277073 | S12: 1649.1475 | T12: 255666.6 | U12: 55660.219 | V12: 455262.84 | W12: 407589.5 | X12: 596.38118 | Y12: 0 | Z12: 24942.453 | AA12: 10607.966 | AB12: =SUM(T12:AA12) -> 1210326 | AC12: =AB12/$E$22 -> 0.15353179 | AD12: =AB12/$B$9 -> 5.8845955 | AE12: 354.19409 | AF12: 83249.48 | AG12: 15250.907 | AH12: 93246.586 | AI12: 58918.896 | AJ12: 87.462348 | AK12: 0 | AL12: 3720.3469 | AM12: 1506.0029 | AN12: =SUM(AF12:AM12) -> 255979.68 | AO12: =AN12/$E$22 -> 0.032471433 | AP12: =AN12/$B$9 -> 1.2445713
A13: Good - Economic Zone Total | C13: =E13/$B$9 -> 22.277191 | D13: 8000.6206 | E13: =P13+AB13+AN13 -> 4581905.8 | F13: =E13/$E$22 -> 0.5812221 | G13: 1255.8303 | H13: 183086.27 | I13: 47288.108 | J13: 286751.75 | K13: 129208.55 | L13: 1139.1867 | M13: 439.72942 | N13: 3741.3592 | O13: 66351.746 | P13: =SUM(H13:O13) -> 718006.7 | Q13: =P13/$E$22 -> 0.091080302 | R13: =P13/$B$9 -> 3.4909431 | S13: 5492.9877 | T13: 970837.11 | U13: 143048.96 | V13: 1120901.9 | W13: 629301.09 | X13: 15970.298 | Y13: 1924.6271 | Z13: 28351.17 | AA13: 195070.72 | AB13: =SUM(T13:AA13) -> 3105405.9 | AC13: =AB13/$E$22 -> 0.39392571 | AD13: =AB13/$B$9 -> 15.09846 | AE13: 1251.8025 | AF13: 334914.87 | AG13: 36649.356 | AH13: 257730.44 | AI13: 98718.859 | AJ13: 7683.8081 | AK13: 43.418435 | AL13: 3855.8206 | AM13: 18896.702 | AN13: =SUM(AF13:AM13) -> 758493.27 | AO13: =AN13/$E$22 -> 0.096216088 | AP13: =AN13/$B$9 -> 3.6877885
A14: Medium - Economic Zone
A15: 41-140 Years | C15: =E15/$B$9 -> 2.9448436 | D15: 1665.6699 | E15: =P15+AB15+AN15 -> 605686.6 | F15: =E15/$E$22 -> 0.076832316 | G15: 438.71873 | H15: 71705.097 | I15: 9210.0957 | J15: 41565.391 | K15: 40640.225 | L15: 49.639369 | M15: 1084.6804 | N15: 0 | O15: 18393.118 | P15: =SUM(H15:O15) -> 182648.25 | Q15: =P15/$E$22 -> 0.023169223 | R15: =P15/$B$9 -> 0.88803437 | S15: 986.2591 | T15: 169806.66 | U15: 8787.5659 | V15: 79903.249 | W15: 75983.11 | X15: 2843.4608 | Y15: 4501.0948 | Z15: 0.7266474 | AA15: 6356.5071 | AB15: =SUM(T15:AA15) -> 348182.37 | AC15: =AB15/$E$22 -> 0.044167492 | AD15: =AB15/$B$9 -> 1.69286 | AE15: 240.69205 | AF15: 41129.421 | AG15: 1640.4537 | AH15: 18963.048 | AI15: 11607.528 | AJ15: 158.02312 | AK15: 158.90791 | AL15: 0 | AM15: 1198.597 | AN15: =SUM(AF15:AM15) -> 74855.98 | AO15: =AN15/$E$22 -> 0.009495601 | AP15: =AN15/$B$9 -> 0.3639492
A16: 141+ Years | C16: =E16/$B$9 -> 2.8630606 | D16: 940.21719 | E16: =P16+AB16+AN16 -> 588865.71 | F16: =E16/$E$22 -> 0.074698559 | G16: 120.71894 | H16: 9925.2942 | I16: 5620.0101 | J16: 31823.804 | K16: 24641.191 | L16: 0 | M16: 7818.1678 | N16: 0 | O16: 3583.6097 | P16: =SUM(H16:O16) -> 83412.077 | Q16: =P16/$E$22 -> 0.010580956 | R16: =P16/$B$9 -> 0.40554888 | S16: 658.71703 | T16: 36471.758 | U16: 13319.408 | V16: 152105.7 | W16: 195706.81 | X16: 93.931297 | Y16: 22968.472 | Z16: 794.96937 | AA16: 24.917731 | AB16: =SUM(T16:AA16) -> 421485.96 | AC16: =AB16/$E$22 -> 0.05346617 | AD16: =AB16/$B$9 -> 2.0492615 | AE16: 160.78122 | AF16: 21748.414 | AG16: 3211.1106 | AH16: 26550.629 | AI16: 31772.874 | AJ16: 4.3530186 | AK16: 545.13632 | AL16: 112.46152 | AM16: 22.693274 | AN16: =SUM(AF16:AM16) -> 83967.672 | AO16: =AN16/$E$22 -> 0.010651434 | AP16: =AN16/$B$9 -> 0.40825018
A17: Medium - Economic Zone Total | C17: =E17/$B$9 -> 5.8079042 | D17: 2605.8871 | E17: =P17+AB17+AN17 -> 1194552.3 | F17: =E17/$E$22 -> 0.15153088 | G17: 559.43767 | H17: 81630.391 | I17: 14830.106 | J17: 73389.195 | K17: 65281.416 | L17: 49.639369 | M17: 8902.8482 | N17: 0 | O17: 21976.727 | P17: =SUM(H17:O17) -> 266060.32 | Q17: =P17/$E$22 -> 0.033750179 | R17: =P17/$B$9 -> 1.2935833 | S17: 1644.9761 | T17: 206278.42 | U17: 22106.974 | V17: 232008.94 | W17: 271689.92 | X17: 2937.3921 | Y17: 27469.567 | Z17: 795.69601 | AA17: 6381.4248 | AB17: =SUM(T17:AA17) -> 769668.33 | AC17: =AB17/$E$22 -> 0.097633662 | AD17: =AB17/$B$9 -> 3.7421215 | AE17: 401.47327 | AF17: 62877.835 | AG17: 4851.5643 | AH17: 45513.678 | AI17: 43380.402 | AJ17: 162.37614 | AK17: 704.04423 | AL17: 112.46152 | AM17: 1221.2903 | AN17: =SUM(AF17:AM17) -> 158823.65 | AO17: =AN17/$E$22 -> 0.020147035 | AP17: =AN17/$B$9 -> 0.77219938
A18: Poor - Economic Zone
A19: 41-140 Years | C19: =E19/$B$9 -> 1.590773 | D19: 1924.3411 | E19: =P19+AB19+AN19 -> 327185.43 | F19: =E19/$E$22 -> 0.041503996 | G19: 469.50516 | H19: 48171.871 | I19: 3602.4451 | J19: 18510.156 | K19: 5788.8498 | L19: 5405.1971 | M19: 124.38496 | N19: 2.0229158 | O19: 5430.2 | P19: =SUM(H19:O19) -> 87035.127 | Q19: =P19/$E$22 -> 0.011040545 | R19: =P19/$B$9 -> 0.42316412 | S19: 1266.718 | T19: 119980.98 | U19: 5397.5808 | V19: 27415.509 | W19: 18156.841 | X19: 41347.556 | Y19: 1055.5838 | Z19: 136.25918 | AA19: 2616.0575 | AB19: =SUM(T19:AA19) -> 216106.37 | AC19: =AB19/$E$22 -> 0.027413439 | AD19: =AB19/$B$9 -> 1.0507075 | AE19: 188.11792 | AF19: 13312.743 | AG19: 595.70656 | AH19: 4650.4595 | AI19: 3368.923 | AJ19: 1542.6154 | AK19: 44.361068 | AL19: 0 | AM19: 529.12522 | AN19: =SUM(AF19:AM19) -> 24043.934 | AO19: =AN19/$E$22 -> 0.0030500116 | AP19: =AN19/$B$9 -> 0.11690142
A20: 141+ Years | C20: =E20/$B$9 -> 8.6523215 | D20: 3076.8704 | E20: =P20+AB20+AN20 -> 1779583.5 | F20: =E20/$E$22 -> 0.22574302 | G20: 592.89143 | H20: 52054.708 | I20: 13641.691 | J20: 109891.03 | K20: 144213.61 | L20: 3036.1718 | M20: 18501.515 | N20: 1765.4707 | O20: 1513.8053 | P20: =SUM(H20:O20) -> 344618 | Q20: =P20/$E$22 -> 0.043715346 | R20: =P20/$B$9 -> 1.6755301 | S20: 2097.4246 | T20: 246224.67 | U20: 39803.34 | V20: 400592.07 | W20: 439874.78 | X20: 11122.306 | Y20: 59965.818 | Z20: 12584.035 | AA20: 550.08297 | AB20: =SUM(T20:AA20) -> 1210717.1 | AC20: =AB20/$E$22 -> 0.15358141 | AD20: =AB20/$B$9 -> 5.8864973 | AE20: 386.5543 | AF20: 41103.036 | AG20: 9208.9158 | AH20: 72811.387 | AI20: 87178.928 | AJ20: 3015.5556 | AK20: 7942.2407 | AL20: 2930.4766 | AM20: 57.881732 | AN20: =SUM(AF20:AM20) -> 224248.42 | AO20: =AN20/$E$22 -> 0.028446272 | AP20: =AN20/$B$9 -> 1.0902941
A21: Poor - Economic Zone Total | C21: =E21/$B$9 -> 10.243095 | D21: 5001.2115 | E21: =P21+AB21+AN21 -> 2106769 | F21: =E21/$E$22 -> 0.26724702 | G21: 1062.3966 | H21: 100226.58 | I21: 17244.136 | J21: 128401.19 | K21: 150002.46 | L21: 8441.3688 | M21: 18625.9 | N21: 1767.4936 | O21: 6944.0053 | P21: =SUM(H21:O21) -> 431653.13 | Q21: =P21/$E$22 -> 0.054755892 | R21: =P21/$B$9 -> 2.0986942 | S21: 3364.1427 | T21: 366205.65 | U21: 45200.921 | V21: 428007.58 | W21: 458031.63 | X21: 52469.863 | Y21: 61021.402 | Z21: 12720.295 | AA21: 3166.1405 | AB21: =SUM(T21:AA21) -> 1426823.5 | AC21: =AB21/$E$22 -> 0.18099485 | AD21: =AB21/$B$9 -> 6.9372048 | AE21: 574.67222 | AF21: 54415.78 | AG21: 9804.6223 | AH21: 77461.847 | AI21: 90547.851 | AJ21: 4558.171 | AK21: 7986.6018 | AL21: 2930.4766 | AM21: 587.00695 | AN21: =SUM(AF21:AM21) -> 248292.36 | AO21: =AN21/$E$22 -> 0.031496284 | AP21: =AN21/$B$9 -> 1.2071955
A22: Western Canadian Timber Products Total | C22: =E22/$B$9 -> 38.32819 | D22: 15607.719 | E22: =P22+AB22+AN22 -> 7883227.1 | F22: =E22/$E$22 -> 1 | G22: 2877.6646 | H22: 364943.24 | I22: 79362.35 | J22: 488542.14 | K22: 344492.43 | L22: 9630.1949 | M22: 27968.477 | N22: 5508.8528 | O22: 95272.478 | P22: =SUM(H22:O22) -> 1415720.2 | Q22: =P22/$E$22 -> 0.17958637 | R22: =P22/$B$9 -> 6.8832206 | S22: 10502.107 | T22: 1543321.2 | U22: 210356.85 | V22: 1780918.4 | W22: 1359022.6 | X22: 71377.552 | Y22: 90415.596 | Z22: 41867.16 | AA22: 204618.29 | AB22: =SUM(T22:AA22) -> 5301897.7 | AC22: =AB22/$E$22 -> 0.67255422 | AD22: =AB22/$B$9 -> 25.777786 | AE22: 2227.948 | AF22: 452208.48 | AG22: 51305.542 | AH22: 380705.96 | AI22: 232647.11 | AJ22: 12404.355 | AK22: 8734.0644 | AL22: 6898.7587 | AM22: 20704.999 | AN22: =SUM(AF22:AM22) -> 1165609.3 | AO22: =AN22/$E$22 -> 0.14785941 | AP22: =AN22/$B$9 -> 5.6671834
A23: B.C. Timber Sales | B23: 246745
A24: Good - Economic Zone
A25: 41-140 Years | C25: =E25/$B$23 -> 23.451395 | D25: 14764.753 | E25: =P25+AB25+AN25 -> 5786514.4 | F25: =E25/$E$36 -> 0.37942159 | G25: 3508.908 | H25: 495915.17 | I25: 85599.043 | J25: 448873.78 | K25: 135655.03 | L25: 5787.2618 | M25: 2015.3575 | N25: 1626.5698 | O25: 273491.81 | P25: =SUM(H25:O25) -> 1448964 | Q25: =P25/$E$36 -> 0.095008532 | R25: =P25/$B$23 -> 5.8723136 | S25: 8777.5227 | T25: 1469908.5 | U25: 200270.01 | V25: 955582.56 | W25: 273515.22 | X25: 16030.575 | Y25: 2448.2078 | Z25: 5111.1989 | AA25: 475170.46 | AB25: =SUM(T25:AA25) -> 3398036.7 | AC25: =AB25/$E$36 -> 0.22280918 | AD25: =AB25/$B$23 -> 13.771451 | AE25: 2478.3223 | AF25: 448957.31 | AG25: 63631.832 | AH25: 256114.28 | AI25: 70324.247 | AJ25: 2164.0645 | AK25: 213.59634 | AL25: 1400.5593 | AM25: 96707.704 | AN25: =SUM(AF25:AM25) -> 939513.6 | AO25: =AN25/$E$36 -> 0.061603881 | AP25: =AN25/$B$23 -> 3.8076297
A26: 141+ Years | C26: =E26/$B$23 -> 8.1989276 | D26: 3234.7062 | E26: =P26+AB26+AN26 -> 2023044.4 | F26: =E26/$E$36 -> 0.13265097 | G26: 407.80072 | H26: 63125.987 | I26: 19234.108 | J26: 87364.771 | K26: 57785.069 | L26: 1598.7304 | M26: 184.92257 | N26: 19179.225 | O26: 3427.7015 | P26: =SUM(H26:O26) -> 251900.51 | Q26: =P26/$E$36 -> 0.01651711 | R26: =P26/$B$23 -> 1.0208941 | S26: 1855.8433 | T26: 184718.3 | U26: 119925.52 | V26: 466737.02 | W26: 377566.57 | X26: 685.58036 | Y26: 2196.8651 | Z26: 35019.237 | AA26: 6007.5914 | AB26: =SUM(T26:AA26) -> 1192856.7 | AC26: =AB26/$E$36 -> 0.078215581 | AD26: =AB26/$B$23 -> 4.8343703 | AE26: 971.06216 | AF26: 94595.815 | AG26: 78732.784 | AH26: 239808.28 | AI26: 151235.68 | AJ26: 391.46314 | AK26: 454.60879 | AL26: 12424.443 | AM26: 644.13068 | AN26: =SUM(AF26:AM26) -> 578287.2 | AO26: =AN26/$E$36 -> 0.037918276 | AP26: =AN26/$B$23 -> 2.3436633
A27: Good - Economic Zone Total | C27: =E27/$B$23 -> 31.650322 | D27: 17999.459 | E27: =P27+AB27+AN27 -> 7809558.8 | F27: =E27/$E$36 -> 0.51207256 | G27: 3916.7088 | H27: 559041.16 | I27: 104833.15 | J27: 536238.55 | K27: 193440.1 | L27: 7385.9922 | M27: 2200.2801 | N27: 20805.795 | O27: 276919.51 | P27: =SUM(H27:O27) -> 1700864.5 | Q27: =P27/$E$36 -> 0.11152564 | R27: =P27/$B$23 -> 6.8932077 | S27: 10633.366 | T27: 1654626.8 | U27: 320195.53 | V27: 1422319.6 | W27: 651081.8 | X27: 16716.156 | Y27: 4645.0729 | Z27: 40130.436 | AA27: 481178.05 | AB27: =SUM(T27:AA27) -> 4590893.4 | AC27: =AB27/$E$36 -> 0.30102476 | AD27: =AB27/$B$23 -> 18.605822 | AE27: 3449.3844 | AF27: 543553.13 | AG27: 142364.62 | AH27: 495922.56 | AI27: 221559.92 | AJ27: 2555.5276 | AK27: 668.20512 | AL27: 13825.002 | AM27: 97351.835 | AN27: =SUM(AF27:AM27) -> 1517800.8 | AO27: =AN27/$E$36 -> 0.099522157 | AP27: =AN27/$B$23 -> 6.151293
A28: Medium - Economic Zone
A29: 41-140 Years | C29: =E29/$B$23 -> 10.421137 | D29: 8192.6588 | E29: =P29+AB29+AN29 -> 2571363.5 | F29: =E29/$E$36 -> 0.16860424 | G29: 1350.2289 | H29: 63240.032 | I29: 15173.802 | J29: 127428.95 | K29: 158185.02 | L29: 0.7277603 | M29: 1790.7378 | N29: 594.39612 | O29: 36296.994 | P29: =SUM(H29:O29) -> 402710.66 | Q29: =P29/$E$36 -> 0.026405727 | R29: =P29/$B$23 -> 1.6320925 | S29: 5595.8797 | T29: 401665.34 | U29: 76580.156 | V29: 564561.85 | W29: 545087.67 | X29: 14.771331 | Y29: 3484.2882 | Z29: 1360.7551 | AA29: 161227.59 | AB29: =SUM(T29:AA29) -> 1753982.4 | AC29: =AB29/$E$36 -> 0.11500858 | AD29: =AB29/$B$23 -> 7.1084821 | AE29: 1246.5502 | AF29: 144842.95 | AG29: 25195.758 | AH29: 149955.76 | AI29: 68174.365 | AJ29: 39.437283 | AK29: 59.786721 | AL29: 308.82035 | AM29: 26093.572 | AN29: =SUM(AF29:AM29) -> 414670.45 | AO29: =AN29/$E$36 -> 0.02718993 | AP29: =AN29/$B$23 -> 1.6805627
A30: 141+ Years | C30: =E30/$B$23 -> 12.034676 | D30: 4353.4684 | E30: =P30+AB30+AN30 -> 2969496 | F30: =E30/$E$36 -> 0.19470977 | G30: 309.66575 | H30: 17746.737 | I30: 7474.0114 | J30: 98420.132 | K30: 88200.895 | L30: 155.66924 | M30: 1201.5948 | N30: 1229.0011 | O30: 21.473687 | P30: =SUM(H30:O30) -> 214449.51 | Q30: =P30/$E$36 -> 0.014061449 | R30: =P30/$B$23 -> 0.86911392 | S30: 2747.6654 | T30: 139628.72 | U30: 70017.149 | V30: 740627.7 | W30: 902465.86 | X30: 106.17832 | Y30: 3810.188 | Z30: 14123.813 | AA30: 939.61835 | AB30: =SUM(T30:AA30) -> 1871719.2 | AC30: =AB30/$E$36 -> 0.12272858 | AD30: =AB30/$B$23 -> 7.585642 | AE30: 1296.1373 | AF30: 90134.509 | AG30: 58756.093 | AH30: 403623.69 | AI30: 323920.4 | AJ30: 0 | AK30: 516.55816 | AL30: 5570.5522 | AM30: 805.45676 | AN30: =SUM(AF30:AM30) -> 883327.26 | AO30: =AN30/$E$36 -> 0.057919745 | AP30: =AN30/$B$23 -> 3.5799196
A31: Medium - Economic Zone Total | C31: =E31/$B$23 -> 22.455813 | D31: 12546.127 | E31: =P31+AB31+AN31 -> 5540859.5 | F31: =E31/$E$36 -> 0.36331401 | G31: 1659.8947 | H31: 80986.769 | I31: 22647.813 | J31: 225849.08 | K31: 246385.92 | L31: 156.397 | M31: 2992.3326 | N31: 1823.3972 | O31: 36318.468 | P31: =SUM(H31:O31) -> 617160.17 | Q31: =P31/$E$36 -> 0.040467176 | R31: =P31/$B$23 -> 2.5012064 | S31: 8343.5451 | T31: 541294.07 | U31: 146597.3 | V31: 1305189.6 | W31: 1447553.5 | X31: 120.94965 | Y31: 7294.4762 | Z31: 15484.568 | AA31: 162167.21 | AB31: =SUM(T31:AA31) -> 3625701.7 | AC31: =AB31/$E$36 -> 0.23773716 | AD31: =AB31/$B$23 -> 14.694124 | AE31: 2542.6875 | AF31: 234977.46 | AG31: 83951.851 | AH31: 553579.45 | AI31: 392094.77 | AJ31: 39.437283 | AK31: 576.34488 | AL31: 5879.3725 | AM31: 26899.029 | AN31: =SUM(AF31:AM31) -> 1297997.7 | AO31: =AN31/$E$36 -> 0.085109675 | AP31: =AN31/$B$23 -> 5.2604823
A32: Poor - Economic Zone
A33: 41-140 Years | C33: =E33/$B$23 -> 2.8178336 | D33: 1860.8438 | E33: =P33+AB33+AN33 -> 695286.36 | F33: =E33/$E$36 -> 0.045589908 | G33: 661.15058 | H33: 250058.05 | I33: 24721.036 | J33: 18485.846 | K33: 13241.099 | L33: 11351.536 | M33: 1242.9647 | N33: 4.6394504 | O33: 12352.275 | P33: =SUM(H33:O33) -> 331457.45 | Q33: =P33/$E$36 -> 0.021733656 | R33: =P33/$B$23 -> 1.3433198 | S33: 1095.2398 | T33: 216069.78 | U33: 17756.756 | V33: 10834.807 | W33: 33094.526 | X33: 39629.14 | Y33: 479.02406 | Z33: 19.143625 | AA33: 22471.808 | AB33: =SUM(T33:AA33) -> 340354.98 | AC33: =AB33/$E$36 -> 0.022317067 | AD33: =AB33/$B$23 -> 1.3793795 | AE33: 104.45341 | AF33: 14743.349 | AG33: 213.22594 | AH33: 1346.1545 | AI33: 3431.3356 | AJ33: 3399.1393 | AK33: 137.13387 | AL33: 2.6792412 | AM33: 200.90765 | AN33: =SUM(AF33:AM33) -> 23473.925 | AO33: =AN33/$E$36 -> 0.0015391846 | AP33: =AN33/$B$23 -> 0.095134349
A34: 141+ Years | C34: =E34/$B$23 -> 4.8843077 | D34: 2291.5272 | E34: =P34+AB34+AN34 -> 1205178.5 | F34: =E34/$E$36 -> 0.079023522 | G34: 435.14671 | H34: 29891.385 | I34: 17085.467 | J34: 70565.592 | K34: 98074.947 | L34: 3447.0364 | M34: 32191.899 | N34: 1835.2325 | O34: 5.2292347 | P34: =SUM(H34:O34) -> 253096.79 | Q34: =P34/$E$36 -> 0.01659555 | R34: =P34/$B$23 -> 1.0257423 | S34: 1730.6266 | T34: 215637.04 | U34: 38019.281 | V34: 254421.27 | W34: 246237.86 | X34: 20542.507 | Y34: 105080.38 | Z34: 14404.746 | AA34: 896.57365 | AB34: =SUM(T34:AA34) -> 895239.66 | AC34: =AB34/$E$36 -> 0.05870084 | AD34: =AB34/$B$23 -> 3.6281978 | AE34: 125.75383 | AF34: 19979.681 | AG34: 869.69377 | AH34: 11535.326 | AI34: 17507.361 | AJ34: 1055.9255 | AK34: 5056.936 | AL34: 565.4543 | AM34: 271.67787 | AN34: =SUM(AF34:AM34) -> 56842.056 | AO34: =AN34/$E$36 -> 0.0037271321 | AP34: =AN34/$B$23 -> 0.23036761
A35: Poor - Economic Zone Total | C35: =E35/$B$23 -> 7.7021413 | D35: 4152.371 | E35: =P35+AB35+AN35 -> 1900464.9 | F35: =E35/$E$36 -> 0.12461343 | G35: 1096.2973 | H35: 279949.44 | I35: 41806.503 | J35: 89051.438 | K35: 111316.05 | L35: 14798.573 | M35: 33434.863 | N35: 1839.8719 | O35: 12357.504 | P35: =SUM(H35:O35) -> 584554.24 | Q35: =P35/$E$36 -> 0.038329206 | R35: =P35/$B$23 -> 2.3690621 | S35: 2825.8665 | T35: 431706.82 | U35: 55776.037 | V35: 265256.08 | W35: 279332.38 | X35: 60171.647 | Y35: 105559.4 | Z35: 14423.89 | AA35: 23368.381 | AB35: =SUM(T35:AA35) -> 1235594.6 | AC35: =AB35/$E$36 -> 0.081017908 | AD35: =AB35/$B$23 -> 5.0075772 | AE35: 230.20724 | AF35: 34723.03 | AG35: 1082.9197 | AH35: 12881.481 | AI35: 20938.697 | AJ35: 4455.0648 | AK35: 5194.0699 | AL35: 568.13354 | AM35: 472.58552 | AN35: =SUM(AF35:AM35) -> 80315.981 | AO35: =AN35/$E$36 -> 0.0052663168 | AP35: =AN35/$B$23 -> 0.32550196
A36: B.C. Timber Sales Total | C36: =E36/$B$23 -> 61.808276 | D36: 34697.957 | E36: =P36+AB36+AN36 -> 15250883 | F36: =E36/$E$36 -> 1 | G36: 6672.9007 | H36: 919977.36 | I36: 169287.47 | J36: 851139.06 | K36: 551142.06 | L36: 22340.962 | M36: 38627.476 | N36: 24469.064 | O36: 325595.49 | P36: =SUM(H36:O36) -> 2902578.9 | Q36: =P36/$E$36 -> 0.19032202 | R36: =P36/$B$23 -> 11.763476 | S36: 21802.778 | T36: 2627627.7 | U36: 522568.88 | V36: 2992765.2 | W36: 2377967.7 | X36: 77008.752 | Y36: 117498.95 | Z36: 70038.893 | AA36: 666713.64 | AB36: =SUM(T36:AA36) -> 9452189.7 | AC36: =AB36/$E$36 -> 0.61977983 | AD36: =AB36/$B$23 -> 38.307523 | AE36: 6222.2792 | AF36: 813253.62 | AG36: 227399.39 | AH36: 1062383.5 | AI36: 634593.39 | AJ36: 7050.0297 | AK36: 6438.6199 | AL36: 20272.508 | AM36: 124723.45 | AN36: =SUM(AF36:AM36) -> 2896114.5 | AO36: =AN36/$E$36 -> 0.18989815 | AP36: =AN36/$B$23 -> 11.737277
A37: Bill 28 | B37: 267115
A38: Good - Economic Zone
A39: 41-140 Years | C39: =E39/$B$37 -> 10.90523 | D39: 8782.7225 | E39: =P39+AB39+AN39 -> 2912950.5 | F39: =E39/$E$50 -> 0.19894693 | G39: 1459.8247 | H39: 125688.49 | I39: 30078.837 | J39: 171548.12 | K39: 68115.603 | L39: 2089.8108 | M39: 0 | N39: 1110.1031 | O39: 128113.21 | P39: =SUM(H39:O39) -> 526744.17 | Q39: =P39/$E$50 -> 0.035975255 | R39: =P39/$B$37 -> 1.9719753 | S39: 5905.7172 | T39: 655479.49 | U39: 116804.35 | V39: 594833.13 | W39: 243027.3 | X39: 15899.047 | Y39: 0 | Z39: 7139.8027 | AA39: 290940.86 | AB39: =SUM(T39:AA39) -> 1924124 | AC39: =AB39/$E$50 -> 0.13141266 | AD39: =AB39/$B$37 -> 7.2033543 | AE39: 1417.1805 | AF39: 178428.66 | AG39: 32455.345 | AH39: 149462.9 | AI39: 33708.449 | AJ39: 4601.675 | AK39: 0 | AL39: 1165.7226 | AM39: 62259.616 | AN39: =SUM(AF39:AM39) -> 462082.37 | AO39: =AN39/$E$50 -> 0.031559022 | AP39: =AN39/$B$37 -> 1.7299005
A40: 141+ Years | C40: =E40/$B$37 -> 17.180677 | D40: 6102.619 | E40: =P40+AB40+AN40 -> 4589216.6 | F40: =E40/$E$50 -> 0.31343154 | G40: 583.01974 | H40: 27216.096 | I40: 44667.791 | J40: 179552.65 | K40: 189755.55 | L40: 713.91736 | M40: 2069.3454 | N40: 18578.494 | O40: 2411.5846 | P40: =SUM(H40:O40) -> 464965.43 | Q40: =P40/$E$50 -> 0.031755928 | R40: =P40/$B$37 -> 1.7406938 | S40: 3729.0976 | T40: 311655.93 | U40: 150776.03 | V40: 955422.57 | W40: 1182816.1 | X40: 3799.8843 | Y40: 3002.61 | Z40: 169548.5 | AA40: 4647.2989 | AB40: =SUM(T40:AA40) -> 2781669 | AC40: =AB40/$E$50 -> 0.18998075 | AD40: =AB40/$B$37 -> 10.41375 | AE40: 1790.5017 | AF40: 295084.02 | AG40: 111253.72 | AH40: 467741.05 | AI40: 408930.8 | AJ40: 1669.9297 | AK40: 818.50661 | AL40: 55420.28 | AM40: 1663.9282 | AN40: =SUM(AF40:AM40) -> 1342582.2 | AO40: =AN40/$E$50 -> 0.09169487 | AP40: =AN40/$B$37 -> 5.026233
A41: Good - Economic Zone Total | C41: =E41/$B$37 -> 28.085907 | D41: 14885.341 | E41: =P41+AB41+AN41 -> 7502167.1 | F41: =E41/$E$50 -> 0.51237848 | G41: 2042.8444 | H41: 152904.59 | I41: 74746.628 | J41: 351100.77 | K41: 257871.15 | L41: 2803.7282 | M41: 2069.3454 | N41: 19688.597 | O41: 130524.8 | P41: =SUM(H41:O41) -> 991709.61 | Q41: =P41/$E$50 -> 0.067731183 | R41: =P41/$B$37 -> 3.7126691 | S41: 9634.8148 | T41: 967135.42 | U41: 267580.38 | V41: 1550255.7 | W41: 1425843.4 | X41: 19698.931 | Y41: 3002.61 | Z41: 176688.3 | AA41: 295588.16 | AB41: =SUM(T41:AA41) -> 4705792.9 | AC41: =AB41/$E$50 -> 0.3213934 | AD41: =AB41/$B$37 -> 17.617105 | AE41: 3207.6822 | AF41: 473512.68 | AG41: 143709.07 | AH41: 617203.95 | AI41: 442639.24 | AJ41: 6271.6048 | AK41: 818.50661 | AL41: 56586.003 | AM41: 63923.544 | AN41: =SUM(AF41:AM41) -> 1804664.6 | AO41: =AN41/$E$50 -> 0.12325389 | AP41: =AN41/$B$37 -> 6.7561335
...

Sheet AUGUST 2017
A1: Timber Harvesting Land Base (THLB): Based on Fraser TSA TSR 4 Timber Supply Analysis using a compilation of the best available information.
A2: August 2017 Version 3 - Licensee Operating Area Analysis Forest Cover Data Sources:
A3: Vegetation Resource Inventory: Attributes projected to 2016
A4: Change Detection Mapping: Denudation current to April 2017 using RESULTS forest_cover_inv_svw dataset and Landsat imagery
A5: Burn Severity Mapping: Wildfire V10247 (Cougar Creek) & V10370 (Wood Lake) forest cover updated for Low, Medium & High severity burn
A7: August 1, 2017 Licensee - Economic Zones | B7: Total THLB Area (ha) | C7: Total THLB Vol (m3) | D7: Total Annual Yield (m3/yr) | E7: Slope 0-30 % | P7: Slope 31-69 % | AA7: > 69%
E8: Slope THLB Area (ha) | F8: THLB Volume (m3) | N8: Slope THLB Volume m3 | O8: Annual Yield m3/yr | P8: Slope THLB Area (ha) | Q8: THLB Volume (m3) | Y8: Slope THLB Volume | Z8: Annual Yield m3/yr | AA8: Slope THLB Area (ha) | AB8: THLB Volume (m3) | AJ8: Slope THLB Volume | AK8: Annual Yield m3/yr
E9: Area (ha) | F9: FIR | G9: CEDAR | H9: HEMLOCK | I9: BALSAM | J9: PINE | K9: SPRUCE | L9: CYPRESS | M9: DECIDUOUS | N9: CFLB Volume (m3) | Q9: FIR | R9: CEDAR | S9: HEMLOCK | T9: BALSAM | U9: PINE | V9: SPRUCE | W9: CYPRESS | X9: DECIDUOUS | Y9: THLB_RVTOT | AB9: FIR | AC9: CEDAR | AD9: HEMLOCK | AE9: BALSAM | AF9: PINE | AG9: SPRUCE | AH9: CYPRESS | AI9: DECIDUOUS | AJ9: Sum of THLB_RVTOT
A10: B.C. Timber Sales
A11: Good
A12: 41-140 Years | B12: 7911.5633 | C12: 3149457.5 | D12: 35732.436 | E12: 2321.3252 | F12: 246043.01 | G12: 64491.815 | H12: 393725.42 | I12: 115093.03 | J12: 4366.9239 | K12: 1857.9794 | L12: 533.43271 | M12: 357092.71 | N12: 1183204.3 | O12: 10286.5 | P12: 4386.7435 | Q12: 607768.25 | R12: 99332.422 | S12: 319510.54 | T12: 108205.65 | U12: 5777.0782 | V12: 2774.4974 | W12: 5389.9372 | X12: 402831.22 | Y12: 1551589.6 | Z12: 19767.207 | AA12: 1203.4946 | AB12: 188336.14 | AC12: 26822.531 | AD12: 91074.217 | AE12: 24656.526 | AF12: 419.46875 | AG12: 278.20094 | AH12: 1391.4045 | AI12: 81685.054 | AJ12: 414663.55 | AK12: 5678.7288
A13: 141+ Years | B13: 1694.5795 | C13: 1032232.2 | D13: 6967.5334 | E13: 299.96901 | F13: 37299.042 | G13: 19324.533 | H13: 72549.87 | I13: 54310.581 | J13: 1598.8625 | K13: 0 | L13: 5158.6377 | M13: 1535.299 | N13: 191776.83 | O13: 1202.0199 | P13: 845.8014 | Q13: 91287.819 | R13: 94694.015 | S13: 184323.86 | T13: 110471.18 | U13: 326.36987 | V13: 0 | W13: 12826.164 | X13: 2764.8587 | Y13: 496694.26 | Z13: 3455.1512 | AA13: 548.80911 | AB13: 55040.248 | AC13: 91029.227 | AD13: 120498.87 | AE13: 68703.89 | AF13: 37.616538 | AG13: 0 | AH13: 7619.115 | AI13: 832.19019 | AJ13: 343761.16 | AK13: 2310.3623
A14: Good Total | B14: 9606.1428 | C14: 4181689.7 | D14: 42699.969 | E14: 2621.2942 | F14: 283342.05 | G14: 83816.348 | H14: 466275.29 | I14: 169403.61 | J14: 5965.7864 | K14: 1857.9794 | L14: 5692.0704 | M14: 358628.01 | N14: 1374981.2 | O14: 11488.52 | P14: 5232.5449 | Q14: 699056.07 | R14: 194026.44 | S14: 503834.39 | T14: 218676.83 | U14: 6103.4481 | V14: 2774.4974 | W14: 18216.101 | X14: 405596.07 | Y14: 2048283.8 | Z14: 23222.358 | AA14: 1752.3037 | AB14: 243376.39 | AC14: 117851.76 | AD14: 211573.09 | AE14: 93360.416 | AF14: 457.08529 | AG14: 278.20094 | AH14: 9010.5195 | AI14: 82517.244 | AJ14: 758424.71 | AK14: 7989.0911
A15: Medium
A16: 41-140 Years | B16: 8446.1395 | C16: 2637130.6 | D16: 34221.156 | E16: 1321.9845 | F16: 61461.873 | G16: 14652.691 | H16: 118601.56 | I16: 163199.89 | J16: 0.95326347 | K16: 2711.8034 | L16: 712.47205 | M16: 32111.983 | N16: 393453.23 | O16: 5217.0151 | P16: 5788.7365 | Q16: 396305.86 | R16: 78298.575 | S16: 558148.73 | T16: 581328.07 | U16: 25.801652 | V16: 7607.1678 | W16: 1481.6232 | X16: 160772.87 | Y16: 1783968.7 | Z16: 23502.773 | AA16: 1335.4185 | AB16: 165913.23 | AC16: 28368.409 | AD16: 161912.27 | AE16: 76101.318 | AF16: 93.246832 | AG16: 62.002967 | AH16: 376.32511 | AI16: 26881.869 | AJ16: 459708.67 | AK16: 5501.3673
A17: 141+ Years | B17: 3980.9403 | C17: 2680847.3 | D17: 15127.344 | E17: 278.38279 | F17: 17239.851 | G17: 5869.4873 | H17: 82230.334 | I17: 75338.048 | J17: 222.87318 | K17: 1201.3422 | L17: 1165.3938 | M17: 229.27702 | N17: 183496.61 | O17: 1051.6227 | P17: 2405.6929 | Q17: 112954.93 | R17: 54697.188 | S17: 643264.34 | T17: 781952.85 | U17: 147.10653 | V17: 3357.6371 | W17: 13230.66 | X17: 594.6428 | Y17: 1610199.4 | Z17: 9123.1152 | AA17: 1296.8646 | AB17: 87690.424 | AC17: 60652.815 | AD17: 408086.45 | AE17: 323911.28 | AF17: 0 | AG17: 473.42404 | AH17: 5385.3787 | AI17: 951.61753 | AJ17: 887151.39 | AK17: 4952.6059
A18: Medium Total | B18: 12427.08 | C18: 5317978 | D18: 49348.499 | E18: 1600.3673 | F18: 78701.723 | G18: 20522.178 | H18: 200831.9 | I18: 238537.94 | J18: 223.82644 | K18: 3913.1455 | L18: 1877.8659 | M18: 32341.26 | N18: 576949.83 | O18: 6268.6378 | P18: 8194.4294 | Q18: 509260.79 | R18: 132995.76 | S18: 1201413.1 | T18: 1363280.9 | U18: 172.90818 | V18: 10964.805 | W18: 14712.283 | X18: 161367.52 | Y18: 3394168.1 | Z18: 32625.888 | AA18: 2632.2831 | AB18: 253603.65 | AC18: 89021.223 | AD18: 569998.72 | AE18: 400012.6 | AF18: 93.246832 | AG18: 535.42701 | AH18: 5761.7038 | AI18: 27833.486 | AJ18: 1346860.1 | AK18: 10453.973
A19: Poor
A20: 41-140 Years | B20: 1509.644 | C20: 625205.69 | D20: 6154.6513 | E20: 621.76228 | F20: 248865.86 | G20: 24541.024 | H20: 18341.228 | I20: 13758.07 | J20: 9113.517 | K20: 1299.9791 | L20: 0 | M20: 12282.159 | N20: 328201.83 | O20: 2732.0793 | P20: 839.06752 | Q20: 186088.25 | R20: 17129.853 | S20: 9977.5831 | T20: 33888.931 | U20: 16802.542 | V20: 596.83569 | W20: 8.9410227 | X20: 20960.757 | Y20: 285453.69 | Z20: 3264.5557 | AA20: 48.81418 | AB20: 5099.0521 | AC20: 214.93174 | AD20: 1356.8667 | AE20: 3549.4243 | AF20: 1010.3748 | AG20: 139.18376 | AH20: 2.7290372 | AI20: 177.61061 | AJ20: 11550.173 | AK20: 158.01626
A21: 141+ Years | B21: 1749.1439 | C21: 949438.12 | D21: 4801.765 | E21: 359.43716 | F21: 23583.982 | G21: 13365.586 | H21: 52784.017 | I21: 88897.989 | J21: 3206.9644 | K21: 30017.764 | L21: 1129.401 | M21: 5.2146847 | N21: 212990.92 | O21: 1013.7198 | P21: 1303.6523 | Q21: 123429.48 | R21: 29903.469 | S21: 214355.91 | T21: 213324.96 | U21: 17301.637 | V21: 87848.54 | W21: 12107.336 | X21: 270.63338 | Y21: 698541.96 | Z21: 3565.2528 | AA21: 86.054394 | AB21: 5684.8319 | AC21: 784.41561 | AD21: 9911.2813 | AE21: 16438.262 | AF21: 497.01357 | AG21: 4007.312 | AH21: 582.12259 | AI21: 0 | AJ21: 37905.239 | AK21: 222.79243
A22: Poor Total | B22: 3258.7878 | C22: 1574643.8 | D22: 10956.416 | E22: 981.19944 | F22: 272449.84 | G22: 37906.61 | H22: 71125.245 | I22: 102656.06 | J22: 12320.481 | K22: 31317.743 | L22: 1129.401 | M22: 12287.374 | N22: 541192.75 | O22: 3745.7992 | P22: 2142.7198 | Q22: 309517.73 | R22: 47033.322 | S22: 224333.49 | T22: 247213.89 | U22: 34104.178 | V22: 88445.375 | W22: 12116.277 | X22: 21231.39 | Y22: 983995.65 | Z22: 6829.8085 | AA22: 134.86857 | AB22: 10783.884 | AC22: 999.34734 | AD22: 11268.148 | AE22: 19987.686 | AF22: 1507.3884 | AG22: 4146.4958 | AH22: 584.85163 | AI22: 177.61061 | AJ22: 49455.412 | AK22: 380.80869
A23: B.C. Timber Sales Total | B23: 25292.01 | C23: 11074311 | D23: 103004.88 | E23: 5202.8609 | F23: 634493.62 | G23: 142245.14 | H23: 738232.43 | I23: 510597.61 | J23: 18510.094 | K23: 37088.868 | L23: 8699.3374 | M23: 403256.65 | N23: 2493123.7 | O23: 21502.957 | P23: 15569.694 | Q23: 1517834.6 | R23: 374055.52 | S23: 1929581 | T23: 1829171.6 | U23: 40380.535 | V23: 102184.68 | W23: 45044.661 | X23: 588194.98 | Y23: 6426447.6 | Z23: 62678.055 | AA23: 4519.4554 | AB23: 507763.93 | AC23: 207872.33 | AD23: 792839.96 | AE23: 513360.7 | AF23: 2057.7205 | AG23: 4960.1237 | AH23: 15357.075 | AI23: 110528.34 | AJ23: 2154740.2 | AK23: 18823.873
A24: First Nations District Area
A25: Good
A26: 41-140 Years | B26: 5963.9439 | C26: 2830559.4 | D26: 28073.037 | E26: 886.92659 | F26: 112751.38 | G26: 25445.271 | H26: 122782.13 | I26: 92756.111 | J26: 7215.1528 | K26: 40.026991 | L26: 534.99313 | M26: 81085.346 | N26: 442610.41 | O26: 4346.5109 | P26: 3764.9621 | Q26: 439610.03 | R26: 90730.446 | S26: 581848.29 | T26: 386360.8 | U26: 20915.859 | V26: 3.20013 | W26: 2778.2518 | X26: 272818.85 | Y26: 1795065.7 | Z26: 17631.9 | AA26: 1312.0552 | AB26: 200741.21 | AC26: 23607.325 | AD26: 199721.84 | AE26: 57047.521 | AF26: 8120.6949 | AG26: 19.630457 | AH26: 337.54409 | AI26: 103287.5 | AJ26: 592883.26 | AK26: 6094.6258
A27: 141+ Years | B27: 2343.5232 | C27: 1832234.6 | D27: 9055.907 | E27: 170.9903 | F27: 15945.927 | G27: 2901.242 | H27: 42239.933 | I27: 50983.651 | J27: 2022.8307 | K27: 50.755858 | L27: 9021.8589 | M27: 3301.3456 | N27: 126467.54 | O27: 586.25244 | P27: 1608.7165 | Q27: 158942.6 | R27: 76502.535 | S27: 453798.63 | T27: 482082.73 | U27: 635.03714 | V27: 74.210178 | W27: 80740.272 | X27: 8906.8761 | Y27: 1261682.9 | Z27: 6142.8567 | AA27: 563.8164 | AB27: 71846.233 | AC27: 35950.336 | AD27: 197098.23 | AE27: 117835.42 | AF27: 0 | AG27: 3.0108661 | AH27: 19147.294 | AI27: 2203.6648 | AJ27: 444084.19 | AK27: 2326.7979
A28: Good Total | B28: 8307.4671 | C28: 4662794 | D28: 37128.944 | E28: 1057.9169 | F28: 128697.31 | G28: 28346.513 | H28: 165022.06 | I28: 143739.76 | J28: 9237.9835 | K28: 90.782849 | L28: 9556.8521 | M28: 84386.691 | N28: 569077.96 | O28: 4932.7633 | P28: 5373.6786 | Q28: 598552.62 | R28: 167232.98 | S28: 1035646.9 | T28: 868443.53 | U28: 21550.896 | V28: 77.410308 | W28: 83518.523 | X28: 281725.73 | Y28: 3056748.6 | Z28: 23774.757 | AA28: 1875.8716 | AB28: 272587.44 | AC28: 59557.66 | AD28: 396820.07 | AE28: 174882.94 | AF28: 8120.6949 | AG28: 22.641323 | AH28: 19484.838 | AI28: 105491.17 | AJ28: 1036967.5 | AK28: 8421.4237
A29: Medium
A30: 41-140 Years | B30: 5965.148 | C30: 2075473.9 | D30: 24501.372 | E30: 984.56746 | F30: 74752.934 | G30: 17117.83 | H30: 96016.737 | I30: 118011.26 | J30: 292.92202 | K30: 2627.7012 | L30: 0 | M30: 41436.016 | N30: 350255.4 | O30: 3917.1661 | P30: 4044.786 | Q30: 379437.62 | R30: 61954.816 | S30: 399565.64 | T30: 455366.45 | U30: 10277.524 | V30: 4113.0121 | W30: 223.17539 | X30: 127015 | Y30: 1437953.2 | Z30: 16718.835 | AA30: 935.79451 | AB30: 93090.709 | AC30: 19454.851 | AD30: 80167.825 | AE30: 51146.242 | AF30: 3931.9652 | AG30: 917.87137 | AH30: 0 | AI30: 38555.832 | AJ30: 287265.3 | AK30: 3865.3714
A31: 141+ Years | B31: 2575.4739 | C31: 1549395.5 | D31: 10223.543 | E31: 218.9824 | F31: 13564.278 | G31: 3521.1254 | H31: 31146.813 | I31: 67976.89 | J31: 0 | K31: 7703.3613 | L31: 102.16104 | M31: 156.3926 | N31: 124171.02 | O31: 769.64534 | P31: 1327.7063 | Q31: 146699.65 | R31: 42690.028 | S31: 316480.35 | T31: 313626.72 | U31: 1536.664 | V31: 16729.786 | W31: 1018.9671 | X31: 990.55006 | Y31: 839772.71 | Z31: 5364.2734 | AA31: 1028.7852 | AB31: 142443.29 | AC31: 41266.171 | AD31: 253853.97 | AE31: 141701.83 | AF31: 433.40268 | AG31: 3976.1639 | AH31: 0 | AI31: 1776.8957 | AJ31: 585451.73 | AK31: 4089.6244
A32: Medium Total | B32: 8540.6219 | C32: 3624869.4 | D32: 34724.916 | E32: 1203.5499 | F32: 88317.213 | G32: 20638.955 | H32: 127163.55 | I32: 185988.15 | J32: 292.92202 | K32: 10331.062 | L32: 102.16104 | M32: 41592.409 | N32: 474426.42 | O32: 4686.8114 | P32: 5372.4923 | Q32: 526137.27 | R32: 104644.84 | S32: 716045.99 | T32: 768993.17 | U32: 11814.188 | V32: 20842.798 | W32: 1242.1425 | X32: 128005.55 | Y32: 2277726 | Z32: 22083.108 | AA32: 1964.5798 | AB32: 235534 | AC32: 60721.023 | AD32: 334021.8 | AE32: 192848.08 | AF32: 4365.3679 | AG32: 4894.0353 | AH32: 0 | AI32: 40332.727 | AJ32: 872717.02 | AK32: 7954.9958
A33: Poor
A34: 41-140 Years | B34: 2001.834 | C34: 398773.62 | D34: 6266.9589 | E34: 228.29264 | F34: 16014.315 | G34: 2093.5642 | H34: 899.65945 | I34: 10249.439 | J34: 4797.9099 | K34: 769.993 | L34: 41.208835 | M34: 2317.8899 | N34: 37183.98 | O34: 703.86119 | P34: 1505.8543 | Q34: 198923.46 | R34: 3311.5098 | S34: 4857.4479 | T34: 39606.287 | U34: 61236.424 | V34: 2985.6142 | W34: 594.09813 | X34: 11196.267 | Y34: 322711.11 | Z34: 4757.601 | AA34: 267.68707 | AB34: 26811.097 | AC34: 290.93267 | AD34: 1707.8131 | AE34: 3266.4618 | AF34: 4825.1579 | AG34: 287.44318 | AH34: 322.19782 | AI34: 1367.4197 | AJ34: 38878.524 | AK34: 805.49672
A35: 141+ Years | B35: 1540.0758 | C35: 538138.93 | D35: 4787.3005 | E35: 161.23418 | F35: 8583.5451 | G35: 274.56841 | H35: 5442.1936 | I35: 30419.866 | J35: 456.10298 | K35: 11755.259 | L35: 88.510618 | M35: 92.024659 | N35: 57112.071 | O35: 473.88932 | P35: 1164.3178 | Q35: 188342.51 | R35: 11162.077 | S35: 41905.108 | T35: 112572.49 | U35: 6515.925 | V35: 53774.392 | W35: 98.350404 | X35: 1369.0756 | Y35: 415739.93 | Z35: 3679.6999 | AA35: 214.52381 | AB35: 42467.165 | AC35: 881.40936 | AD35: 4038.1388 | AE35: 10745.023 | AF35: 627.55736 | AG35: 6182.2874 | AH35: 0 | AI35: 345.34997 | AJ35: 65286.931 | AK35: 633.71121
A36: Poor Total | B36: 3541.9098 | C36: 936912.55 | D36: 11054.259 | E36: 389.52683 | F36: 24597.861 | G36: 2368.1326 | H36: 6341.8531 | I36: 40669.305 | J36: 5254.0129 | K36: 12525.252 | L36: 129.71945 | M36: 2409.9146 | N36: 94296.051 | O36: 1177.7505 | P36: 2670.1721 | Q36: 387265.97 | R36: 14473.587 | S36: 46762.556 | T36: 152178.78 | U36: 67752.349 | V36: 56760.007 | W36: 692.44854 | X36: 12565.343 | Y36: 738451.04 | Z36: 8437.3009 | AA36: 482.21088 | AB36: 69278.262 | AC36: 1172.342 | AD36: 5745.9518 | AE36: 14011.485 | AF36: 5452.7153 | AG36: 6469.7306 | AH36: 322.19782 | AI36: 1712.7696 | AJ36: 104165.45 | AK36: 1439.2079
A37: First Nations District Area Total | B37: 20389.999 | C37: 9224576 | D37: 82908.119 | E37: 2650.9936 | F37: 241612.38 | G37: 51353.601 | H37: 298527.46 | I37: 370397.22 | J37: 14784.918 | K37: 22947.098 | L37: 9788.7326 | M37: 128389.01 | N37: 1137800.4 | O37: 10797.325 | P37: 13416.343 | Q37: 1511955.9 | R37: 286351.41 | S37: 1798455.5 | T37: 1789615.5 | U37: 101117.43 | V37: 77680.215 | W37: 85453.114 | X37: 422296.62 | Y37: 6072925.6 | Z37: 54295.166 | AA37: 4322.6623 | AB37: 577399.7 | AC37: 121451.03 | AD37: 736587.82 | AE37: 381742.5 | AF37: 17938.778 | AG37: 11386.407 | AH37: 19807.036 | AI37: 147536.66 | AJ37: 2013849.9 | AK37: 17815.627
A38: Lakeside Pacific Forest Products
A39: Good
A40: 41-140 Years | B40: 6759.917 | C40: 2319765.1 | D40: 30592.219 | E40: 1035.3703 | F40: 156837.66 | G40: 34226.032 | H40: 87534.828 | I40: 52740.71 | J40: 6301.2807 | K40: 0 | L40: 1686.1441 | M40: 46492.188 | N40: 385818.84 | O40: 4730.6917 | P40: 4745.801 | Q40: 699503.16 | R40: 149292 | S40: 431633.53 | T40: 157825.26 | U40: 28460.779 | V40: 0 | W40: 9320.853 | X40: 156979.01 | Y40: 1633014.6 | Z40: 21250.601 | AA40: 978.74572 | AB40: 151748.43 | AC40: 18674.165 | AD40: 73574.373 | AE40: 36047.632 | AF40: 1736.1445 | AG40: 0 | AH40: 1117.831 | AI40: 18033.064 | AJ40: 300931.63 | AK40: 4610.9265
A41: 141+ Years | B41: 4800.062 | C41: 3450779.7 | D41: 20414.59 | E41: 375.33431 | F41: 31614.454 | G41: 10455.447 | H41: 100967.78 | I41: 102773.51 | J41: 777.19087 | K41: 0 | L41: 22593.605 | M41: 2998.6502 | N41: 272180.63 | O41: 1686.292 | P41: 3174.084 | Q41: 361786.81 | R41: 146580.19 | S41: 876525.7 | T41: 766376.83 | U41: 3090.7943 | V41: 80.68008 | W41: 135436.24 | X41: 10262.892 | Y41: 2300140.1 | Z41: 13658.568 | AA41: 1250.6437 | AB41: 161919.3 | AC41: 126065.03 | AD41: 349139.57 | AE41: 196940.86 | AF41: 369.61124 | AG41: 345.22108 | AH41: 41975.104 | AI41: 1704.2763 | AJ41: 878458.97 | AK41: 5069.7305
...

Sheet V3 AUG2017
A1: Timber Harvesting Land Base (THLB): Based on Fraser TSA TSR 4 Timber Supply Analysis using a compilation of the best available information.
A2: August 2017 Version 3 - Licensee Operating Area Analysis Forest Cover Data Sources:
A3: Vegetation Resource Inventory: Attributes projected to 2016
A4: Change Detection Mapping: Denudation current to April 2017 using RESULTS forest_cover_inv_svw dataset and Landsat imagery
A5: Burn Severity Mapping: Wildfire V10247 (Cougar Creek) & V10370 (Wood Lake) forest cover updated for Low, Medium & High severity burn
A7: August 1, 2017 Licensee - Economic Zones | B7: Total THLB Area (ha) | C7: Total THLB Vol (m3) | D7: Total Annual Yield (m3/yr) | E7: Slope 0-30 % | P7: Slope 31-69 % | AA7: > 69%
E8: Slope THLB Area (ha) | F8: THLB Volume (m3) | N8: Slope THLB Volume m3 | O8: Annual Yield m3/yr | P8: Slope THLB Area (ha) | Q8: THLB Volume (m3) | Y8: Slope THLB Volume | Z8: Annual Yield m3/yr | AA8: Slope THLB Area (ha) | AB8: THLB Volume (m3) | AJ8: Slope THLB Volume | AK8: Annual Yield m3/yr
E9: Area (ha) | F9: FIR | G9: CEDAR | H9: HEMLOCK | I9: BALSAM | J9: PINE | K9: SPRUCE | L9: CYPRESS | M9: DECIDUOUS | N9: CFLB Volume (m3) | Q9: FIR | R9: CEDAR | S9: HEMLOCK | T9: BALSAM | U9: PINE | V9: SPRUCE | W9: CYPRESS | X9: DECIDUOUS | Y9: THLB_RVTOT | AB9: FIR | AC9: CEDAR | AD9: HEMLOCK | AE9: BALSAM | AF9: PINE | AG9: SPRUCE | AH9: CYPRESS | AI9: DECIDUOUS | AJ9: Sum of THLB_RVTOT
A10: B.C. Timber Sales
A11: Good
A12: 41-140 Years | B12: 7911.5633 | C12: 3149457.5 | D12: 35732.436 | E12: 2321.3252 | F12: 246043.01 | G12: 64491.815 | H12: 393725.42 | I12: 115093.03 | J12: 4366.9239 | K12: 1857.9794 | L12: 533.43271 | M12: 357092.71 | N12: 1183204.3 | O12: 10286.5 | P12: 4386.7435 | Q12: 607768.25 | R12: 99332.422 | S12: 319510.54 | T12: 108205.65 | U12: 5777.0782 | V12: 2774.4974 | W12: 5389.9372 | X12: 402831.22 | Y12: 1551589.6 | Z12: 19767.207 | AA12: 1203.4946 | AB12: 188336.14 | AC12: 26822.531 | AD12: 91074.217 | AE12: 24656.526 | AF12: 419.46875 | AG12: 278.20094 | AH12: 1391.4045 | AI12: 81685.054 | AJ12: 414663.55 | AK12: 5678.7288
A13: 141+ Years | B13: 1694.5795 | C13: 1032232.2 | D13: 6967.5334 | E13: 299.96901 | F13: 37299.042 | G13: 19324.533 | H13: 72549.87 | I13: 54310.581 | J13: 1598.8625 | K13: 0 | L13: 5158.6377 | M13: 1535.299 | N13: 191776.83 | O13: 1202.0199 | P13: 845.8014 | Q13: 91287.819 | R13: 94694.015 | S13: 184323.86 | T13: 110471.18 | U13: 326.36987 | V13: 0 | W13: 12826.164 | X13: 2764.8587 | Y13: 496694.26 | Z13: 3455.1512 | AA13: 548.80911 | AB13: 55040.248 | AC13: 91029.227 | AD13: 120498.87 | AE13: 68703.89 | AF13: 37.616538 | AG13: 0 | AH13: 7619.115 | AI13: 832.19019 | AJ13: 343761.16 | AK13: 2310.3623
A14: Good Total | B14: 9606.1428 | C14: 4181689.7 | D14: 42699.969 | E14: 2621.2942 | F14: 283342.05 | G14: 83816.348 | H14: 466275.29 | I14: 169403.61 | J14: 5965.7864 | K14: 1857.9794 | L14: 5692.0704 | M14: 358628.01 | N14: 1374981.2 | O14: 11488.52 | P14: 5232.5449 | Q14: 699056.07 | R14: 194026.44 | S14: 503834.39 | T14: 218676.83 | U14: 6103.4481 | V14: 2774.4974 | W14: 18216.101 | X14: 405596.07 | Y14: 2048283.8 | Z14: 23222.358 | AA14: 1752.3037 | AB14: 243376.39 | AC14: 117851.76 | AD14: 211573.09 | AE14: 93360.416 | AF14: 457.08529 | AG14: 278.20094 | AH14: 9010.5195 | AI14: 82517.244 | AJ14: 758424.71 | AK14: 7989.0911
A15: Medium
A16: 41-140 Years | B16: 8446.1395 | C16: 2637130.6 | D16: 34221.156 | E16: 1321.9845 | F16: 61461.873 | G16: 14652.691 | H16: 118601.56 | I16: 163199.89 | J16: 0.95326347 | K16: 2711.8034 | L16: 712.47205 | M16: 32111.983 | N16: 393453.23 | O16: 5217.0151 | P16: 5788.7365 | Q16: 396305.86 | R16: 78298.575 | S16: 558148.73 | T16: 581328.07 | U16: 25.801652 | V16: 7607.1678 | W16: 1481.6232 | X16: 160772.87 | Y16: 1783968.7 | Z16: 23502.773 | AA16: 1335.4185 | AB16: 165913.23 | AC16: 28368.409 | AD16: 161912.27 | AE16: 76101.318 | AF16: 93.246832 | AG16: 62.002967 | AH16: 376.32511 | AI16: 26881.869 | AJ16: 459708.67 | AK16: 5501.3673
A17: 141+ Years | B17: 3980.9403 | C17: 2680847.3 | D17: 15127.344 | E17: 278.38279 | F17: 17239.851 | G17: 5869.4873 | H17: 82230.334 | I17: 75338.048 | J17: 222.87318 | K17: 1201.3422 | L17: 1165.3938 | M17: 229.27702 | N17: 183496.61 | O17: 1051.6227 | P17: 2405.6929 | Q17: 112954.93 | R17: 54697.188 | S17: 643264.34 | T17: 781952.85 | U17: 147.10653 | V17: 3357.6371 | W17: 13230.66 | X17: 594.6428 | Y17: 1610199.4 | Z17: 9123.1152 | AA17: 1296.8646 | AB17: 87690.424 | AC17: 60652.815 | AD17: 408086.45 | AE17: 323911.28 | AF17: 0 | AG17: 473.42404 | AH17: 5385.3787 | AI17: 951.61753 | AJ17: 887151.39 | AK17: 4952.6059
A18: Medium Total | B18: 12427.08 | C18: 5317978 | D18: 49348.499 | E18: 1600.3673 | F18: 78701.723 | G18: 20522.178 | H18: 200831.9 | I18: 238537.94 | J18: 223.82644 | K18: 3913.1455 | L18: 1877.8659 | M18: 32341.26 | N18: 576949.83 | O18: 6268.6378 | P18: 8194.4294 | Q18: 509260.79 | R18: 132995.76 | S18: 1201413.1 | T18: 1363280.9 | U18: 172.90818 | V18: 10964.805 | W18: 14712.283 | X18: 161367.52 | Y18: 3394168.1 | Z18: 32625.888 | AA18: 2632.2831 | AB18: 253603.65 | AC18: 89021.223 | AD18: 569998.72 | AE18: 400012.6 | AF18: 93.246832 | AG18: 535.42701 | AH18: 5761.7038 | AI18: 27833.486 | AJ18: 1346860.1 | AK18: 10453.973
A19: Poor
A20: 41-140 Years | B20: 1509.644 | C20: 625205.69 | D20: 6154.6513 | E20: 621.76228 | F20: 248865.86 | G20: 24541.024 | H20: 18341.228 | I20: 13758.07 | J20: 9113.517 | K20: 1299.9791 | L20: 0 | M20: 12282.159 | N20: 328201.83 | O20: 2732.0793 | P20: 839.06752 | Q20: 186088.25 | R20: 17129.853 | S20: 9977.5831 | T20: 33888.931 | U20: 16802.542 | V20: 596.83569 | W20: 8.9410227 | X20: 20960.757 | Y20: 285453.69 | Z20: 3264.5557 | AA20: 48.81418 | AB20: 5099.0521 | AC20: 214.93174 | AD20: 1356.8667 | AE20: 3549.4243 | AF20: 1010.3748 | AG20: 139.18376 | AH20: 2.7290372 | AI20: 177.61061 | AJ20: 11550.173 | AK20: 158.01626
A21: 141+ Years | B21: 1749.1439 | C21: 949438.12 | D21: 4801.765 | E21: 359.43716 | F21: 23583.982 | G21: 13365.586 | H21: 52784.017 | I21: 88897.989 | J21: 3206.9644 | K21: 30017.764 | L21: 1129.401 | M21: 5.2146847 | N21: 212990.92 | O21: 1013.7198 | P21: 1303.6523 | Q21: 123429.48 | R21: 29903.469 | S21: 214355.91 | T21: 213324.96 | U21: 17301.637 | V21: 87848.54 | W21: 12107.336 | X21: 270.63338 | Y21: 698541.96 | Z21: 3565.2528 | AA21: 86.054394 | AB21: 5684.8319 | AC21: 784.41561 | AD21: 9911.2813 | AE21: 16438.262 | AF21: 497.01357 | AG21: 4007.312 | AH21: 582.12259 | AI21: 0 | AJ21: 37905.239 | AK21: 222.79243
A22: Poor Total | B22: 3258.7878 | C22: 1574643.8 | D22: 10956.416 | E22: 981.19944 | F22: 272449.84 | G22: 37906.61 | H22: 71125.245 | I22: 102656.06 | J22: 12320.481 | K22: 31317.743 | L22: 1129.401 | M22: 12287.374 | N22: 541192.75 | O22: 3745.7992 | P22: 2142.7198 | Q22: 309517.73 | R22: 47033.322 | S22: 224333.49 | T22: 247213.89 | U22: 34104.178 | V22: 88445.375 | W22: 12116.277 | X22: 21231.39 | Y22: 983995.65 | Z22: 6829.8085 | AA22: 134.86857 | AB22: 10783.884 | AC22: 999.34734 | AD22: 11268.148 | AE22: 19987.686 | AF22: 1507.3884 | AG22: 4146.4958 | AH22: 584.85163 | AI22: 177.61061 | AJ22: 49455.412 | AK22: 380.80869
A23: B.C. Timber Sales Total | B23: 25292.01 | C23: 11074311 | D23: 103004.88 | E23: 5202.8609 | F23: 634493.62 | G23: 142245.14 | H23: 738232.43 | I23: 510597.61 | J23: 18510.094 | K23: 37088.868 | L23: 8699.3374 | M23: 403256.65 | N23: 2493123.7 | O23: 21502.957 | P23: 15569.694 | Q23: 1517834.6 | R23: 374055.52 | S23: 1929581 | T23: 1829171.6 | U23: 40380.535 | V23: 102184.68 | W23: 45044.661 | X23: 588194.98 | Y23: 6426447.6 | Z23: 62678.055 | AA23: 4519.4554 | AB23: 507763.93 | AC23: 207872.33 | AD23: 792839.96 | AE23: 513360.7 | AF23: 2057.7205 | AG23: 4960.1237 | AH23: 15357.075 | AI23: 110528.34 | AJ23: 2154740.2 | AK23: 18823.873
A24: First Nations District Area
A25: Good
A26: 41-140 Years | B26: 5963.9439 | C26: 2830559.4 | D26: 28073.037 | E26: 886.92659 | F26: 112751.38 | G26: 25445.271 | H26: 122782.13 | I26: 92756.111 | J26: 7215.1528 | K26: 40.026991 | L26: 534.99313 | M26: 81085.346 | N26: 442610.41 | O26: 4346.5109 | P26: 3764.9621 | Q26: 439610.03 | R26: 90730.446 | S26: 581848.29 | T26: 386360.8 | U26: 20915.859 | V26: 3.20013 | W26: 2778.2518 | X26: 272818.85 | Y26: 1795065.7 | Z26: 17631.9 | AA26: 1312.0552 | AB26: 200741.21 | AC26: 23607.325 | AD26: 199721.84 | AE26: 57047.521 | AF26: 8120.6949 | AG26: 19.630457 | AH26: 337.54409 | AI26: 103287.5 | AJ26: 592883.26 | AK26: 6094.6258
A27: 141+ Years | B27: 2343.5232 | C27: 1832234.6 | D27: 9055.907 | E27: 170.9903 | F27: 15945.927 | G27: 2901.242 | H27: 42239.933 | I27: 50983.651 | J27: 2022.8307 | K27: 50.755858 | L27: 9021.8589 | M27: 3301.3456 | N27: 126467.54 | O27: 586.25244 | P27: 1608.7165 | Q27: 158942.6 | R27: 76502.535 | S27: 453798.63 | T27: 482082.73 | U27: 635.03714 | V27: 74.210178 | W27: 80740.272 | X27: 8906.8761 | Y27: 1261682.9 | Z27: 6142.8567 | AA27: 563.8164 | AB27: 71846.233 | AC27: 35950.336 | AD27: 197098.23 | AE27: 117835.42 | AF27: 0 | AG27: 3.0108661 | AH27: 19147.294 | AI27: 2203.6648 | AJ27: 444084.19 | AK27: 2326.7979
A28: Good Total | B28: 8307.4671 | C28: 4662794 | D28: 37128.944 | E28: 1057.9169 | F28: 128697.31 | G28: 28346.513 | H28: 165022.06 | I28: 143739.76 | J28: 9237.9835 | K28: 90.782849 | L28: 9556.8521 | M28: 84386.691 | N28: 569077.96 | O28: 4932.7633 | P28: 5373.6786 | Q28: 598552.62 | R28: 167232.98 | S28: 1035646.9 | T28: 868443.53 | U28: 21550.896 | V28: 77.410308 | W28: 83518.523 | X28: 281725.73 | Y28: 3056748.6 | Z28: 23774.757 | AA28: 1875.8716 | AB28: 272587.44 | AC28: 59557.66 | AD28: 396820.07 | AE28: 174882.94 | AF28: 8120.6949 | AG28: 22.641323 | AH28: 19484.838 | AI28: 105491.17 | AJ28: 1036967.5 | AK28: 8421.4237
A29: Medium
A30: 41-140 Years | B30: 5965.148 | C30: 2075473.9 | D30: 24501.372 | E30: 984.56746 | F30: 74752.934 | G30: 17117.83 | H30: 96016.737 | I30: 118011.26 | J30: 292.92202 | K30: 2627.7012 | L30: 0 | M30: 41436.016 | N30: 350255.4 | O30: 3917.1661 | P30: 4044.786 | Q30: 379437.62 | R30: 61954.816 | S30: 399565.64 | T30: 455366.45 | U30: 10277.524 | V30: 4113.0121 | W30: 223.17539 | X30: 127015 | Y30: 1437953.2 | Z30: 16718.835 | AA30: 935.79451 | AB30: 93090.709 | AC30: 19454.851 | AD30: 80167.825 | AE30: 51146.242 | AF30: 3931.9652 | AG30: 917.87137 | AH30: 0 | AI30: 38555.832 | AJ30: 287265.3 | AK30: 3865.3714
A31: 141+ Years | B31: 2575.4739 | C31: 1549395.5 | D31: 10223.543 | E31: 218.9824 | F31: 13564.278 | G31: 3521.1254 | H31: 31146.813 | I31: 67976.89 | J31: 0 | K31: 7703.3613 | L31: 102.16104 | M31: 156.3926 | N31: 124171.02 | O31: 769.64534 | P31: 1327.7063 | Q31: 146699.65 | R31: 42690.028 | S31: 316480.35 | T31: 313626.72 | U31: 1536.664 | V31: 16729.786 | W31: 1018.9671 | X31: 990.55006 | Y31: 839772.71 | Z31: 5364.2734 | AA31: 1028.7852 | AB31: 142443.29 | AC31: 41266.171 | AD31: 253853.97 | AE31: 141701.83 | AF31: 433.40268 | AG31: 3976.1639 | AH31: 0 | AI31: 1776.8957 | AJ31: 585451.73 | AK31: 4089.6244
A32: Medium Total | B32: 8540.6219 | C32: 3624869.4 | D32: 34724.916 | E32: 1203.5499 | F32: 88317.213 | G32: 20638.955 | H32: 127163.55 | I32: 185988.15 | J32: 292.92202 | K32: 10331.062 | L32: 102.16104 | M32: 41592.409 | N32: 474426.42 | O32: 4686.8114 | P32: 5372.4923 | Q32: 526137.27 | R32: 104644.84 | S32: 716045.99 | T32: 768993.17 | U32: 11814.188 | V32: 20842.798 | W32: 1242.1425 | X32: 128005.55 | Y32: 2277726 | Z32: 22083.108 | AA32: 1964.5798 | AB32: 235534 | AC32: 60721.023 | AD32: 334021.8 | AE32: 192848.08 | AF32: 4365.3679 | AG32: 4894.0353 | AH32: 0 | AI32: 40332.727 | AJ32: 872717.02 | AK32: 7954.9958
A33: Poor
A34: 41-140 Years | B34: 2001.834 | C34: 398773.62 | D34: 6266.9589 | E34: 228.29264 | F34: 16014.315 | G34: 2093.5642 | H34: 899.65945 | I34: 10249.439 | J34: 4797.9099 | K34: 769.993 | L34: 41.208835 | M34: 2317.8899 | N34: 37183.98 | O34: 703.86119 | P34: 1505.8543 | Q34: 198923.46 | R34: 3311.5098 | S34: 4857.4479 | T34: 39606.287 | U34: 61236.424 | V34: 2985.6142 | W34: 594.09813 | X34: 11196.267 | Y34: 322711.11 | Z34: 4757.601 | AA34: 267.68707 | AB34: 26811.097 | AC34: 290.93267 | AD34: 1707.8131 | AE34: 3266.4618 | AF34: 4825.1579 | AG34: 287.44318 | AH34: 322.19782 | AI34: 1367.4197 | AJ34: 38878.524 | AK34: 805.49672
A35: 141+ Years | B35: 1540.0758 | C35: 538138.93 | D35: 4787.3005 | E35: 161.23418 | F35: 8583.5451 | G35: 274.56841 | H35: 5442.1936 | I35: 30419.866 | J35: 456.10298 | K35: 11755.259 | L35: 88.510618 | M35: 92.024659 | N35: 57112.071 | O35: 473.88932 | P35: 1164.3178 | Q35: 188342.51 | R35: 11162.077 | S35: 41905.108 | T35: 112572.49 | U35: 6515.925 | V35: 53774.392 | W35: 98.350404 | X35: 1369.0756 | Y35: 415739.93 | Z35: 3679.6999 | AA35: 214.52381 | AB35: 42467.165 | AC35: 881.40936 | AD35: 4038.1388 | AE35: 10745.023 | AF35: 627.55736 | AG35: 6182.2874 | AH35: 0 | AI35: 345.34997 | AJ35: 65286.931 | AK35: 633.71121
A36: Poor Total | B36: 3541.9098 | C36: 936912.55 | D36: 11054.259 | E36: 389.52683 | F36: 24597.861 | G36: 2368.1326 | H36: 6341.8531 | I36: 40669.305 | J36: 5254.0129 | K36: 12525.252 | L36: 129.71945 | M36: 2409.9146 | N36: 94296.051 | O36: 1177.7505 | P36: 2670.1721 | Q36: 387265.97 | R36: 14473.587 | S36: 46762.556 | T36: 152178.78 | U36: 67752.349 | V36: 56760.007 | W36: 692.44854 | X36: 12565.343 | Y36: 738451.04 | Z36: 8437.3009 | AA36: 482.21088 | AB36: 69278.262 | AC36: 1172.342 | AD36: 5745.9518 | AE36: 14011.485 | AF36: 5452.7153 | AG36: 6469.7306 | AH36: 322.19782 | AI36: 1712.7696 | AJ36: 104165.45 | AK36: 1439.2079
A37: First Nations District Area Total | B37: 20389.999 | C37: 9224576 | D37: 82908.119 | E37: 2650.9936 | F37: 241612.38 | G37: 51353.601 | H37: 298527.46 | I37: 370397.22 | J37: 14784.918 | K37: 22947.098 | L37: 9788.7326 | M37: 128389.01 | N37: 1137800.4 | O37: 10797.325 | P37: 13416.343 | Q37: 1511955.9 | R37: 286351.41 | S37: 1798455.5 | T37: 1789615.5 | U37: 101117.43 | V37: 77680.215 | W37: 85453.114 | X37: 422296.62 | Y37: 6072925.6 | Z37: 54295.166 | AA37: 4322.6623 | AB37: 577399.7 | AC37: 121451.03 | AD37: 736587.82 | AE37: 381742.5 | AF37: 17938.778 | AG37: 11386.407 | AH37: 19807.036 | AI37: 147536.66 | AJ37: 2013849.9 | AK37: 17815.627
A38: Lakeside Pacific Forest Products
A39: Good
A40: 41-140 Years | B40: 6759.917 | C40: 2319765.1 | D40: 30592.219 | E40: 1035.3703 | F40: 156837.66 | G40: 34226.032 | H40: 87534.828 | I40: 52740.71 | J40: 6301.2807 | K40: 0 | L40: 1686.1441 | M40: 46492.188 | N40: 385818.84 | O40: 4730.6917 | P40: 4745.801 | Q40: 699503.16 | R40: 149292 | S40: 431633.53 | T40: 157825.26 | U40: 28460.779 | V40: 0 | W40: 9320.853 | X40: 156979.01 | Y40: 1633014.6 | Z40: 21250.601 | AA40: 978.74572 | AB40: 151748.43 | AC40: 18674.165 | AD40: 73574.373 | AE40: 36047.632 | AF40: 1736.1445 | AG40: 0 | AH40: 1117.831 | AI40: 18033.064 | AJ40: 300931.63 | AK40: 4610.9265
A41: 141+ Years | B41: 4800.062 | C41: 3450779.7 | D41: 20414.59 | E41: 375.33431 | F41: 31614.454 | G41: 10455.447 | H41: 100967.78 | I41: 102773.51 | J41: 777.19087 | K41: 0 | L41: 22593.605 | M41: 2998.6502 | N41: 272180.63 | O41: 1686.292 | P41: 3174.084 | Q41: 361786.81 | R41: 146580.19 | S41: 876525.7 | T41: 766376.83 | U41: 3090.7943 | V41: 80.68008 | W41: 135436.24 | X41: 10262.892 | Y41: 2300140.1 | Z41: 13658.568 | AA41: 1250.6437 | AB41: 161919.3 | AC41: 126065.03 | AD41: 349139.57 | AE41: 196940.86 | AF41: 369.61124 | AG41: 345.22108 | AH41: 41975.104 | AI41: 1704.2763 | AJ41: 878458.97 | AK41: 5069.7305
...

Sheet Comparison
A2: August 1, 2017 Licensee - Economic Zones | B2: 2017 Total THLB Area (ha) | C2: Total THLB Area Difference +/-from Benchmark | D2: 2017 Total THLB Vol (m3) | E2: Total THLB Vol Difference +/-from Benchmark | F2: Slope 0-30 % | J2: Slope 31-69% | N2: Slope > 69%
F3: Slope THLB Area (ha) | G3: THLB Area Difference +/-from Benchmark | H3: Slope THLB Volume m3 | I3: THLB Vol Difference +/-from Benchmark | J3: Slope THLB Area (ha) | K3: THLB Area Difference +/- from Benchmark | L3: Slope THLB Volume m3 | M3: THLB Vol Difference +/- from Benchmark | N3: Slope THLB Area (ha) | O3: THLB Area Difference +/- from Benchmark | P3: Slope THLB Volume | Q3: THLB Vol Difference +/- from Benchmark
F4: CFLB Area (ha) | H4: CFLB Volume (m3) | J4: THLBAREA | L4: THLB_RVTOT | N4: Sum of THLBAREA | P4: Sum of THLB_RVTOT
A5: B.C. Timber Sales
A6: Good - Economic Zone
A7: 41-140 Years | B7: 7911.5633 | C7: =B7-'Benchmark 2015'!D25 -> -6853.1897 | D7: 3149457.5 | E7: =D7-'Benchmark 2015'!E25 -> -2637056.9 | F7: 2321.3252 | G7: =F7-'Benchmark 2015'!G25 -> -1187.5829 | H7: 1183204.3 | I7: =H7-'Benchmark 2015'!P25 -> -265759.69 | J7: 4386.7435 | K7: =J7-'Benchmark 2015'!S25 -> -4390.7792 | L7: 1551589.6 | M7: =L7-'Benchmark 2015'!AB25 -> -1846447.2 | N7: 1203.4946 | O7: =N7-'Benchmark 2015'!AE25 -> -1274.8277 | P7: 414663.55 | Q7: =P7-'Benchmark 2015'!AN25 -> -524850.05
A8: 141+ Years | B8: 1694.5795 | C8: =B8-'Benchmark 2015'!D26 -> -1540.1267 | D8: 1032232.2 | E8: =D8-'Benchmark 2015'!E26 -> -990812.16 | F8: 299.96901 | G8: =F8-'Benchmark 2015'!G26 -> -107.83171 | H8: 191776.83 | I8: =H8-'Benchmark 2015'!P26 -> -60123.688 | J8: 845.8014 | K8: =J8-'Benchmark 2015'!S26 -> -1010.0419 | L8: 496694.26 | M8: =L8-'Benchmark 2015'!AB26 -> -696162.43 | N8: 548.80911 | O8: =N8-'Benchmark 2015'!AE26 -> -422.25305 | P8: 343761.16 | Q8: =P8-'Benchmark 2015'!AN26 -> -234526.04
A9: Good - Economic Zone Total | B9: 9606.1428 | C9: =B9-'Benchmark 2015'!D27 -> -8393.3164 | D9: 4181689.7 | E9: =D9-'Benchmark 2015'!E27 -> -3627869.1 | F9: 2621.2942 | G9: =F9-'Benchmark 2015'!G27 -> -1295.4146 | H9: 1374981.2 | I9: =H9-'Benchmark 2015'!P27 -> -325883.38 | J9: 5232.5449 | K9: =J9-'Benchmark 2015'!S27 -> -5400.8211 | L9: 2048283.8 | M9: =L9-'Benchmark 2015'!AB27 -> -2542609.6 | N9: 1752.3037 | O9: =N9-'Benchmark 2015'!AE27 -> -1697.0808 | P9: 758424.71 | Q9: =P9-'Benchmark 2015'!AN27 -> -759376.09
A10: Medium - Economic Zone | C10: =B10-'Benchmark 2015'!D28 -> 0 | E10: =D10-'Benchmark 2015'!E28 -> 0 | G10: =F10-'Benchmark 2015'!G28 -> 0 | I10: =H10-'Benchmark 2015'!P28 -> 0 | K10: =J10-'Benchmark 2015'!S28 -> 0 | M10: =L10-'Benchmark 2015'!AB28 -> 0 | O10: =N10-'Benchmark 2015'!AE28 -> 0 | Q10: =P10-'Benchmark 2015'!AN28 -> 0
A11: 41-140 Years | B11: 8446.1395 | C11: =B11-'Benchmark 2015'!D29 -> 253.48072 | D11: 2637130.6 | E11: =D11-'Benchmark 2015'!E29 -> 65767.078 | F11: 1321.9845 | G11: =F11-'Benchmark 2015'!G29 -> -28.244407 | H11: 393453.23 | I11: =H11-'Benchmark 2015'!P29 -> -9257.4286 | J11: 5788.7365 | K11: =J11-'Benchmark 2015'!S29 -> 192.85682 | L11: 1783968.7 | M11: =L11-'Benchmark 2015'!AB29 -> 29986.286 | N11: 1335.4185 | O11: =N11-'Benchmark 2015'!AE29 -> 88.868305 | P11: 459708.67 | Q11: =P11-'Benchmark 2015'!AN29 -> 45038.221
A12: 141+ Years | B12: 3980.9403 | C12: =B12-'Benchmark 2015'!D30 -> -372.52806 | D12: 2680847.3 | E12: =D12-'Benchmark 2015'!E30 -> -288648.66 | F12: 278.38279 | G12: =F12-'Benchmark 2015'!G30 -> -31.282953 | H12: 183496.61 | I12: =H12-'Benchmark 2015'!P30 -> -30952.907 | J12: 2405.6929 | K12: =J12-'Benchmark 2015'!S30 -> -341.97244 | L12: 1610199.4 | M12: =L12-'Benchmark 2015'!AB30 -> -261519.88 | N12: 1296.8646 | O12: =N12-'Benchmark 2015'!AE30 -> 0.72733497 | P12: 887151.39 | Q12: =P12-'Benchmark 2015'!AN30 -> 3824.1252
A13: Medium - Economic Zone Total | B13: 12427.08 | C13: =B13-'Benchmark 2015'!D31 -> -119.04734 | D13: 5317978 | E13: =D13-'Benchmark 2015'!E31 -> -222881.58 | F13: 1600.3673 | G13: =F13-'Benchmark 2015'!G31 -> -59.52736 | H13: 576949.83 | I13: =H13-'Benchmark 2015'!P31 -> -40210.336 | J13: 8194.4294 | K13: =J13-'Benchmark 2015'!S31 -> -149.11562 | L13: 3394168.1 | M13: =L13-'Benchmark 2015'!AB31 -> -231533.59 | N13: 2632.2831 | O13: =N13-'Benchmark 2015'!AE31 -> 89.59564 | P13: 1346860.1 | Q13: =P13-'Benchmark 2015'!AN31 -> 48862.346
A14: Poor - Economic Zone | C14: =B14-'Benchmark 2015'!D32 -> 0 | E14: =D14-'Benchmark 2015'!E32 -> 0 | G14: =F14-'Benchmark 2015'!G32 -> 0 | I14: =H14-'Benchmark 2015'!P32 -> 0 | K14: =J14-'Benchmark 2015'!S32 -> 0 | M14: =L14-'Benchmark 2015'!AB32 -> 0 | O14: =N14-'Benchmark 2015'!AE32 -> 0 | Q14: =P14-'Benchmark 2015'!AN32 -> 0
A15: 41-140 Years | B15: 1509.644 | C15: =B15-'Benchmark 2015'!D33 -> -351.19984 | D15: 625205.69 | E15: =D15-'Benchmark 2015'!E33 -> -70080.667 | F15: 621.76228 | G15: =F15-'Benchmark 2015'!G33 -> -39.388305 | H15: 328201.83 | I15: =H15-'Benchmark 2015'!P33 -> -3255.6191 | J15: 839.06752 | K15: =J15-'Benchmark 2015'!S33 -> -256.1723 | L15: 285453.69 | M15: =L15-'Benchmark 2015'!AB33 -> -54901.296 | N15: 48.81418 | O15: =N15-'Benchmark 2015'!AE33 -> -55.63923 | P15: 11550.173 | Q15: =P15-'Benchmark 2015'!AN33 -> -11923.752
A16: 141+ Years | B16: 1749.1439 | C16: =B16-'Benchmark 2015'!D34 -> -542.3833 | D16: 949438.12 | E16: =D16-'Benchmark 2015'!E34 -> -255740.38 | F16: 359.43716 | G16: =F16-'Benchmark 2015'!G34 -> -75.709542 | H16: 212990.92 | I16: =H16-'Benchmark 2015'!P34 -> -40105.87 | J16: 1303.6523 | K16: =J16-'Benchmark 2015'!S34 -> -426.97432 | L16: 698541.96 | M16: =L16-'Benchmark 2015'!AB34 -> -196697.7 | N16: 86.054394 | O16: =N16-'Benchmark 2015'!AE34 -> -39.69944 | P16: 37905.239 | Q16: =P16-'Benchmark 2015'!AN34 -> -18936.817
A17: Poor - Economic Zone Total | B17: 3258.7878 | C17: =B17-'Benchmark 2015'!D35 -> -893.58314 | D17: 1574643.8 | E17: =D17-'Benchmark 2015'!E35 -> -325821.05 | F17: 981.19944 | G17: =F17-'Benchmark 2015'!G35 -> -115.09785 | H17: 541192.75 | I17: =H17-'Benchmark 2015'!P35 -> -43361.489 | J17: 2142.7198 | K17: =J17-'Benchmark 2015'!S35 -> -683.14662 | L17: 983995.65 | M17: =L17-'Benchmark 2015'!AB35 -> -251598.99 | N17: 134.86857 | O17: =N17-'Benchmark 2015'!AE35 -> -95.338669 | P17: 49455.412 | Q17: =P17-'Benchmark 2015'!AN35 -> -30860.569
